BEGIN:VCALENDAR
VERSION:2.0
PRODID:-//Silver City Radio - ECPv6.3.3.1//NONSGML v1.0//EN
CALSCALE:GREGORIAN
METHOD:PUBLISH
X-WR-CALNAME:Silver City Radio
X-ORIGINAL-URL:https://silvercityradio.com
X-WR-CALDESC:Events for Silver City Radio
REFRESH-INTERVAL;VALUE=DURATION:PT1H
X-Robots-Tag:noindex
X-PUBLISHED-TTL:PT1H
BEGIN:VTIMEZONE
TZID:UTC
BEGIN:STANDARD
TZOFFSETFROM:+0000
TZOFFSETTO:+0000
TZNAME:UTC
DTSTART:20220101T000000
END:STANDARD
END:VTIMEZONE
BEGIN:VEVENT
DTSTART;TZID=UTC:20221210T100000
DTEND;TZID=UTC:20221210T120000
DTSTAMP:20260421T100450
CREATED:20221111T175748Z
LAST-MODIFIED:20221111T175819Z
UID:10002025-1670666400-1670673600@silvercityradio.com
SUMMARY:In-Person Child Car Seat Inspection & Toy Drive
DESCRIPTION:The New Mexico Department of Transportation Traffic Safety Division and Safer New Mexico Now is hosting an in-person Child Car Seat Inspection/Fitting event and Toy Drive on Saturday\, December 10th 10:00 A.M. to 12 Noon\, at Sisbarro of Deming\, 3211 New Mexico Highway 549. This free educational event provides parents and caregivers instruction on the proper selection\, installation\, and use of their car seats from nationally certified child passenger safety technicians. For more information or to make an appointment\, call 800-231-6145. Your child should be present and walk-ins are welcome.
URL:https://silvercityradio.com/event/in-person-child-car-seat-inspection-toy-drive/
LOCATION:Sisbarro of Deming\, 4211 NM Hwy 549\, Deming\, United States
CATEGORIES:Public Notice
END:VEVENT
END:VCALENDAR