BEGIN:VCALENDAR
VERSION:2.0
PRODID:-//Silver City Radio - ECPv6.3.3.1//NONSGML v1.0//EN
CALSCALE:GREGORIAN
METHOD:PUBLISH
X-ORIGINAL-URL:https://silvercityradio.com
X-WR-CALDESC:Events for Silver City Radio
REFRESH-INTERVAL;VALUE=DURATION:PT1H
X-Robots-Tag:noindex
X-PUBLISHED-TTL:PT1H
BEGIN:VTIMEZONE
TZID:UTC
BEGIN:STANDARD
TZOFFSETFROM:+0000
TZOFFSETTO:+0000
TZNAME:UTC
DTSTART:20190101T000000
END:STANDARD
END:VTIMEZONE
BEGIN:VEVENT
DTSTART;TZID=UTC:20191204T190000
DTEND;TZID=UTC:20191204T203000
DTSTAMP:20260420T174736
CREATED:20191114T161537Z
LAST-MODIFIED:20191114T163351Z
UID:10001351-1575486000-1575491400@silvercityradio.com
SUMMARY:Concert Band of the Southwest "Happy Holidays Concert"
DESCRIPTION:The Concert Band of the Southwest\, conducted by David Kendrick\, will present its “Happy Holidays Concert” on Wednesday\, December 4th\, at the Cobre High School Auditorium. This free concert begins at 7:00 P.M. with doors open at 6:30 P.M. Seating is open and all seats are free. This concert will feature traditional\, modern and eclectic holiday favorites.
URL:https://silvercityradio.com/event/concert-band-of-the-southwest-happy-holidays-concert/
LOCATION:Cobre High School Auditorium
CATEGORIES:Concert
END:VEVENT
BEGIN:VEVENT
DTSTART;TZID=UTC:20190424T190000
DTEND;TZID=UTC:20190424T210000
DTSTAMP:20260420T174736
CREATED:20190403T220931Z
LAST-MODIFIED:20190403T220931Z
UID:10001113-1556132400-1556139600@silvercityradio.com
SUMMARY:Concert Band of the Desert Southwest
DESCRIPTION:The Concert Band of the Southwest\, conducted by David Kendrick \, will present its “ Spring Concert Take 2” on Wednesday\, April 24\, at the Cobre High School Auditorium. The concert begins at 7:00 pm; doors open at 6:30 pm. Seating is open and all seats are free. For more information\, contact Conductor David Kendrick by phone at (575) 388-7874 or by email at concertbandofthesw@gmail.com.
URL:https://silvercityradio.com/event/concert-band-of-the-desert-southwest/
LOCATION:Cobre High School Auditorium
CATEGORIES:Entertainment
END:VEVENT
END:VCALENDAR