BEGIN:VCALENDAR
VERSION:2.0
PRODID:-//Silver City Radio - ECPv6.3.3.1//NONSGML v1.0//EN
CALSCALE:GREGORIAN
METHOD:PUBLISH
X-WR-CALNAME:Silver City Radio
X-ORIGINAL-URL:https://silvercityradio.com
X-WR-CALDESC:Events for Silver City Radio
REFRESH-INTERVAL;VALUE=DURATION:PT1H
X-Robots-Tag:noindex
X-PUBLISHED-TTL:PT1H
BEGIN:VTIMEZONE
TZID:UTC
BEGIN:STANDARD
TZOFFSETFROM:+0000
TZOFFSETTO:+0000
TZNAME:UTC
DTSTART:20260101T000000
END:STANDARD
END:VTIMEZONE
BEGIN:VEVENT
DTSTART;TZID=UTC:20260418T100000
DTEND;TZID=UTC:20260418T140000
DTSTAMP:20260422T230547
CREATED:20260406T172611Z
LAST-MODIFIED:20260406T172611Z
UID:10003023-1776506400-1776520800@silvercityradio.com
SUMMARY:Give Grandly
DESCRIPTION:Give Grandly will be happening again this year with live demonstrations\, adoptable dogs\, edible bugs and more. \n\nApril 18th\n10 to 2 p.m.\nGolf Park\nOnline giving open-April 13th-24th\nVisit Give Grandly dot org to donate
URL:https://silvercityradio.com/event/give-grandly-2/
LOCATION:NM
END:VEVENT
BEGIN:VEVENT
DTSTART;TZID=UTC:20260420T173000
DTEND;TZID=UTC:20260420T193000
DTSTAMP:20260422T230547
CREATED:20260417T160248Z
LAST-MODIFIED:20260417T160248Z
UID:10003031-1776706200-1776713400@silvercityradio.com
SUMMARY:Desert Southwest Pipeline Project Open Houses
DESCRIPTION:Energy Transfer is hosting a series of open houses to provide information and gather public input on the proposed Desert Southwest Pipeline Project. Attendees will have the opportunity to learn about the project timeline\, proposed route and potential local benefits.  \n\nApril 20th-Lordsburg Special Events Center\nApril 21st-Tyrone Community Center\n5:30 to 7:30 p.m.\nOpen to the public
URL:https://silvercityradio.com/event/desert-southwest-pipeline-project-open-houses/2026-04-20/
LOCATION:NM
END:VEVENT
BEGIN:VEVENT
DTSTART;TZID=UTC:20260421T173000
DTEND;TZID=UTC:20260421T193000
DTSTAMP:20260422T230547
CREATED:20260417T160248Z
LAST-MODIFIED:20260417T160248Z
UID:10003032-1776792600-1776799800@silvercityradio.com
SUMMARY:Desert Southwest Pipeline Project Open Houses
DESCRIPTION:Energy Transfer is hosting a series of open houses to provide information and gather public input on the proposed Desert Southwest Pipeline Project. Attendees will have the opportunity to learn about the project timeline\, proposed route and potential local benefits.  \n\nApril 20th-Lordsburg Special Events Center\nApril 21st-Tyrone Community Center\n5:30 to 7:30 p.m.\nOpen to the public
URL:https://silvercityradio.com/event/desert-southwest-pipeline-project-open-houses/2026-04-21/
LOCATION:NM
END:VEVENT
BEGIN:VEVENT
DTSTART;TZID=UTC:20260422T120000
DTEND;TZID=UTC:20260422T130000
DTSTAMP:20260422T230547
CREATED:20260409T221636Z
LAST-MODIFIED:20260409T221636Z
UID:10003027-1776859200-1776862800@silvercityradio.com
SUMMARY:Village of Columbus Earth Day Celebration
DESCRIPTION:The Village of Columbus will be celebrating Earth Day with special guests\, food and fun for the whole family. \n\nApril 22nd\n12 p.m.\nColumbus Plaza
URL:https://silvercityradio.com/event/village-of-columbus-earth-day-celebration/
LOCATION:NM
END:VEVENT
BEGIN:VEVENT
DTSTART;TZID=UTC:20260422T160000
DTEND;TZID=UTC:20260422T193000
DTSTAMP:20260422T230547
CREATED:20260417T153500Z
LAST-MODIFIED:20260417T153500Z
UID:10003028-1776873600-1776886200@silvercityradio.com
SUMMARY:Bayard Earth Day Celebration
DESCRIPTION:The Frontier Food Hub\, Heart of the Gila\, Bayard Public Library and other organizations are celebrating Earth Day with activities\, food and more. \n\nApril 22nd\n4-6p.m.-Trash cleanup\, activities and crafts\n6-7:30 p.m.-Free Dinner\nBayard Community Center
URL:https://silvercityradio.com/event/bayard-earth-day-celebration/
LOCATION:NM
END:VEVENT
BEGIN:VEVENT
DTSTART;TZID=UTC:20260424T073000
DTEND;TZID=UTC:20260424T110000
DTSTAMP:20260422T230547
CREATED:20260327T203625Z
LAST-MODIFIED:20260327T203625Z
UID:10003016-1777015800-1777028400@silvercityradio.com
SUMMARY:Lordsburg Cleanup
DESCRIPTION:Lordsburg Mainstreet will be having a Community Clean Up. \n\nApril 24th\n7:30 to 11 a.m.\nMeet at the City of Lordsburg Economic Development Office
URL:https://silvercityradio.com/event/lordsburg-cleanup/
LOCATION:NM
END:VEVENT
BEGIN:VEVENT
DTSTART;TZID=UTC:20260424T090000
DTEND;TZID=UTC:20260424T130000
DTSTAMP:20260422T230547
CREATED:20260327T154245Z
LAST-MODIFIED:20260327T154245Z
UID:10003012-1777021200-1777035600@silvercityradio.com
SUMMARY:Deming "Day of the Child"
DESCRIPTION:HELP NM and Casa are celebrating “Day of the Young Child” with food\, games\, bike raffles and more. \n\nApril 24th\n9 to 1p.m.\nChildren’s March- 9 a.m.- Veteran’s Park\nCelebration-after March-Luna County Courthouse Park\n\n 
URL:https://silvercityradio.com/event/deming-day-of-the-child/
LOCATION:NM
END:VEVENT
BEGIN:VEVENT
DTSTART;TZID=UTC:20260426T090000
DTEND;TZID=UTC:20260426T120000
DTSTAMP:20260422T230547
CREATED:20260417T155742Z
LAST-MODIFIED:20260417T155742Z
UID:10003030-1777194000-1777204800@silvercityradio.com
SUMMARY:Trail Days Community Cleanup
DESCRIPTION:The CDTC and Silver City Pick It Up-Toss No Mas will be having a Trail Days Community Cleanup to clean up the Big Ditch. \n\nApril 26th\n9 to 12 p.m.\nMeet at 201 North Hudson in Silver City\nFor more information\, visit the Continental Divide Trail Coalition’s website
URL:https://silvercityradio.com/event/trail-days-community-cleanup/
LOCATION:NM
END:VEVENT
BEGIN:VEVENT
DTSTART;TZID=UTC:20260427T180000
DTEND;TZID=UTC:20260427T180000
DTSTAMP:20260422T230547
CREATED:20260401T201826Z
LAST-MODIFIED:20260401T201826Z
UID:10003019-1777312800-1777312800@silvercityradio.com
SUMMARY:Weed Management Program Class
DESCRIPTION:The Grant County Extension Office will be having a free Weed Management Program to help individuals learn how to identify common weeds\, effective weed management strategies and more. \n\nApril 27th\n6 p.m.\nGrant County Extension Office\n\n 
URL:https://silvercityradio.com/event/weed-management-program-class/
LOCATION:NM
END:VEVENT
BEGIN:VEVENT
DTSTART;TZID=UTC:20260429T150000
DTEND;TZID=UTC:20260429T170000
DTSTAMP:20260422T230547
CREATED:20260417T154933Z
LAST-MODIFIED:20260417T154933Z
UID:10003029-1777474800-1777482000@silvercityradio.com
SUMMARY:Silver City Public Library Internet Class
DESCRIPTION:The Silver City Public Library will hold a basic Internet and Email computer class covering the basics of web browser usage\, email and basic cyber safety tips. \n\nApril 29th\n3 to 5 p.m.\nClass is limited\nCall 575-538-3672 to register
URL:https://silvercityradio.com/event/silver-city-public-library-internet-class/
LOCATION:NM
END:VEVENT
BEGIN:VEVENT
DTSTART;TZID=UTC:20260501T130000
DTEND;TZID=UTC:20260501T143000
DTSTAMP:20260422T230547
CREATED:20260422T211241Z
LAST-MODIFIED:20260422T211241Z
UID:10003033-1777640400-1777645800@silvercityradio.com
SUMMARY:Sixth Street Elementary Fiesta
DESCRIPTION:Silver Consolidated School will be having a Final Farewell Fiesta honoring the legacy of Sixth Street Elementary with performances\, dancing and more. \n\nMay 1st\n1 to 2:30 p.m.\nSixth Street Elementary School
URL:https://silvercityradio.com/event/sixth-street-elementary-fiesta/
LOCATION:NM
END:VEVENT
BEGIN:VEVENT
DTSTART;TZID=UTC:20260502T120000
DTEND;TZID=UTC:20260502T120000
DTSTAMP:20260422T230547
CREATED:20260422T211354Z
LAST-MODIFIED:20260422T211354Z
UID:10003034-1777723200-1777723200@silvercityradio.com
SUMMARY:Tour of the Gila "Locks of Love"
DESCRIPTION:The Tour of the Gila\, presented by New Mexico True\, is hosting a “Locks of Love” event during the Downtown Silver City Criterium to help support children experiencing long-term medical hair loss.  \n\nMay 2nd\nOfficial hair cutting begins at 12 p.m. at the start/finish line \nLearn more at Tour Of The Gila dot com
URL:https://silvercityradio.com/event/tour-of-the-gila-locks-of-love/
LOCATION:NM
END:VEVENT
BEGIN:VEVENT
DTSTART;TZID=UTC:20260506T150000
DTEND;TZID=UTC:20260506T170000
DTSTAMP:20260422T230547
CREATED:20260422T211451Z
LAST-MODIFIED:20260422T211451Z
UID:10003035-1778079600-1778086800@silvercityradio.com
SUMMARY:Silver City Public Library Open Technology Lab
DESCRIPTION:The Silver City Public Library will be hosting an Open Technology Lab to answer any type of technology questions computer users may have. \n\nMay 6th\n3 to 5 p.m.\n515 West College Avenue
URL:https://silvercityradio.com/event/silver-city-public-library-open-technology-lab-4/
LOCATION:NM
END:VEVENT
BEGIN:VEVENT
DTSTART;TZID=UTC:20260507T120000
DTEND;TZID=UTC:20260507T130000
DTSTAMP:20260422T230547
CREATED:20260422T211654Z
LAST-MODIFIED:20260422T211654Z
UID:10003036-1778155200-1778158800@silvercityradio.com
SUMMARY:National Prayer Day
DESCRIPTION:Silver City will be celebrating “National Prayer Day”. \n\nMay 7th\n12:00 p.m. to 1:00 p.m.\nGolf Park
URL:https://silvercityradio.com/event/national-prayer-day/
LOCATION:NM
END:VEVENT
BEGIN:VEVENT
DTSTART;TZID=UTC:20260508T170000
DTEND;TZID=UTC:20260508T170000
DTSTAMP:20260422T230547
CREATED:20260422T211738Z
LAST-MODIFIED:20260422T211738Z
UID:10003037-1778259600-1778259600@silvercityradio.com
SUMMARY:WNMU Fall Graduation
DESCRIPTION:Western New Mexico University will be holding its Spring Graduation Commencement Ceremony. \n\nMay 8th\n5 p.m.\nBen Altamirano Field\nGates open at 3:30 p.m.
URL:https://silvercityradio.com/event/wnmu-fall-graduation/
LOCATION:NM
END:VEVENT
BEGIN:VEVENT
DTSTART;TZID=UTC:20260525T100000
DTEND;TZID=UTC:20260525T170000
DTSTAMP:20260422T230547
CREATED:20260422T211853Z
LAST-MODIFIED:20260422T211853Z
UID:10003038-1779703200-1779728400@silvercityradio.com
SUMMARY:Flags for Fallen Heroes Ceremony
DESCRIPTION:The Marine Corps League Gaffney-Oglesby Detachment 1328 and the National Cemetery Administration will be having a “Flags for Fallen Heroes” ceremony. \n\nMay 25th\n10 a.m.\nFort Bayard National Cemetery
URL:https://silvercityradio.com/event/flags-for-fallen-heroes-ceremony/
LOCATION:NM
END:VEVENT
BEGIN:VEVENT
DTSTART;TZID=UTC:20260529T170000
DTEND;TZID=UTC:20260529T190000
DTSTAMP:20260422T230547
CREATED:20260422T212829Z
LAST-MODIFIED:20260422T212829Z
UID:10003040-1780074000-1780081200@silvercityradio.com
SUMMARY:The Commons Community Dinner
DESCRIPTION:The Commons Center for Food Security and Sustainability will be having a Community Dinner for the entire family. \n\nMay 29th\n5:00 p.m. to 7:00 p.m.\n501 East 13th Street
URL:https://silvercityradio.com/event/the-commons-community-dinner/
LOCATION:NM
END:VEVENT
BEGIN:VEVENT
DTSTART;TZID=UTC:20260530T140000
DTEND;TZID=UTC:20260530T140000
DTSTAMP:20260422T230547
CREATED:20260422T211958Z
LAST-MODIFIED:20260422T211958Z
UID:10003039-1780149600-1780149600@silvercityradio.com
SUMMARY:“Americal 250!” Celebration
DESCRIPTION:The Daughters of the American Revolution will be having “Americal 250!” A celebration and American Revolutionary War Patriots Marker Dedication. \n\nMay 30th\n2 p.m.\nGolf Park
URL:https://silvercityradio.com/event/americal-250-celebration/
LOCATION:NM
END:VEVENT
END:VCALENDAR