BEGIN:VCALENDAR
VERSION:2.0
PRODID:-//Silver City Radio - ECPv6.3.3.1//NONSGML v1.0//EN
CALSCALE:GREGORIAN
METHOD:PUBLISH
X-WR-CALNAME:Silver City Radio
X-ORIGINAL-URL:https://silvercityradio.com
X-WR-CALDESC:Events for Silver City Radio
REFRESH-INTERVAL;VALUE=DURATION:PT1H
X-Robots-Tag:noindex
X-PUBLISHED-TTL:PT1H
BEGIN:VTIMEZONE
TZID:UTC
BEGIN:STANDARD
TZOFFSETFROM:+0000
TZOFFSETTO:+0000
TZNAME:UTC
DTSTART:20200101T000000
END:STANDARD
END:VTIMEZONE
BEGIN:VEVENT
DTSTART;TZID=UTC:20200204T093000
DTEND;TZID=UTC:20200204T143000
DTSTAMP:20260420T200056
CREATED:20200129T203906Z
LAST-MODIFIED:20200130T161434Z
UID:10001445-1580808600-1580826600@silvercityradio.com
SUMMARY:AARP Free in Person Tax Prep in Silver City
DESCRIPTION:AARP Tax-Aide Foundation\, is offering Free in-person Tax Preparation in Silver City\, on Tuesdays and Wednesdays starting February 4th through April 15th\, from 9:30 A.M. to 2:30 P.M.\, at Watt’s Hall located at 500 East 18th Street\, on the corner of Highway 180 and Swan Street.  Make appointments online at aarp.org/taxaide or call 575-342-1892 and leave a message.
URL:https://silvercityradio.com/event/aarp-free-in-person-tax-prep-in-silver-city/
LOCATION:Watts Hall\, Hwy 180 & Swan Street\, Silver City\, United States
CATEGORIES:Volunteers
END:VEVENT
BEGIN:VEVENT
DTSTART;TZID=UTC:20200205T090000
DTEND;TZID=UTC:20200205T170000
DTSTAMP:20260420T200056
CREATED:20200129T205506Z
LAST-MODIFIED:20200129T205506Z
UID:10001447-1580893200-1580922000@silvercityradio.com
SUMMARY:AARP Free In-Person Tax Preparation in Bayard
DESCRIPTION:AARP Tax-Aide Foundation is offering Free in-person Tax Preparation in BAYARD\, on Wednesdays and Thursdays starting February 5 through April 9th from 9:00 A.M. to 5:00 P.M. Bayard Public Library\, located at 1112 Central Avenue. Make appointments online at aarp.org/taxaide or call 575-519-5988 and leave a message.
URL:https://silvercityradio.com/event/aarp-free-in-person-tax-preparation-in-bayard/
LOCATION:Bayard Public Library
CATEGORIES:Volunteers
END:VEVENT
BEGIN:VEVENT
DTSTART;TZID=UTC:20200205T093000
DTEND;TZID=UTC:20200205T143000
DTSTAMP:20260420T200056
CREATED:20200129T205110Z
LAST-MODIFIED:20200129T205140Z
UID:10001446-1580895000-1580913000@silvercityradio.com
SUMMARY:AARP Free In-Person Tax Preparation in Silver City
DESCRIPTION:AARP Tax-Aide Foundation\, is offering Free in-person Tax Preparation in Silver City\, on Tuesdays and Wednesdays starting February 4th through April 15th\, from 9:30 A.M. to 2:30 P.M.\, at Watt’s Hall located at 500 East 18th Street\, on the corner of Highway 180 and Swan Street.  Make appointments online at aarp.org/taxaide or call 575-342-1892 and leave a message.
URL:https://silvercityradio.com/event/aarp-free-in-person-tax-preparation-in-silver-city/
LOCATION:Watts Hall\, Hwy 180 & Swan Street\, Silver City\, United States
CATEGORIES:Volunteers
END:VEVENT
BEGIN:VEVENT
DTSTART;VALUE=DATE:20200208
DTEND;VALUE=DATE:20200209
DTSTAMP:20260420T200056
CREATED:20200122T172653Z
LAST-MODIFIED:20200122T172653Z
UID:10001433-1581120000-1581206399@silvercityradio.com
SUMMARY:Boy Scout Troop #114 Food Drive
DESCRIPTION:Local Boy Scout Troop #114 in Silver City will be out starting at 8:00 A.M. on Saturday February 8th collecting non-perishable food\, door to door as part of the annual Scouting for Food drive. Their goal is 16 cans of food per Scout\, which works out to about 14 pounds. If you would like to donate earlier\, or have them come to your neighborhood\, please call Scout Master Jason at 575-519- to make arrangements. All donations stay local.
URL:https://silvercityradio.com/event/boy-scout-troop-114-food-drive-2/
LOCATION:Silver City\, NM\, 88061\, United States
CATEGORIES:Volunteers
END:VEVENT
BEGIN:VEVENT
DTSTART;TZID=UTC:20200227T093000
DTEND;TZID=UTC:20200227T150000
DTSTAMP:20260420T200056
CREATED:20200219T172101Z
LAST-MODIFIED:20200219T172101Z
UID:10001470-1582795800-1582815600@silvercityradio.com
SUMMARY:Veteran Service Officer Visit to Grant County
DESCRIPTION:A Veteran Service Officer will visit Grant County on Thursday\, February 27th from 9:30 A.M. 3:00 P.M at the Old Armory Building located at 11990 U.S. Highway 180 East in Santa Clara. Receive Veterans Benefits Assistance\, and much more. For further information\, call 575-524-6220.
URL:https://silvercityradio.com/event/veteran-service-officer-visit-to-grant-county-2/
LOCATION:Santa Clara Armory
CATEGORIES:Volunteers
END:VEVENT
BEGIN:VEVENT
DTSTART;TZID=UTC:20200304T180000
DTEND;TZID=UTC:20200304T193000
DTSTAMP:20260420T200056
CREATED:20200219T171700Z
LAST-MODIFIED:20200219T171700Z
UID:10001468-1583344800-1583350200@silvercityradio.com
SUMMARY:United Methodist Campus Ministry Veterans Dinner
DESCRIPTION:United Methodist Campus Ministry invites Veterans who are attending WNMU and their families and friends to a free dinner at 6:00 P.M. on Wednesday\, March 4th at First United Methodist Church located at 300 West College Avenue in Silver City. The dinners will be held monthly on the first Wednesday of the month when school is in session.
URL:https://silvercityradio.com/event/united-methodist-campus-ministry-veterans-dinner/
LOCATION:First United Methodist Church\, 300 W College Avenue\, Silver City\, NM\, 88061\, United States
CATEGORIES:Food Event,Volunteers
END:VEVENT
BEGIN:VEVENT
DTSTART;TZID=UTC:20200430T090000
DTEND;TZID=UTC:20200430T130000
DTSTAMP:20260420T200056
CREATED:20200422T192143Z
LAST-MODIFIED:20200422T192143Z
UID:10001485-1588237200-1588251600@silvercityradio.com
SUMMARY:WNMU Academic Research Symposium and Career Fair
DESCRIPTION:WMNU is inviting students and community members to join them online for the annual WNMU Academic Student Research Symposium and Career Fair on Thursday\, April 30th from 9:00 A.M. to 1:00 P.M. For more information\, visit silver city radio dot com. Visit https://wnmu.edu/symposium/.
URL:https://silvercityradio.com/event/wnmu-academic-research-symposium-and-career-fair/
CATEGORIES:Presentation,Volunteers
END:VEVENT
BEGIN:VEVENT
DTSTART;TZID=UTC:20200912T100000
DTEND;TZID=UTC:20200912T120000
DTSTAMP:20260420T200056
CREATED:20200910T223118Z
LAST-MODIFIED:20200910T223118Z
UID:10001545-1599904800-1599912000@silvercityradio.com
SUMMARY:Silver City Recycles Volunteers Needed
DESCRIPTION:Silver City Recycles is requesting volunteers to help process and sort plastic this Saturday\, September 12th between 10:00 A.M. and 12 noon. Please meet at 305 South Bullard Street. Gloves and masks are mandatory. For more information\, visit the Silver City Recycles page on Facebook.
URL:https://silvercityradio.com/event/silver-city-recycles-volunteers-needed/
CATEGORIES:Volunteers
END:VEVENT
BEGIN:VEVENT
DTSTART;TZID=UTC:20210105T140000
DTEND;TZID=UTC:20210105T160000
DTSTAMP:20260420T200056
CREATED:20210104T174228Z
LAST-MODIFIED:20210104T174228Z
UID:10001583-1609855200-1609862400@silvercityradio.com
SUMMARY:Silver City Recycles Volunteers Needed
DESCRIPTION:Silver City Recycles is looking for volunteers to sort plastic this week on Tuesday\, Wednesday\, and Thursday from 2:00 to 4:00 P.M. The activity will take place the public drop off located at 305 South Bullard Street. All new volunteers will need to sign a waiver. Wearing a mask and gloves is mandatory. For details\, visit silvercityrecycles.org.
URL:https://silvercityradio.com/event/silver-city-recycles-volunteers-needed-2/
LOCATION:Silver City Recycles\, 305 S. Bullard Street\, Silver City\, United States
CATEGORIES:Volunteers
END:VEVENT
BEGIN:VEVENT
DTSTART;TZID=UTC:20210106T140000
DTEND;TZID=UTC:20210106T160000
DTSTAMP:20260420T200056
CREATED:20210104T174454Z
LAST-MODIFIED:20210104T174532Z
UID:10001584-1609941600-1609948800@silvercityradio.com
SUMMARY:Silver City Recycles Volunteers Needed
DESCRIPTION:Silver City Recycles is looking for volunteers to sort plastic this week on Tuesday\, Wednesday\, and Thursday from 2:00 to 4:00 P.M. The activity will take place the public drop off located at 305 South Bullard Street. All new volunteers will need to sign a waiver. Wearing a mask and gloves is mandatory. For details\, visit silvercityrecycles.org.
URL:https://silvercityradio.com/event/silver-city-recycles-volunteers-needed-3/
LOCATION:Silver City Recycles\, 305 S. Bullard Street\, Silver City\, United States
CATEGORIES:Volunteers
END:VEVENT
BEGIN:VEVENT
DTSTART;TZID=UTC:20210107T140000
DTEND;TZID=UTC:20210107T160000
DTSTAMP:20260420T200056
CREATED:20210104T174659Z
LAST-MODIFIED:20210104T174659Z
UID:10001585-1610028000-1610035200@silvercityradio.com
SUMMARY:Silver City Recycles Volunteers Needed
DESCRIPTION:Silver City Recycles is looking for volunteers to sort plastic this week on Tuesday\, Wednesday\, and Thursday from 2:00 to 4:00 P.M. The activity will take place the public drop off located at 305 South Bullard Street. All new volunteers will need to sign a waiver. Wearing a mask and gloves is mandatory. For details\, visit silvercityrecycles.org.
URL:https://silvercityradio.com/event/silver-city-recycles-volunteers-needed-4/
LOCATION:Silver City Recycles\, 305 S. Bullard Street\, Silver City\, United States
CATEGORIES:Volunteers
END:VEVENT
BEGIN:VEVENT
DTSTART;TZID=UTC:20210313T090000
DTEND;TZID=UTC:20210313T123000
DTSTAMP:20260420T200056
CREATED:20210302T221206Z
LAST-MODIFIED:20210302T224436Z
UID:10001638-1615626000-1615638600@silvercityradio.com
SUMMARY:Gila National Forest/CDT Clean Up Project
DESCRIPTION:The Gila National Forest is announcing a Continental Divide Trail Maintenance and Rehab project using volunteers on Saturday\, March 13th from 9:00 A.M. and wrapping up by 12:30 P.M. The project includes brushing and tread work of the CDT Trail. Volunteers are requested to bring safety glasses\, long-sleeved shirt\, pants\, sturdy Footwear\, work gloves\, sunscreen\, water\, and lunch. In addition\, volunteers need to meet at the Pinos Altos Fire Station at 4759 NM Highway 15 at 9:00 A.M. No sign up is necessary. The Forest Service will supply the hand tools and volunteers need to provide their own transportation.
URL:https://silvercityradio.com/event/gila-national-forest-cdt-clean-up-project/
CATEGORIES:Volunteers
END:VEVENT
BEGIN:VEVENT
DTSTART;TZID=UTC:20210320T090000
DTEND;TZID=UTC:20210320T120000
DTSTAMP:20260420T200056
CREATED:20210315T162846Z
LAST-MODIFIED:20210315T162846Z
UID:10001647-1616230800-1616241600@silvercityradio.com
SUMMARY:The Value of Water Action Day of Service
DESCRIPTION:In celebration of World Water Day 2021\, the Silver City Watershed Keepers and G.R.I.P. is hosting a “The Value of Water Community Action Day on Saturday\, March 20th from 9:00 A.M. to 12 noon. Meet at the Murray Ryan Visitor Center for a day of service at Big Ditch Park and San Vicente Creek. For more information\, visit silvercitywatershedkeepers.org.
URL:https://silvercityradio.com/event/the-value-of-water-action-day-of-service/
LOCATION:Murray Ryan Visitor’s Center\, 201 N Hudson St\, Silver City\, NM\, 88061\, United States
CATEGORIES:Public Notice,Volunteers
END:VEVENT
BEGIN:VEVENT
DTSTART;TZID=UTC:20210430T100000
DTEND;TZID=UTC:20210430T140000
DTSTAMP:20260420T200056
CREATED:20210412T223611Z
LAST-MODIFIED:20210412T223611Z
UID:10001659-1619776800-1619791200@silvercityradio.com
SUMMARY:Catron County Wildfire Preparedness Fair
DESCRIPTION:Catron County is hosting the states very first Wildfire Preparedness Fair. We will have information for home owners on how to prepare for the wildfire season to make their home fire safe. They will have multiple vendors attending to include US Forest Service\, State Forestry\, State Police\, NM State Fire Marshals\, NMFPA\, Catron County Fire\, Local Law Enforcement. The fair is to prepare home owners and citizens in the event of a wildfire. Things that will be discussed Fire prevention\, Preparing a home for wild fire season\, Preparing for evacuation\, and getting familiar with our local agencies. There will be lots of handouts. Dates are : April 30th at the Catron County Fair Building in Reserve\, NM 10 am – 2 pm; and May 1st at the Pie Town Park in Pie Town\, NM 10am – 2pm. For more information contact Catron County Fire Administration at 575-533-6498.
URL:https://silvercityradio.com/event/catron-county-wildfire-preparedness-fair/
LOCATION:Catron County Fair Buildig\, Reserve\, NM\, United States
CATEGORIES:Presentation,Volunteers
END:VEVENT
BEGIN:VEVENT
DTSTART;TZID=UTC:20210501T100000
DTEND;TZID=UTC:20210501T140000
DTSTAMP:20260420T200056
CREATED:20210412T223837Z
LAST-MODIFIED:20210412T224205Z
UID:10001660-1619863200-1619877600@silvercityradio.com
SUMMARY:Catron County Wildfire Preparedness Fair
DESCRIPTION:Catron County is hosting the states very first Wildfire Preparedness Fair. We will have information for home owners on how to prepare for the wildfire season to make their home fire safe. They will have multiple vendors attending to include US Forest Service\, State Forestry\, State Police\, NM State Fire Marshals\, NMFPA\, Catron County Fire\, Local Law Enforcement. The fair is to prepare home owners and citizens in the event of a wildfire. Things that will be discussed Fire prevention\, Preparing a home for wild fire season\, Preparing for evacuation\, and getting familiar with our local agencies. There will be lots of handouts. The event is scheduled May 1st at the Pie Town Park in Pie Town\, NM 10am – 2pm. For more information contact Catron County Fire Administration at 575-533-6498.
URL:https://silvercityradio.com/event/catron-county-wildfire-preparedness/
LOCATION:Pie Town Park\, Pie Town\, NM\, United States
CATEGORIES:Public Notice,Training,Volunteers
END:VEVENT
BEGIN:VEVENT
DTSTART;TZID=UTC:20210527T080000
DTEND;TZID=UTC:20210527T100000
DTSTAMP:20260420T200056
CREATED:20210518T195614Z
LAST-MODIFIED:20210518T201621Z
UID:10001681-1622102400-1622109600@silvercityradio.com
SUMMARY:Volunteers Placing Flags at Fort Bayard National Cemetery
DESCRIPTION:Volunteers are needed to prepare for Memorial Day by placing flags on all the graves at Fort Bayard National Cemetery on Thursday\, May 27th at 8:00 A.M. Participants are asked to follow state COVID-19 guidelines and if  possible to bring a hammer and a piece of rebar or other implement to make a hole in the ground for each flag. In addition\, due to COVID restrictions\, this year there will be no formal ceremony on Memorial Day.
URL:https://silvercityradio.com/event/volunteers-placing-flags-at-fort-bayard-national-cemetery/
LOCATION:Fort Bayard National Cemetery
CATEGORIES:Public Notice,Volunteers
END:VEVENT
BEGIN:VEVENT
DTSTART;TZID=UTC:20210723T100000
DTEND;TZID=UTC:20210723T140000
DTSTAMP:20260420T200056
CREATED:20210722T223023Z
LAST-MODIFIED:20210722T223023Z
UID:10001720-1627034400-1627048800@silvercityradio.com
SUMMARY:Battle of the Badges Blood Drive
DESCRIPTION:Donate blood at the 2021 Battle of the Badges in Silver City on Friday\, July 23rd and Saturday the 24th from 10:00 A.M. to 2:00 P.M. at the Silver City Woman’s Club. This friendly competition is open to the public. Come show your support for local first responders and also give needed blood donation. Donors will receive a Battle of the Badges tee-shirt and an chance to cast their vote for Fire or Law Enforcement. To make an appointment\, call 877-258-4825 or visit www.vitalant.org.
URL:https://silvercityradio.com/event/battle-of-the-badges-blood-drive/
LOCATION:Silver City Woman’s Club Building\, 411 Silver Heights Boulevard\, Silver City\, 88061\, United States
CATEGORIES:Health Event,Volunteers
END:VEVENT
BEGIN:VEVENT
DTSTART;TZID=UTC:20210724T100000
DTEND;TZID=UTC:20210724T140000
DTSTAMP:20260420T200056
CREATED:20210722T223139Z
LAST-MODIFIED:20210722T223221Z
UID:10001721-1627120800-1627135200@silvercityradio.com
SUMMARY:Battle of the Badges Blood Drive
DESCRIPTION:Donate blood at the 2021 Battle of the Badges in Silver City on Friday\, July 23rd and Saturday the 24th from 10:00 A.M. to 2:00 P.M. at the Silver City Woman’s Club. This friendly competition is open to the public. Come show your support for local first responders and also give needed blood donation. Donors will receive a Battle of the Badges tee-shirt and an chance to cast their vote for Fire or Law Enforcement. To make an appointment\, call 877-258-4825 or visit www.vitalant.org.
URL:https://silvercityradio.com/event/battle-of-the-badges-blood-drive-2/
LOCATION:Silver City Woman’s Club\, 411 Silver Heights Boulevard\, Silver City\, NM\, 88061\, United States
CATEGORIES:Health Event,Volunteers
END:VEVENT
BEGIN:VEVENT
DTSTART;TZID=UTC:20210918T090000
DTEND;TZID=UTC:20210918T120000
DTSTAMP:20260420T200056
CREATED:20210916T173507Z
LAST-MODIFIED:20210916T173524Z
UID:10001750-1631955600-1631966400@silvercityradio.com
SUMMARY:Bill Evans Lake Cleanup Event
DESCRIPTION:Join the Silver City Watershed Keepers for a trash cleanup at Bill Evans Lake Road and near the Gila River Bird Sanctuary in celebration of the Gila River Festival on Saturday\, September 18th from 9:00 A.M. to 12 P.M. Meet at the juncture of Highway 180 and Bill Evans Lake Road\, about 30 minutes from Silver City. Bring a water bottle\, hat\, and work gloves. Trash bags\, trash pickers\, and snacks will be provided. For more information\, visit silvercitywatershedkeepers.org.
URL:https://silvercityradio.com/event/bill-evans-lake-cleanup-event/
LOCATION:Bill Evans Lake Road\, NM\, United States
CATEGORIES:Public Notice,Volunteers
END:VEVENT
BEGIN:VEVENT
DTSTART;TZID=UTC:20210922T080000
DTEND;TZID=UTC:20210922T170000
DTSTAMP:20260420T200056
CREATED:20211003T080002Z
LAST-MODIFIED:20210922T213745Z
UID:10001773-1632297600-1632330000@silvercityradio.com
SUMMARY:Deming Healing House "Cram the Cruiser" Event
DESCRIPTION:
URL:https://silvercityradio.com/event/deming-healing-house-cram-the-cruiser-event/
CATEGORIES:Health Event,Volunteers
ATTACH;FMTTYPE=image/jpeg:https://silvercityradio.com/wp-content/uploads/2021/09/Deming-Cram-the-Cruiser.jpg
END:VEVENT
BEGIN:VEVENT
DTSTART;TZID=UTC:20210925T090000
DTEND;TZID=UTC:20210925T120000
DTSTAMP:20260420T200056
CREATED:20210915T160603Z
LAST-MODIFIED:20210915T160705Z
UID:10001747-1632560400-1632571200@silvercityradio.com
SUMMARY:Water Monitoring Volunteers with Silver City Watershed Keepers
DESCRIPTION:Community members are welcome to join the Silver City Watershed Keepers on Saturday\, September 25th from 9:00 A.M. to 12 noon to monitor one site or all four sites along San Vicente Creek. The group will be meeting at the Murray Ryan Visitor Center on Hudson Street in Silver City. Find more information on their website at silvercitywatershed keepers.org.
URL:https://silvercityradio.com/event/water-monitoring-volunteers-with-silver-city-watershed-keepers/
LOCATION:Murray Ryan Visitors Center\, 201 N Hudson Street\, Silver City\, NM\, United States
CATEGORIES:Volunteers
END:VEVENT
BEGIN:VEVENT
DTSTART;TZID=UTC:20211001T090000
DTEND;TZID=UTC:20211001T103000
DTSTAMP:20260420T200056
CREATED:20210922T212340Z
LAST-MODIFIED:20210922T212429Z
UID:10001766-1633078800-1633084200@silvercityradio.com
SUMMARY:El Refugio Domestic Violence Awareness Month Event
DESCRIPTION:Join Silver City’s El Refugio in Observance of Domestic Violence Awareness Month at 9:00 A.M. on October 1st at the Silver City Women’s Club located at 411 Silver Heights Boulevard. They will have music\, lighting of the candle\, survivor stories\, and acknowledgments. Come and support standing against domestic violence in the community and nationwide.
URL:https://silvercityradio.com/event/el-refugio-domestic-violence-awareness-month-event/
LOCATION:Silver City Women’s Club\, 411 Silver Heights Boulevard\, Silver City\, NM\, 88061\, United States
CATEGORIES:Presentation,Volunteers
END:VEVENT
BEGIN:VEVENT
DTSTART;TZID=UTC:20211002T090000
DTEND;TZID=UTC:20211002T120000
DTSTAMP:20260420T200056
CREATED:20210913T211153Z
LAST-MODIFIED:20210913T211221Z
UID:10001745-1633165200-1633176000@silvercityradio.com
SUMMARY:"Walk for Heroes" Memorial Walk
DESCRIPTION:All are welcome to participate in the “Walk for Heroes Memorial Walk” in honor of local fallen veterans on Saturday\, October 2nd starting at 9:00 A.M. The event will begin at Ed Steven’s Chile Farm located at 5th Avenue in Hurley\, and travel 7 miles to Viola Stone Park in Santa Clara. Registration id FREE. For more information and to order a t-shirt before the event\, call Mike Lopez at 575-574-2964.
URL:https://silvercityradio.com/event/walk-for-heroes-memorial-walk/
LOCATION:Ed Steven’s Chile Farm\, 5th Avenue\, Hurley\, NM\, United States
CATEGORIES:Public Notice,Volunteers
END:VEVENT
BEGIN:VEVENT
DTSTART;TZID=UTC:20211007T140000
DTEND;TZID=UTC:20211007T180000
DTSTAMP:20260420T200056
CREATED:20210922T192307Z
LAST-MODIFIED:20210922T192307Z
UID:10001764-1633615200-1633629600@silvercityradio.com
SUMMARY:Deming Domestic Violence Cram the Cruiser event
DESCRIPTION:In support of October being Domestic Violence Awareness month\, the Deming Police Department and the Healing House of Luna County are seeking donations for shelter clients who have had to flee their homes due to violence they have endured. The “Cram the Cruiser” event on Thursday\, October 7th from 2:00 to 6:00 P.M. at the Deming Walmart. For more information visit “The Healing House Luna County” page on Facebook.
URL:https://silvercityradio.com/event/deming-domestic-violence-cram-the-cruiser-event/
LOCATION:Deming Walmart
CATEGORIES:Fundraiser,Volunteers
END:VEVENT
BEGIN:VEVENT
DTSTART;TZID=UTC:20211016T090000
DTEND;TZID=UTC:20211016T130000
DTSTAMP:20260420T200056
CREATED:20211005T213404Z
LAST-MODIFIED:20211005T220622Z
UID:10001776-1634374800-1634389200@silvercityradio.com
SUMMARY:Trash Bash Community Clean Up
DESCRIPTION:Join with your neighbors to help make Silver City a clean and beautiful community at the “Trash Bash Community Clean Up” on Saturday October 16th from 9:00 A.M. to 1:00 P.M. Meet at Gough Park and pick up your free t-shirts trash bags\, gloves\, and snacks starting at 8:30 A.M. There’s prizes\, free lunch and music starting at 12 noon. For more information and to register\, visit silvercitywatershedkeepers.org.
URL:https://silvercityradio.com/event/trash-bash-community-clean-up/
LOCATION:Gough Park
CATEGORIES:Volunteers
END:VEVENT
BEGIN:VEVENT
DTSTART;TZID=UTC:20211020T180000
DTEND;TZID=UTC:20211020T200000
DTSTAMP:20260420T200056
CREATED:20210921T215011Z
LAST-MODIFIED:20210921T215011Z
UID:10001761-1634752800-1634760000@silvercityradio.com
SUMMARY:Deming Candlelight Vigil for Domestic Violence in Deming
DESCRIPTION:Luna County is holding a Candlelight Vigil and Balloon Releasing Ceremony dedicated to individuals that have lost their life to domestic violence on Wednesday\, October 20th from 6:00 to 8:00 P.M. at Luna County Courthouse Park. If you know of someone who lost their life to domestic violence and would like their name commemorated\, please call Griselda Milo at 575-546-6539\, or email hhadvocate1@lunacountynm.us.
URL:https://silvercityradio.com/event/deming-candlelight-vigil-for-domestic-violence-in-deming/
LOCATION:Luna County Courthouse Park\, Deming\, United States
CATEGORIES:Volunteers
END:VEVENT
BEGIN:VEVENT
DTSTART;TZID=UTC:20211023T130000
DTEND;TZID=UTC:20211023T170000
DTSTAMP:20260420T200056
CREATED:20211013T213906Z
LAST-MODIFIED:20211013T213906Z
UID:10001785-1634994000-1635008400@silvercityradio.com
SUMMARY:Guadalupe Montessori Fall Festival Fun-Raiser
DESCRIPTION:Guadalupe Montessori School in Silver City is hosting a Fall Festival Fun-Raiser on Saturday October 23rd from 1:00 to 5:00 P.M. on the school’s campus at 1731 North Alabama Street. Families can enjoy hayrides\, a petting zoo\, children’s pumpkin games\, autumn arts and crafts\, and a cake walk.  Admission is free and some event will be ticketed. For more information\, visit online at guadalupemontessori.org.
URL:https://silvercityradio.com/event/guadalupe-montessori-fall-festival-fun-raiser/
LOCATION:Guadalupe Montessori School
CATEGORIES:Fundraiser,Kids Event,Volunteers
END:VEVENT
BEGIN:VEVENT
DTSTART;TZID=UTC:20211028T100000
DTEND;TZID=UTC:20211028T120000
DTSTAMP:20260420T200056
CREATED:20211020T211344Z
LAST-MODIFIED:20211020T211528Z
UID:10001787-1635415200-1635422400@silvercityradio.com
SUMMARY:Free Space Heaters for Elderly and Disabled
DESCRIPTION:The Ability Center in collaboration with the Kiwanis Club of Silver City will be distributing FREE electric Space Heaters to the disabled and elderly on Thursday\, October 28th starting at 10:00 A.M. until supplies last at the Kiwanis building located at 900 Silver Heights Boulevard in Silver City. Please bring a photo I.D and proof of residence. For more information\, visit theabilitycenter.org.
URL:https://silvercityradio.com/event/free-space-heaters-for-elderly-and-disabled/
LOCATION:Kiwanis Club of Silver City Building\, 900 Silver Heights Boulevard\, Silver City\, NM\, United States
CATEGORIES:Public Notice,Volunteers
END:VEVENT
BEGIN:VEVENT
DTSTART;TZID=UTC:20211104T110000
DTEND;TZID=UTC:20211104T120000
DTSTAMP:20260420T200056
CREATED:20211029T210401Z
LAST-MODIFIED:20211029T210419Z
UID:10001793-1636023600-1636027200@silvercityradio.com
SUMMARY:Ability Center Free Space Heaters for Elderly/Disabled
DESCRIPTION:The Ability Center in collaboration with the Kiwanis Club of Silver City will be distributing FREE electric Space Heaters to the disabled and elderly on Thursday\, November 4th starting at 11:00 A.M. until supplies last at the Kiwanis building located at 900 Silver Heights Boulevard in Silver City. Please bring a photo I.D and proof of residence. For more information\, visit theabilitycenter.org.
URL:https://silvercityradio.com/event/ability-center-free-space-heaters-for-elderly-disabled/
CATEGORIES:Public Notice,Volunteers
END:VEVENT
BEGIN:VEVENT
DTSTART;TZID=UTC:20211120T090000
DTEND;TZID=UTC:20211120T120000
DTSTAMP:20260420T200056
CREATED:20211110T225537Z
LAST-MODIFIED:20211110T225537Z
UID:10001811-1637398800-1637409600@silvercityradio.com
SUMMARY:Pick It Up and Toss No Mas Event
DESCRIPTION:Join in for the next Pick It Up Toss No Mas Community Trash Cleanup on Saturday November 20th from 9:00 A.M. to 1:00 P.M. and do your part to keep the local community clean and beautiful! Meet at the parking lot at Gough Park in Silver City at 9:00 A.M. to pick up your free t-shirt\, trash bags\, gloves\, and snacks. More information and registration at silvercitywatershedkeepers.org.
URL:https://silvercityradio.com/event/pick-it-up-and-toss-no-mas-event/
LOCATION:Gough Park
CATEGORIES:Volunteers
END:VEVENT
END:VCALENDAR