BEGIN:VCALENDAR
VERSION:2.0
PRODID:-//Silver City Radio - ECPv6.3.3.1//NONSGML v1.0//EN
CALSCALE:GREGORIAN
METHOD:PUBLISH
X-WR-CALNAME:Silver City Radio
X-ORIGINAL-URL:https://silvercityradio.com
X-WR-CALDESC:Events for Silver City Radio
REFRESH-INTERVAL;VALUE=DURATION:PT1H
X-Robots-Tag:noindex
X-PUBLISHED-TTL:PT1H
BEGIN:VTIMEZONE
TZID:UTC
BEGIN:STANDARD
TZOFFSETFROM:+0000
TZOFFSETTO:+0000
TZNAME:UTC
DTSTART:20190101T000000
END:STANDARD
END:VTIMEZONE
BEGIN:VEVENT
DTSTART;TZID=UTC:20190420T100000
DTEND;TZID=UTC:20190420T130000
DTSTAMP:20260425T115621
CREATED:20190418T211150Z
LAST-MODIFIED:20190418T211150Z
UID:10001136-1555754400-1555765200@silvercityradio.com
SUMMARY:Deming Annual Community Easter Egg Hunt
DESCRIPTION:The City of Deming will be holding it’s Annual Community Easter Egg Hunt on Saturday\, April 20th from 10:00 A.M. to 1:00 P.M. at Courthouse Park located at 700 South Silver Avenue in Deming. There will be free prizes and photos with the Easter Bunny.
URL:https://silvercityradio.com/event/deming-annual-community-easter-egg-hunt/
LOCATION:Courthouse Park\, 700 South Silver Avenue\, Deming\, NM\, United States
CATEGORIES:Entertainment,Volunteers
END:VEVENT
BEGIN:VEVENT
DTSTART;TZID=UTC:20190427T080000
DTEND;TZID=UTC:20190427T110000
DTSTAMP:20260425T115621
CREATED:20190418T201343Z
LAST-MODIFIED:20190418T201343Z
UID:10001130-1556352000-1556362800@silvercityradio.com
SUMMARY:American Legion Post 18 Pancake Breakfast
DESCRIPTION:The American Legion Post 18 is hosting a Pancake Breakfast on Saturday\, April 27th from 8:00 to 11:00 A.M. at the American Legion Hall located at 409 College Avenue in Silver City. The cost is $5 for all you can eat pancakes\, with sausage and a beverage. In addition\, the Ladies Auxiliary will be holding a Bake Sale.  This event is open to the public.
URL:https://silvercityradio.com/event/american-legion-post-18-pancake-breakfast/
LOCATION:American Legion Post 18\, 409 West College Avenue\, Silver City\, NM\, 88061\, United States
CATEGORIES:Food Event,Fundraiser,Volunteers
END:VEVENT
BEGIN:VEVENT
DTSTART;TZID=UTC:20190427T110000
DTEND;TZID=UTC:20190427T150000
DTSTAMP:20260425T115621
CREATED:20190418T201122Z
LAST-MODIFIED:20190418T201122Z
UID:10001129-1556362800-1556377200@silvercityradio.com
SUMMARY:CASA/KISS Child Abuse Awareness and Prevention Event
DESCRIPTION:The Grant County Court Appointed Special Advocates Program for Children (CASA)\, in collaboration with the Kids in Need of Supportive Services Program (KISS)\, is hosting a “Child Abuse Awareness and Prevention Event” on April 27th\, 11:00 A.M. to 3:00 P.M. at the KISS building located at 1120 West Street in Silver City. Come and enjoy food\, music\, games and plenty of prizes and bike raffles. The event is free and open to the public.
URL:https://silvercityradio.com/event/casa-kiss-child-abuse-awareness-and-prevention-event/
LOCATION:KISS Building\, 1120 West Street\, Silver City\, NM\, 88062-1014\, United States
CATEGORIES:Entertainment,Food Event,Kids Event,Presentation,Training,Volunteers
END:VEVENT
BEGIN:VEVENT
DTSTART;TZID=UTC:20190504T080000
DTEND;TZID=UTC:20190504T120000
DTSTAMP:20260425T115621
CREATED:20190418T173852Z
LAST-MODIFIED:20190418T173852Z
UID:10001117-1556956800-1556971200@silvercityradio.com
SUMMARY:14th Annual Luna County Celebration of Life
DESCRIPTION:The public is invited to the Luna County 14th Annual “Celebration of Life” on Saturday\, May 4th from 8:00 A.M. to 12 noon at Voier’s (Pit) Park located at 300 North Country Club Road in Deming. There will be vendors\, food and prizes\, in addition to a walk “in Honor of” or “In Memory of” a cancer warrior.
URL:https://silvercityradio.com/event/14th-annual-luna-county-celebration-of-life/
LOCATION:Voier’s Park\, 300 N Country Club Road\, Deming\, NM\, 88030\, United States
CATEGORIES:Fundraiser,Volunteers
END:VEVENT
BEGIN:VEVENT
DTSTART;TZID=UTC:20190511T080000
DTEND;TZID=UTC:20190511T110000
DTSTAMP:20260425T115621
CREATED:20190425T175237Z
LAST-MODIFIED:20190425T175237Z
UID:10001144-1557561600-1557572400@silvercityradio.com
SUMMARY:Upper Mimbres Volunteer Fire Rescue Pancake Breakfast
DESCRIPTION:The Upper Mimbres Volunteer Fire and Rescue is hosting a pancake breakfast on Saturday\, May 11th at the department’s Main Station\, located near Mile 5\, Highway 35. Breakfast is $5 per plate and will be served from 8:00  to 11:00 A.M. For more information email umvfr@gilanet.com or call 575-536-3683.
URL:https://silvercityradio.com/event/upper-mimbres-volunteer-fire-rescue-pancake-breakfast/
LOCATION:Upper Mimbres VFD\, 3072 Highway 35\, Mimbres\, NM\, 88049\, United States
CATEGORIES:Fundraiser,Volunteers
END:VEVENT
BEGIN:VEVENT
DTSTART;VALUE=DATE:20190523
DTEND;VALUE=DATE:20190524
DTSTAMP:20260425T115621
CREATED:20190503T220840Z
LAST-MODIFIED:20190503T220840Z
UID:10001148-1558569600-1558655999@silvercityradio.com
SUMMARY:Stop The Bleed Training w/ Pinos Altos Volunteer Fire Rescue
DESCRIPTION:The Pinos Altos Volunteer Fire Rescue is sponsoring a Stop the Bleed Training as part of National Stop the Bleed Day on Thursday May 23rd. The training is the Bleeding Control Basic Course where you learn the basics of Bleeding Control. The training will be at the PAVFR Cottage San Road Station\, 2234 Cottage San Rd. in Silver City. Sessions include a power point introduction and hands on simulated training. There are three sessions planned\, starting at 5:30\, 6:30 and 7:30. Participants can attend any one of the hour long trainings. Stop the Bleed is one of our nation’s largest public health campaigns designed to encourage bystanders to become trained\, equipped\, and empowered to help in a bleeding emergency before professional help arrives. Its goal is to save lives by training people across the country how to stop traumatic bleeding. For additional information\, contact Karen at 972-467-0839 or Cyndy at 520-940-3133.
URL:https://silvercityradio.com/event/stop-the-bleed-training-w-pinos-altos-volunteer-fire-rescue/
LOCATION:Pinos Altos Volunteer Fire Department\, 2234 Cottage San Rd\, Silver City\, NM\, 88062-1014\, United States
CATEGORIES:Health Event,Training,Volunteers
END:VEVENT
BEGIN:VEVENT
DTSTART;TZID=UTC:20190524T080000
DTEND;TZID=UTC:20190524T110000
DTSTAMP:20260425T115621
CREATED:20190520T215633Z
LAST-MODIFIED:20190520T215633Z
UID:10001167-1558684800-1558695600@silvercityradio.com
SUMMARY:Ft. Bayard National Cemetery Flag Placement for Memorial Day
DESCRIPTION:Volunteers needed at the Fort Bayard National cemetery this Friday\, May 24th at 8:00 A.M. to place flags on the gravesites for Memorial Day. Volunteers are requested to bring a hammer and implement to make a pilot hole for each flag. In addition\, volunteers will be needed on Tuesday\, May 28th to remove the flags. All are invited!               
URL:https://silvercityradio.com/event/ft-bayard-national-cemetery-flag-placement-for-memorial-day/
LOCATION:Fort Bayard National Cemetery\, 200 Cam De Paz\, Fort Bayard\, NM\, 88036\, United States
CATEGORIES:Volunteers
END:VEVENT
BEGIN:VEVENT
DTSTART;TZID=UTC:20190713T100000
DTEND;TZID=UTC:20190713T140000
DTSTAMP:20260425T115621
CREATED:20190703T222819Z
LAST-MODIFIED:20190703T222819Z
UID:10001058-1563012000-1563026400@silvercityradio.com
SUMMARY:Silver City Territorial Charter Volunteer Day
DESCRIPTION:There is a Territorial Charter Volunteer Day on Saturday\, July 13th from 10:00 A.M. to 2:00 P.M. at the Historical Waterworks on Little Walnut Road near Highway 180. Come be a part of installing “parklet” features behind the Historic Waterworks\, planting native pollinators\, putting up benches and tables\, and building a walking-labyrinth. For more information contact District 2 Councilor Lynda Aiman-Smith at (575) 597-7032.
URL:https://silvercityradio.com/event/silver-city-territorial-charter-volunteer-day/
LOCATION:Little Walnut Road\, Silver City
CATEGORIES:Volunteers
END:VEVENT
BEGIN:VEVENT
DTSTART;TZID=UTC:20190727T090000
DTEND;TZID=UTC:20190727T103000
DTSTAMP:20260425T115621
CREATED:20190723T201800Z
LAST-MODIFIED:20190723T201800Z
UID:10001222-1564218000-1564223400@silvercityradio.com
SUMMARY:Silver City Woman's Club School Supply Distribution
DESCRIPTION:The Silver City Woman’s Club Back to School Supply Distribution will be held on Saturday\, July 27th from 9:00 to 10:30 A.M. at the Woman’s Club Building located at 411 Silver Heights Boulevard in Silver City. Donated school supplies will be distributed for all grades and ages while supplies last on a first come first serve basis.
URL:https://silvercityradio.com/event/silver-city-womans-club-school-supply-distribution/
LOCATION:Silver City Woman’s Club\, 411 Silver Heights Boulevard\, Silver City\, NM\, 88061\, United States
CATEGORIES:Kids Event,Volunteers
END:VEVENT
BEGIN:VEVENT
DTSTART;TZID=UTC:20190921T093000
DTEND;TZID=UTC:20190921T133000
DTSTAMP:20260425T115621
CREATED:20190903T163611Z
LAST-MODIFIED:20190903T163611Z
UID:10001262-1569058200-1569072600@silvercityradio.com
SUMMARY:4th Annual Silver City Buddy Walk
DESCRIPTION:Southern New Mexico Down Syndrome Families and The Arc of New Mexico are presenting the 4th Annual Silver City Buddy Walk on Saturday\, September 21st at Gough Park in Silver City starting with registration at 9:30 A.M. and the Walk at 12 Noon. There will be games\, contests\, prizes\, musical entertainment\, refreshments\, resources\, and Sunshine Ambassadors dance performances.
URL:https://silvercityradio.com/event/4th-annual-silver-city-buddy-walk/
LOCATION:Gough Park
CATEGORIES:Fundraiser,Health Event,Presentation,Volunteers
END:VEVENT
BEGIN:VEVENT
DTSTART;TZID=UTC:20190928T100000
DTEND;TZID=UTC:20190928T160000
DTSTAMP:20260425T115621
CREATED:20190820T213542Z
LAST-MODIFIED:20190820T213542Z
UID:10001246-1569664800-1569686400@silvercityradio.com
SUMMARY:14th Annual Mimbres Harvest Festival
DESCRIPTION:The 14th Annual Mimbres Harvest Festival is being held on Saturday\, September 28th  from 10:00 A.M. to 4:00 P.M. at the San Lorenzo School located on NM Highway 35. This free event  features a Grower’s Market\, Family games\, live music\, art & crafts and much more.
URL:https://silvercityradio.com/event/14th-annual-mimbres-harvest-festival/
LOCATION:San Lorenzo Elementary School
CATEGORIES:Craft,Entertainment,Food Event,Health Event,Kids Event,Volunteers
END:VEVENT
BEGIN:VEVENT
DTSTART;TZID=UTC:20191016T080000
DTEND;TZID=UTC:20191016T170000
DTSTAMP:20260425T115621
CREATED:20191016T204548Z
LAST-MODIFIED:20191016T212142Z
UID:10001312-1571212800-1571245200@silvercityradio.com
SUMMARY:Silver City Masonic Lodge Ice Cream Social for Firefighters
DESCRIPTION:Silver City Masons are thanking all Grant County Law Enforcement\, EMTs\, Search-rescue personnel and their families with a free Ice Cream Social on Saturday  for Fire Fighters and their families on November 6th from 11:00 A.M. to 3:00 P.M. The Masonic Lodge is located at  11 Ridge Road in Silver City. Carry-out cups will be provided for the local stations\, for those who are on duty.
URL:https://silvercityradio.com/event/silver-city-masonic-lodge-ice-cream-social-for-firefighters/
LOCATION:Silver City Masonic Lodge\, 11 Ridge Road\, Silver City\, NM\, 88061\, United States
CATEGORIES:Food Event,Volunteers
END:VEVENT
BEGIN:VEVENT
DTSTART;TZID=UTC:20191019T080000
DTEND;TZID=UTC:20191019T120000
DTSTAMP:20260425T115621
CREATED:20191008T162900Z
LAST-MODIFIED:20191008T163728Z
UID:10001299-1571472000-1571486400@silvercityradio.com
SUMMARY:Silver City Volunteer Beautification Project
DESCRIPTION:Join Silver City Mayor\, Ken Ladner and other volunteers on Saturday\, October 19th 8:00 A.M. to complete and beautify several water catchment ponds in the median of NM 180 West\, in front of Pizza Hut between Pope and Little Walnut streets. Volunteers are encouraged to bring gloves and sun protection\, and to park along Grant Street in front of Penny Park. The project is expected to be completed by noon.
URL:https://silvercityradio.com/event/silver-city-volunteer-beautification-project/
LOCATION:Pope and Little Walnut Street\, Silver City\, NM\, 88061\, United States
CATEGORIES:Volunteers
END:VEVENT
BEGIN:VEVENT
DTSTART;TZID=UTC:20191026T100000
DTEND;TZID=UTC:20191026T140000
DTSTAMP:20260425T115621
CREATED:20191004T155112Z
LAST-MODIFIED:20191017T223716Z
UID:10001293-1572084000-1572098400@silvercityradio.com
SUMMARY:2019 Children's Fiesta- HMS
DESCRIPTION:It’s the Children’s Fiesta time!  The HMS 2019 Children’s Fiesta\, formerly known as the Red Hot Children’s Fiesta\, is happening Saturday\, October 26th at Penny park from 10:00 A.M. to 2:00 P.M. Come out and enjoy a fun filled day of games\, corn hole\, activities\, give-aways\, food\, Humane Society puppies\, Halloween costumes\, and resources for families. That’s the HMS Children’s Fiesta\, Penny Park\, Saturday\, October 26th\, from 10 to 2.
URL:https://silvercityradio.com/event/2019-childrens-fiesta-hms/
LOCATION:Penny Park\, North Grant Street\, Silver City\, United States
CATEGORIES:Kids Event,Volunteers
END:VEVENT
BEGIN:VEVENT
DTSTART;TZID=UTC:20191026T110000
DTEND;TZID=UTC:20191026T150000
DTSTAMP:20260425T115621
CREATED:20191016T172044Z
LAST-MODIFIED:20191016T172044Z
UID:10001311-1572087600-1572102000@silvercityradio.com
SUMMARY:Silver City Mason's Ice Cream Social
DESCRIPTION:Silver City Masons are thanking all Grant County Law Enforcement\, EMTs\, Search-rescue personnel and their families with a free Ice Cream Social on Saturday October 26th and for Fire Fighters and their families on November 6th. Both events are from 11:00 A.M. to 3:00 P.M. The Masonic Lodge is located at  11 Ridge Road in Silver City. Carry-out cups will be provided for the local stations\, for those who are on duty.
URL:https://silvercityradio.com/event/silver-city-masons-ice-cream-social/
LOCATION:Silver City Masonic Lodge\, 11 Ridge Road\, Silver City\, NM\, 88061\, United States
CATEGORIES:Food Event,Volunteers
END:VEVENT
BEGIN:VEVENT
DTSTART;TZID=UTC:20191109T110000
DTEND;TZID=UTC:20191109T150000
DTSTAMP:20260425T115621
CREATED:20191104T171254Z
LAST-MODIFIED:20191104T172513Z
UID:10001333-1573297200-1573311600@silvercityradio.com
SUMMARY:Silver City Masonic Lodge Honors First Responders Ice Cream Social
DESCRIPTION:Silver City Masons are thanking all Grant County First Responders and their families with a FREE “Ice Cream Social” this Saturday November 9th\, from 11:00 A.M. to 3:00 P.M. All Law Enforcement \, Fire Fighters\, EMTs\, and Search-rescue personnel along with their families are invited to join in for Ice Cream and socializing. The Masonic Lodge is located at 11 Ridge Road in Silver City. Carry-out cups will be provided for the local stations\, for those who are on duty.
URL:https://silvercityradio.com/event/silver-city-masonic-lodge-honors-first-responders-ice-cream-social/
LOCATION:Silver City Masonic Lodge\, 11 Ridge Road\, Silver City\, NM\, 88061\, United States
CATEGORIES:Food Event,Volunteers
END:VEVENT
BEGIN:VEVENT
DTSTART;TZID=UTC:20191116T090000
DTEND;TZID=UTC:20191116T130000
DTSTAMP:20260425T115621
CREATED:20191112T231542Z
LAST-MODIFIED:20191112T231607Z
UID:10001345-1573894800-1573909200@silvercityradio.com
SUMMARY:3-D Crosswalk Painting with Mayor Pro Tem Cynthia Bettison
DESCRIPTION:Mayor Pro Tem Cynthia Bettison and town staff invite residents to come out this Saturday\, November 16th\, to help paint a 3-D crosswalk at the intersection of Yucca and 23rd streets in Silver City. Volunteers are asked to meet at the corner of Yucca and 23rd streets at 9:00 A.M.  with the project expected to be finished by 1:00 P.M. A light lunch will be provided\, and the event will be cancelled in the event of inclement weather.
URL:https://silvercityradio.com/event/3-d-crosswalk-painting-with-mayor-pro-tem-cynthia-bettison/
LOCATION:Yucca & 23rd Street\, Silver City\, NM\, 88061\, United States
CATEGORIES:Volunteers
END:VEVENT
BEGIN:VEVENT
DTSTART;TZID=UTC:20191118T100000
DTEND;TZID=UTC:20191118T120000
DTSTAMP:20260425T115621
CREATED:20191107T225920Z
LAST-MODIFIED:20191107T225920Z
UID:10001342-1574071200-1574078400@silvercityradio.com
SUMMARY:Silver City Museum "Volunteer Gathering"
DESCRIPTION:Come and hang out with Silver City Museum volunteers and staff at a “Volunteer Gathering” on Monday\, November 18th from 10:00 A.M.  to 12 Noon at the museum located at 312 West Broadway in Silver City. Attendees will hear a state-of-the-museum address from our Director Bart Roselli\, covering many topics in addition to hearing about new volunteer opportunities and upcoming events.
URL:https://silvercityradio.com/event/silver-city-museum-volunteer-gathering/
LOCATION:Silver City Museum\, 312 W. Broadway\, Silver City\, NM\, 88061\, United States
CATEGORIES:Presentation,Volunteers
END:VEVENT
BEGIN:VEVENT
DTSTART;TZID=UTC:20191124T120000
DTEND;TZID=UTC:20191124T160000
DTSTAMP:20260425T115621
CREATED:20191106T164525Z
LAST-MODIFIED:20191106T164525Z
UID:10001335-1574596800-1574611200@silvercityradio.com
SUMMARY:W & N Enterprises "A Time for Sharing" Free Community Thanksgiving Dinner
DESCRIPTION:W & N Enterprises is hosting their Annual Community Thanksgiving Dinner “A Time for Sharing” on Sunday\, November 24th starting a 12 Noon at the Grant County Veterans Memorial Business & Conference Center\, located at 3031 U.S Highway 180 East in Silver City. Santa Claus will there giving treats to the kids along with live music provided by the Jericho Singers. This event is free to the public.
URL:https://silvercityradio.com/event/w-n-enterprises-a-time-for-sharing-free-community-thanksgiving-dinner/
LOCATION:Grant County Veteran’s Memorial Business and Conference Center\, 3031 Highway 180 East\, Silver City\, NM\, United States
CATEGORIES:Food Event,Volunteers
END:VEVENT
BEGIN:VEVENT
DTSTART;TZID=UTC:20191128T113000
DTEND;TZID=UTC:20191128T133000
DTSTAMP:20260425T115621
CREATED:20191119T163637Z
LAST-MODIFIED:20191119T163637Z
UID:10001358-1574940600-1574947800@silvercityradio.com
SUMMARY:TLC Deming Thanksgiving Dinner
DESCRIPTION:Transforming Luna County Through the Love of Christ and affiliates will host Thanksgiving Dinner from 11:30 a.m. to 1:30 p.m. on Thanksgiving Day\, Thursday November 28th at the First United Methodist Church located at 1020 South Granite Street in Deming. The dinner is open to all who would like to share in a free hot meal and there are no reservations. For more information\, call 575-544-2400.
URL:https://silvercityradio.com/event/tlc-deming-thanksgiving-dinner/
LOCATION:TLC Deming\, 1020 S. Granite Street\, Deming\, NM\, United States
CATEGORIES:Food Event,Holiday,Volunteers
END:VEVENT
BEGIN:VEVENT
DTSTART;TZID=UTC:20191206T170000
DTEND;TZID=UTC:20191206T183000
DTSTAMP:20260425T115621
CREATED:20191119T164001Z
LAST-MODIFIED:20191119T164018Z
UID:10001359-1575651600-1575657000@silvercityradio.com
SUMMARY:8th Annual Kiwanis Youth Christmas Sing-off
DESCRIPTION:The Kiwanis Club of Silver City is hosting their 8th Annual Youth Christmas Sing off on Friday\, December 6th starting at 5:00 P.M. at Gough Park in Silver City. This is a free family event will feature Kiwanis sponsored your clubs compete for cash prizes donated by Western Bank of Silver City. See the lighting of the Gazebo and after the competition\, then walk over the First Savings Bank for hot coca and cookies.
URL:https://silvercityradio.com/event/8th-annual-kiwanis-youth-christmas-sing-off/
CATEGORIES:Concert,Entertainment,Kids Event,Volunteers
END:VEVENT
BEGIN:VEVENT
DTSTART;TZID=UTC:20191212T050000
DTEND;TZID=UTC:20191212T200000
DTSTAMP:20260425T115621
CREATED:20191107T230157Z
LAST-MODIFIED:20191107T230315Z
UID:10001343-1576126800-1576180800@silvercityradio.com
SUMMARY:Silver City Museum's Annual Victorian Christmas
DESCRIPTION:The Silver City Museum is presenting their Annual Victorian Christmas event on Thursday\, December 12th from 5:00 to 8:00 P.M. Put on your Victorian finest and head over for cookies\, spiced cider\, live music\, gift exchange all-around holiday cheer and much more. Costumes encouraged but not required. For more information\, call 575-597-0229.
URL:https://silvercityradio.com/event/silver-city-museums-annual-victorian-christmas/
LOCATION:Silver City Museum
CATEGORIES:Holiday,Presentation,Volunteers
END:VEVENT
BEGIN:VEVENT
DTSTART;TZID=UTC:20191213T030000
DTEND;TZID=UTC:20191213T170000
DTSTAMP:20260425T115621
CREATED:20191212T171704Z
LAST-MODIFIED:20191212T171842Z
UID:10001386-1576206000-1576256400@silvercityradio.com
SUMMARY:Wreaths Across America Placement Volunteers
DESCRIPTION:This Friday\, December 13th\, volunteers are needed to place Christmas Wreaths from Wreaths Across America on graves at Fort Bayard National Cemetery in Santa Clara. The special private placement of wreaths will occur at 2:00 P.M. and general placement of wreaths starts at 3:00 P.M. Volunteers are asked to park outside the gate and golf carts will shuttle you to the work area.
URL:https://silvercityradio.com/event/wreaths-across-america-placement-volunteers/
LOCATION:Fort Bayard National Cemetery
CATEGORIES:Volunteers
END:VEVENT
BEGIN:VEVENT
DTSTART;TZID=UTC:20191218T093000
DTEND;TZID=UTC:20191218T103000
DTSTAMP:20260425T115621
CREATED:20191212T173018Z
LAST-MODIFIED:20191212T173050Z
UID:10001387-1576661400-1576665000@silvercityradio.com
SUMMARY:Silver City Mainstreet Holiday Merchant Window Contest
DESCRIPTION:Silver City MainStreet will announce the winners of the 2019 Holiday Merchant Window contest and the Spirit of Christmas Award on Wednesday\, December 18th at 9:30 A.M. at the Murray Ryan Visitor Center. Twenty-two merchants are participating in the decorating contest and The Spirit of Christmas Award will go to a merchant or volunteer that has exhibited the Spirit of Christmas and who contributes to making downtown festive for the holidays.
URL:https://silvercityradio.com/event/silver-city-mainstreet-holiday-merchant-window-contest/
LOCATION:Murray Ryan Visitor’s Center\, 201 N Hudson St\, Silver City\, NM\, 88061\, United States
CATEGORIES:Holiday,Presentation,Volunteers
END:VEVENT
BEGIN:VEVENT
DTSTART;TZID=UTC:20200111T083000
DTEND;TZID=UTC:20200111T110000
DTSTAMP:20260425T115621
CREATED:20200106T204152Z
LAST-MODIFIED:20200106T204152Z
UID:10001412-1578731400-1578740400@silvercityradio.com
SUMMARY:Fort Bayard National Cemetery Wreath Retirement
DESCRIPTION:Volunteers are needed to assist in wreath retirement at Fort Bayard National Cemetery this Saturday\, January 11th at 8:30 A.M. Please park outside the cemetery gates to allow trucks and trailers on site to cart away the wreaths that will be removed from the grave sites. In addition\, some volunteers will be needed to follow the trailers to the landfill to help unload.
URL:https://silvercityradio.com/event/fort-bayard-national-cemetery-wreath-retirement/
LOCATION:Fort Bayard National Cemetery\, Santa Clara\, United States
CATEGORIES:Volunteers
END:VEVENT
BEGIN:VEVENT
DTSTART;TZID=UTC:20200204T093000
DTEND;TZID=UTC:20200204T143000
DTSTAMP:20260425T115621
CREATED:20200129T203906Z
LAST-MODIFIED:20200130T161434Z
UID:10001445-1580808600-1580826600@silvercityradio.com
SUMMARY:AARP Free in Person Tax Prep in Silver City
DESCRIPTION:AARP Tax-Aide Foundation\, is offering Free in-person Tax Preparation in Silver City\, on Tuesdays and Wednesdays starting February 4th through April 15th\, from 9:30 A.M. to 2:30 P.M.\, at Watt’s Hall located at 500 East 18th Street\, on the corner of Highway 180 and Swan Street.  Make appointments online at aarp.org/taxaide or call 575-342-1892 and leave a message.
URL:https://silvercityradio.com/event/aarp-free-in-person-tax-prep-in-silver-city/
LOCATION:Watts Hall\, Hwy 180 & Swan Street\, Silver City\, United States
CATEGORIES:Volunteers
END:VEVENT
BEGIN:VEVENT
DTSTART;TZID=UTC:20200205T090000
DTEND;TZID=UTC:20200205T170000
DTSTAMP:20260425T115621
CREATED:20200129T205506Z
LAST-MODIFIED:20200129T205506Z
UID:10001447-1580893200-1580922000@silvercityradio.com
SUMMARY:AARP Free In-Person Tax Preparation in Bayard
DESCRIPTION:AARP Tax-Aide Foundation is offering Free in-person Tax Preparation in BAYARD\, on Wednesdays and Thursdays starting February 5 through April 9th from 9:00 A.M. to 5:00 P.M. Bayard Public Library\, located at 1112 Central Avenue. Make appointments online at aarp.org/taxaide or call 575-519-5988 and leave a message.
URL:https://silvercityradio.com/event/aarp-free-in-person-tax-preparation-in-bayard/
LOCATION:Bayard Public Library
CATEGORIES:Volunteers
END:VEVENT
BEGIN:VEVENT
DTSTART;TZID=UTC:20200205T093000
DTEND;TZID=UTC:20200205T143000
DTSTAMP:20260425T115621
CREATED:20200129T205110Z
LAST-MODIFIED:20200129T205140Z
UID:10001446-1580895000-1580913000@silvercityradio.com
SUMMARY:AARP Free In-Person Tax Preparation in Silver City
DESCRIPTION:AARP Tax-Aide Foundation\, is offering Free in-person Tax Preparation in Silver City\, on Tuesdays and Wednesdays starting February 4th through April 15th\, from 9:30 A.M. to 2:30 P.M.\, at Watt’s Hall located at 500 East 18th Street\, on the corner of Highway 180 and Swan Street.  Make appointments online at aarp.org/taxaide or call 575-342-1892 and leave a message.
URL:https://silvercityradio.com/event/aarp-free-in-person-tax-preparation-in-silver-city/
LOCATION:Watts Hall\, Hwy 180 & Swan Street\, Silver City\, United States
CATEGORIES:Volunteers
END:VEVENT
BEGIN:VEVENT
DTSTART;VALUE=DATE:20200208
DTEND;VALUE=DATE:20200209
DTSTAMP:20260425T115621
CREATED:20200122T172653Z
LAST-MODIFIED:20200122T172653Z
UID:10001433-1581120000-1581206399@silvercityradio.com
SUMMARY:Boy Scout Troop #114 Food Drive
DESCRIPTION:Local Boy Scout Troop #114 in Silver City will be out starting at 8:00 A.M. on Saturday February 8th collecting non-perishable food\, door to door as part of the annual Scouting for Food drive. Their goal is 16 cans of food per Scout\, which works out to about 14 pounds. If you would like to donate earlier\, or have them come to your neighborhood\, please call Scout Master Jason at 575-519- to make arrangements. All donations stay local.
URL:https://silvercityradio.com/event/boy-scout-troop-114-food-drive-2/
LOCATION:Silver City\, NM\, 88061\, United States
CATEGORIES:Volunteers
END:VEVENT
BEGIN:VEVENT
DTSTART;TZID=UTC:20200227T093000
DTEND;TZID=UTC:20200227T150000
DTSTAMP:20260425T115621
CREATED:20200219T172101Z
LAST-MODIFIED:20200219T172101Z
UID:10001470-1582795800-1582815600@silvercityradio.com
SUMMARY:Veteran Service Officer Visit to Grant County
DESCRIPTION:A Veteran Service Officer will visit Grant County on Thursday\, February 27th from 9:30 A.M. 3:00 P.M at the Old Armory Building located at 11990 U.S. Highway 180 East in Santa Clara. Receive Veterans Benefits Assistance\, and much more. For further information\, call 575-524-6220.
URL:https://silvercityradio.com/event/veteran-service-officer-visit-to-grant-county-2/
LOCATION:Santa Clara Armory
CATEGORIES:Volunteers
END:VEVENT
END:VCALENDAR