BEGIN:VCALENDAR
VERSION:2.0
PRODID:-//Silver City Radio - ECPv6.3.3.1//NONSGML v1.0//EN
CALSCALE:GREGORIAN
METHOD:PUBLISH
X-WR-CALNAME:Silver City Radio
X-ORIGINAL-URL:https://silvercityradio.com
X-WR-CALDESC:Events for Silver City Radio
REFRESH-INTERVAL;VALUE=DURATION:PT1H
X-Robots-Tag:noindex
X-PUBLISHED-TTL:PT1H
BEGIN:VTIMEZONE
TZID:UTC
BEGIN:STANDARD
TZOFFSETFROM:+0000
TZOFFSETTO:+0000
TZNAME:UTC
DTSTART:20190101T000000
END:STANDARD
END:VTIMEZONE
BEGIN:VEVENT
DTSTART;TZID=UTC:20190401T100000
DTEND;TZID=UTC:20190401T180000
DTSTAMP:20260424T074521
CREATED:20190213T162839Z
LAST-MODIFIED:20190213T162918Z
UID:10001070-1554112800-1554141600@silvercityradio.com
SUMMARY:Volunteer Income Tax Assistance Program
DESCRIPTION:Western New Mexico University students are offering tax help to seniors and low-income families from now until April 4th. This free service\, called the “Volunteer Income Tax Assistance Program is for people whose household income is $56\,000 or less and for those who are 65 years or older. The service will be held at Light Hall on the WNMU campus located at 1000 West College Avenue on Mondays through Thursdays between 10:00 A.M and 6:00 P.M. Service is on a first-come\, first-serve basis. For more information\, visit sb.wnmu.edu.
URL:https://silvercityradio.com/event/volunteer-income-tax-assistance-program-7/
LOCATION:WNMU Light Hall\, 1000 West College Ave\, Silver City\, NM\, 88061\, United States
CATEGORIES:Volunteers
END:VEVENT
BEGIN:VEVENT
DTSTART;TZID=UTC:20190404T123000
DTEND;TZID=UTC:20190404T140000
DTSTAMP:20260424T074521
CREATED:20190326T215419Z
LAST-MODIFIED:20190326T215419Z
UID:10001108-1554381000-1554386400@silvercityradio.com
SUMMARY:Silver City Museum Volunteer Reception
DESCRIPTION:The Silver City Museum is hosting an event for current and prospective volunteers at the museum on Tuesday\, April 9th from 12:30 to 2:00 P.M in the Silver City Museum Annex. This is an ideal opportunity for anyone who is curious about volunteering at the museum and meeting current volunteers and staff. For more information\, visit the museum’s website at silvercitymuseum.org
URL:https://silvercityradio.com/event/silver-city-museum-volunteer-reception/
LOCATION:Silver City Museum Annex\, 302 W Broadway\, Silver City\, NM\, 88061\, United States
CATEGORIES:Entertainment,Volunteers
END:VEVENT
BEGIN:VEVENT
DTSTART;TZID=UTC:20190406T080000
DTEND;TZID=UTC:20190406T120000
DTSTAMP:20260424T074521
CREATED:20190403T210347Z
LAST-MODIFIED:20190403T210347Z
UID:10001109-1554537600-1554552000@silvercityradio.com
SUMMARY:Lordsburg "LEAP" Volunteer Community Clean Up
DESCRIPTION:Volunteers are needed for a “LEAP” Community Clean up in Lordsburg this Saturday\, April 6th from 8:00 A.M. to 12 noon. Come join in to help clean up the Lordsburg community by meeting in the Western Bank parking lot at 7:45 A.M. Lunch will be provided by the Elks Lodge following the clean-up. Call Marsha Hill at 575-542-9864 for more information.
URL:https://silvercityradio.com/event/lordsburg-leap-volunteer-community-clean-up/
LOCATION:Western Bank Lordsburg\, Lordsburg\, NM\, United States
CATEGORIES:Volunteers
END:VEVENT
BEGIN:VEVENT
DTSTART;TZID=UTC:20190406T090000
DTEND;TZID=UTC:20190406T120000
DTSTAMP:20260424T074521
CREATED:20190319T161750Z
LAST-MODIFIED:20190319T161750Z
UID:10001097-1554541200-1554552000@silvercityradio.com
SUMMARY:2nd Annual Deming Autism Walk
DESCRIPTION:Join in for 2nd Annual Deming Autism Awareness Community Walk on Saturday\, April 6th at 9:00 A.M.  at Deming High School Memorial Stadium located at 1700 South Nickle Street in Deming. This free\, family-friendly event will feature food\, music\, a jumping balloon\, a silent auction\, raffle\, and door prizes! Proceeds to benefit “Hearts For Autism Deming” and all funds will stay in Luna County to make a difference for those who live with autism in the community.
URL:https://silvercityradio.com/event/2nd-annual-deming-autism-walk/
LOCATION:Deming High School Memorial Stadium\, 1700 South Nickle Street\, Deming\, NM\, United States
CATEGORIES:Entertainment,Fundraiser,Kids Event,Volunteers
END:VEVENT
BEGIN:VEVENT
DTSTART;TZID=UTC:20190406T160000
DTEND;TZID=UTC:20190406T190000
DTSTAMP:20260424T074521
CREATED:20190326T170127Z
LAST-MODIFIED:20190326T170254Z
UID:10001107-1554566400-1554577200@silvercityradio.com
SUMMARY:Grant County "Thank You" Celebration
DESCRIPTION:The Grant County Strong Committee wants to thank area residents that attended the February Grant County Commission Meeting to speak up about House Bill 220 and 255 and invite them to a free picnic celebration on Saturday\, April 6th from 4:00 to 7:00 P.M. at Bataan Park in Santa Clara located at Fort Bayard Road. Hamburgers\, hotdogs\, and water will be provided. Please bring a side dish to share and your own beverage. There will be music\, games\, and more!
URL:https://silvercityradio.com/event/grant-county-thank-you-celebration/
LOCATION:Bataan Memorial Park
CATEGORIES:Entertainment,Volunteers
END:VEVENT
BEGIN:VEVENT
DTSTART;TZID=UTC:20190409T123000
DTEND;TZID=UTC:20190409T140000
DTSTAMP:20260424T074521
CREATED:20190403T210849Z
LAST-MODIFIED:20190403T210849Z
UID:10001110-1554813000-1554818400@silvercityradio.com
SUMMARY:Silver City Museum Volunteer Reception
DESCRIPTION:The Silver City Museum is hosting an event for current and prospective volunteers at the museum on Tuesday\, April 9th from 12:30 to 2:00 P.M in the Silver City Museum Annex. This is an ideal opportunity for anyone who is curious about volunteering at the museum and meeting current volunteers and staff. For more information\, visit the museum’s website at silvercitymuseum.org.
URL:https://silvercityradio.com/event/silver-city-museum-volunteer-reception-2/
LOCATION:Silver City Museum\, 312 W. Broadway\, Silver City\, NM\, 88062-1014\, United States
CATEGORIES:Volunteers
END:VEVENT
BEGIN:VEVENT
DTSTART;TZID=UTC:20190420T100000
DTEND;TZID=UTC:20190420T130000
DTSTAMP:20260424T074521
CREATED:20190418T211150Z
LAST-MODIFIED:20190418T211150Z
UID:10001136-1555754400-1555765200@silvercityradio.com
SUMMARY:Deming Annual Community Easter Egg Hunt
DESCRIPTION:The City of Deming will be holding it’s Annual Community Easter Egg Hunt on Saturday\, April 20th from 10:00 A.M. to 1:00 P.M. at Courthouse Park located at 700 South Silver Avenue in Deming. There will be free prizes and photos with the Easter Bunny.
URL:https://silvercityradio.com/event/deming-annual-community-easter-egg-hunt/
LOCATION:Courthouse Park\, 700 South Silver Avenue\, Deming\, NM\, United States
CATEGORIES:Entertainment,Volunteers
END:VEVENT
BEGIN:VEVENT
DTSTART;TZID=UTC:20190427T080000
DTEND;TZID=UTC:20190427T110000
DTSTAMP:20260424T074521
CREATED:20190418T201343Z
LAST-MODIFIED:20190418T201343Z
UID:10001130-1556352000-1556362800@silvercityradio.com
SUMMARY:American Legion Post 18 Pancake Breakfast
DESCRIPTION:The American Legion Post 18 is hosting a Pancake Breakfast on Saturday\, April 27th from 8:00 to 11:00 A.M. at the American Legion Hall located at 409 College Avenue in Silver City. The cost is $5 for all you can eat pancakes\, with sausage and a beverage. In addition\, the Ladies Auxiliary will be holding a Bake Sale.  This event is open to the public.
URL:https://silvercityradio.com/event/american-legion-post-18-pancake-breakfast/
LOCATION:American Legion Post 18\, 409 West College Avenue\, Silver City\, NM\, 88061\, United States
CATEGORIES:Food Event,Fundraiser,Volunteers
END:VEVENT
BEGIN:VEVENT
DTSTART;TZID=UTC:20190427T110000
DTEND;TZID=UTC:20190427T150000
DTSTAMP:20260424T074521
CREATED:20190418T201122Z
LAST-MODIFIED:20190418T201122Z
UID:10001129-1556362800-1556377200@silvercityradio.com
SUMMARY:CASA/KISS Child Abuse Awareness and Prevention Event
DESCRIPTION:The Grant County Court Appointed Special Advocates Program for Children (CASA)\, in collaboration with the Kids in Need of Supportive Services Program (KISS)\, is hosting a “Child Abuse Awareness and Prevention Event” on April 27th\, 11:00 A.M. to 3:00 P.M. at the KISS building located at 1120 West Street in Silver City. Come and enjoy food\, music\, games and plenty of prizes and bike raffles. The event is free and open to the public.
URL:https://silvercityradio.com/event/casa-kiss-child-abuse-awareness-and-prevention-event/
LOCATION:KISS Building\, 1120 West Street\, Silver City\, NM\, 88062-1014\, United States
CATEGORIES:Entertainment,Food Event,Kids Event,Presentation,Training,Volunteers
END:VEVENT
END:VCALENDAR