BEGIN:VCALENDAR
VERSION:2.0
PRODID:-//Silver City Radio - ECPv6.3.3.1//NONSGML v1.0//EN
CALSCALE:GREGORIAN
METHOD:PUBLISH
X-WR-CALNAME:Silver City Radio
X-ORIGINAL-URL:https://silvercityradio.com
X-WR-CALDESC:Events for Silver City Radio
REFRESH-INTERVAL;VALUE=DURATION:PT1H
X-Robots-Tag:noindex
X-PUBLISHED-TTL:PT1H
BEGIN:VTIMEZONE
TZID:UTC
BEGIN:STANDARD
TZOFFSETFROM:+0000
TZOFFSETTO:+0000
TZNAME:UTC
DTSTART:20190101T000000
END:STANDARD
END:VTIMEZONE
BEGIN:VEVENT
DTSTART;VALUE=DATE:20190209
DTEND;VALUE=DATE:20190210
DTSTAMP:20260424T174541
CREATED:20190201T202354Z
LAST-MODIFIED:20190201T204452Z
UID:10001038-1549670400-1549756799@silvercityradio.com
SUMMARY:Boy Scout Troop #114 Food Drive
DESCRIPTION:Boy Scout Troop #114 in Silver City will be collecting non-perishable food\, as part of the annual Scouting for Food drive starting at 8:00 A.M. on Saturday\, February 9th. The goal is 16 cans of food per Scout\, which works out to about 14 pounds. If you would like to donate earlier\, or have the scouts come to your neighborhood\, please call Scout Master Jason at 575- 519-0566 to make arrangements. All donations stay local.
URL:https://silvercityradio.com/event/boy-scout-troop-114-food-drive/
CATEGORIES:Kids Event,Volunteers
END:VEVENT
BEGIN:VEVENT
DTSTART;TZID=UTC:20190218T100000
DTEND;TZID=UTC:20190218T180000
DTSTAMP:20260424T174541
CREATED:20190213T161927Z
LAST-MODIFIED:20190213T163457Z
UID:10001064-1550484000-1550512800@silvercityradio.com
SUMMARY:Volunteer Income Tax Assistance Program
DESCRIPTION:Western New Mexico University students are offering tax help to seniors and low-income families from now until April 4th. This free service\, called the “Volunteer Income Tax Assistance Program is for people whose household income is $56\,000 or less and for those who are 65 years or older. The service will be held at Light Hall on the WNMU campus located at 1000 West College Avenue on Mondays through Thursdays between 10:00 A.M and 6:00 P.M. Service is on a first-come\, first-serve basis. For more information\, visit sb.wnmu.edu.
URL:https://silvercityradio.com/event/volunteer-income-tax-assistance-program/
LOCATION:WNMU Light Hall\, 1000 West College Ave\, Silver City\, NM\, 88061\, United States
CATEGORIES:Volunteers
END:VEVENT
BEGIN:VEVENT
DTSTART;TZID=UTC:20190221T130000
DTEND;TZID=UTC:20190221T140000
DTSTAMP:20260424T174541
CREATED:20190213T164700Z
LAST-MODIFIED:20190213T165233Z
UID:10001074-1550754000-1550757600@silvercityradio.com
SUMMARY:Nonprofit Resource Group “Brown Bag Training”
DESCRIPTION:The next Nonprofit Resource Group “brown bag training” will be held on Thursday\, February 21st at 1:00 P.M. at Western New Mexico University’s Miller Library Conference Room\, located at 1000 West College Avenue. The Director of the Small Business Development Center will discuss the 990 IRS tax and why it’s important to nonprofits and organizations. The training is free\, but seating is limited. To RSVP\, email to NRG@frontier.us.org.
URL:https://silvercityradio.com/event/nonprofit-resource-group-brown-bag-training/
LOCATION:WNMU Miller Library
CATEGORIES:Training,Volunteers
END:VEVENT
BEGIN:VEVENT
DTSTART;TZID=UTC:20190225T100000
DTEND;TZID=UTC:20190225T180000
DTSTAMP:20260424T174541
CREATED:20190213T162050Z
LAST-MODIFIED:20190213T163305Z
UID:10001065-1551088800-1551117600@silvercityradio.com
SUMMARY:Volunteer Income Tax Assistance Program
DESCRIPTION:Western New Mexico University students are offering tax help to seniors and low-income families from now until April 4th. This free service\, called the “Volunteer Income Tax Assistance Program is for people whose household income is $56\,000 or less and for those who are 65 years or older. The service will be held at Light Hall on the WNMU campus located at 1000 West College Avenue on Mondays through Thursdays between 10:00 A.M and 6:00 P.M. Service is on a first-come\, first-serve basis. For more information\, visit sb.wnmu.edu.
URL:https://silvercityradio.com/event/volunteer-income-tax-assistance-program-2/
LOCATION:WNMU Light Hall\, 1000 West College Ave\, Silver City\, NM\, 88061\, United States
CATEGORIES:Volunteers
END:VEVENT
BEGIN:VEVENT
DTSTART;TZID=UTC:20190228T183000
DTEND;TZID=UTC:20190228T193000
DTSTAMP:20260424T174541
CREATED:20190213T163818Z
LAST-MODIFIED:20190213T163818Z
UID:10001071-1551378600-1551382200@silvercityradio.com
SUMMARY:Grant County Search and Rescue Meeting
DESCRIPTION:Grant County Search and Rescue meets the third Thursday each month at 6:30 P.M. on the second floor of the City Hall Annex Building located at 1203 North Hudson Street in Silver City. They are a professional\, all-volunteer team and welcome new members with outdoors skills to assist lost or injured individuals in Southwest New Mexico. For more contact Kyle at 575-538-5706.
URL:https://silvercityradio.com/event/grant-county-search-and-rescue-meeting/
LOCATION:City Hall Annex
CATEGORIES:Meeting,Volunteers
END:VEVENT
END:VCALENDAR