BEGIN:VCALENDAR
VERSION:2.0
PRODID:-//Silver City Radio - ECPv6.3.3.1//NONSGML v1.0//EN
CALSCALE:GREGORIAN
METHOD:PUBLISH
X-ORIGINAL-URL:https://silvercityradio.com
X-WR-CALDESC:Events for Silver City Radio
REFRESH-INTERVAL;VALUE=DURATION:PT1H
X-Robots-Tag:noindex
X-PUBLISHED-TTL:PT1H
BEGIN:VTIMEZONE
TZID:UTC
BEGIN:STANDARD
TZOFFSETFROM:+0000
TZOFFSETTO:+0000
TZNAME:UTC
DTSTART:20150101T000000
END:STANDARD
TZID:UTC
BEGIN:STANDARD
TZOFFSETFROM:+0000
TZOFFSETTO:+0000
TZNAME:UTC
DTSTART:20150101T000000
END:STANDARD
END:VTIMEZONE
BEGIN:VEVENT
DTSTART;TZID=UTC:20151217T100000
DTEND;TZID=UTC:20151217T120000
DTSTAMP:20260423T010154
CREATED:20151208T171205Z
LAST-MODIFIED:20151208T171205Z
UID:10000146-1450346400-1450353600@silvercityradio.com
SUMMARY:Living With Alzheimer's Late Stages
DESCRIPTION:“Living with Alzheimer’s for Caregivers: Late Stages” is a free presentation by the Alzheimer’s Association\, New Mexico Chapter to be held December 17th from 10 am to noon at the Deming Senior Center.  Call 647-3868
URL:https://silvercityradio.com/event/living-with-alzheimers-late-stages/
LOCATION:Deming Senior Center\, 800 S Granite St\, Deming\, NM\, 88030\, United States
CATEGORIES:Adult Event,Presentation,Training
END:VEVENT
BEGIN:VEVENT
DTSTART;TZID=UTC:20151210T100000
DTEND;TZID=UTC:20151210T120000
DTSTAMP:20260423T010154
CREATED:20151208T164120Z
LAST-MODIFIED:20151208T164120Z
UID:10000135-1449741600-1449748800@silvercityradio.com
SUMMARY:Living with Alzheimer's Middle Stages
DESCRIPTION:Living With Alzheimer’s for Caregivers\, Middle States\, is a free presentation by the Alzheimer’s Association\, New Mexico Chapter\, that will be offered December 10th from 10 am to noon at the Deming Senior Center. Call 647-3868
URL:https://silvercityradio.com/event/living-with-alzheimers-middle-stages/
LOCATION:Deming Senior Center\, 800 S Granite St\, Deming\, NM\, 88030\, United States
CATEGORIES:Adult Event,Training
END:VEVENT
BEGIN:VEVENT
DTSTART;TZID=UTC:20151024T100000
DTEND;TZID=UTC:20151024T120000
DTSTAMP:20260423T010154
CREATED:20151014T171118Z
LAST-MODIFIED:20151014T171118Z
UID:10000127-1445680800-1445688000@silvercityradio.com
SUMMARY:Beekeeping Workshop
DESCRIPTION:The New Mexico Beekeepers Association and the Grant County Extension Service are sponsoring a basic beekeeping workshop on October 24th at the Grant County Extension Office from 10 to noon.  For experienced beekeepers\, there will be additional support on the 23rd from 3 to 5.  Call 388-1559
URL:https://silvercityradio.com/event/beekeeping-workshop/
LOCATION:Grant County Extension Office\, 2610 North Silver Street\, Silver City\, NM\, 88061\, United States
CATEGORIES:Training
END:VEVENT
BEGIN:VEVENT
DTSTART;TZID=UTC:20151023T110000
DTEND;TZID=UTC:20151023T130000
DTSTAMP:20260423T010154
CREATED:20151014T170938Z
LAST-MODIFIED:20151014T170938Z
UID:10000125-1445598000-1445605200@silvercityradio.com
SUMMARY:"Warning Signs of Alzheimer's"Class
DESCRIPTION:The warning signs of Alzheimer’s disease will be the subject of a free class offered by The Alzheimer’s Association\, New Mexico Chapter on Friday\, October 23rd\, 11am\, at the Lordsburg Senior Center\, 532 DeMoss St.\, Lordsburg\, NM 88045.  To register call 647-3868
URL:https://silvercityradio.com/event/warning-signs-of-alzheimersclass/
LOCATION:Lordsburg Senior Center\, 532 DeMoss St\, Lordsburg\, NM\, 88045\, United States
CATEGORIES:Training
END:VEVENT
BEGIN:VEVENT
DTSTART;TZID=UTC:20151021T101500
DTEND;TZID=UTC:20151021T121500
DTSTAMP:20260423T010154
CREATED:20151014T170630Z
LAST-MODIFIED:20151014T170630Z
UID:10000123-1445422500-1445429700@silvercityradio.com
SUMMARY:"Basics of Alzheimer's Disease" Class
DESCRIPTION:“The Basics of Alzheimer’s Disease” is the title of a FREE class offered by The Alzheimer’s Association\, New Mexico Chapter on October 21st from 10:15am – 12:15pm at the Silver City Senior Center\, 205 W. Victoria St.  To register call 647-3868
URL:https://silvercityradio.com/event/basics-of-alzheimers-disease-class/
LOCATION:Silver City Senior Center\, 205 West Victoria Street\, Silver City\, NM\, 88061\, United States
CATEGORIES:Training
END:VEVENT
BEGIN:VEVENT
DTSTART;VALUE=DATE:20150717
DTEND;VALUE=DATE:20150719
DTSTAMP:20260423T010154
CREATED:20150714T155940Z
LAST-MODIFIED:20150714T155940Z
UID:10000096-1437091200-1437263999@silvercityradio.com
SUMMARY:Silver City Fiber Arts Festival
DESCRIPTION:The Silver City Fiber Arts Festival will be held Friday and Saturday\, July 17th and 18th from 10 am to 5 pm at the Grant County Business and Conference Center.  The festival will feature 30 juried vendors\, 17 special exhibits\, and 13 classes\, workshops\, and more.  Call 535-2613
URL:https://silvercityradio.com/event/silvercityfiberartsfestival/
LOCATION:Grant County Veteran’s Memorial Convention and Conference Center\, 1400 Highway 180 East\, Silver City\, NM\, 88061\, United States
CATEGORIES:Adult Event,Presentation,Training
END:VEVENT
BEGIN:VEVENT
DTSTART;TZID=UTC:20150708T101500
DTEND;TZID=UTC:20150708T121500
DTSTAMP:20260423T010154
CREATED:20150630T153420Z
LAST-MODIFIED:20150630T153420Z
UID:10000090-1436350500-1436357700@silvercityradio.com
SUMMARY:Savvy Caregiver Program Starts
DESCRIPTION:The Savvy Caregiver Program 7-week free course offered to educate those caring for people with Alzheimer’s disease begins July 8th.  Classes are held from 10:15 to 12:15 at the Silver City Senior Center.  Call 800-272-3900
URL:https://silvercityradio.com/event/savvy-caregiver-program-starts/
LOCATION:Silver City Senior Center\, 205 West Victoria Street\, Silver City\, NM\, 88061\, United States
CATEGORIES:Training
END:VEVENT
BEGIN:VEVENT
DTSTART;TZID=UTC:20150612T113000
DTEND;TZID=UTC:20150612T130000
DTSTAMP:20260423T010154
CREATED:20150603T184435Z
LAST-MODIFIED:20150603T184435Z
UID:10000083-1434108600-1434114000@silvercityradio.com
SUMMARY:The Warning Signs of Alzheimer's
DESCRIPTION:The warning signs of Alzheimer’s disease will be the subject of a free class offered by The Alzheimer’s Association\, New Mexico Chapter at 11:30 am on June 12th at the Silver City Senior Center.  Call 1-800-272-3900
URL:https://silvercityradio.com/event/the-warning-signs-of-alzheimers/
LOCATION:Silver City Senior Center\, 205 West Victoria Street\, Silver City\, NM\, 88061\, United States
CATEGORIES:Adult Event,Training
END:VEVENT
BEGIN:VEVENT
DTSTART;TZID=UTC:20150225T083000
DTEND;TZID=UTC:20150225T123000
DTSTAMP:20260423T010154
CREATED:20150223T232517Z
LAST-MODIFIED:20150223T232517Z
UID:10000044-1424853000-1424867400@silvercityradio.com
SUMMARY:AARP Safe Driving Class
DESCRIPTION:The AARP Safe Driving Class will be held February 25th from 8:30 am to 12:30 pm at the First Presbyterian Church.  The cost is $15 for AARP members and $20 for non-members.  Class is open to anyone 55 years and older.  Call 590-0540 to register
URL:https://silvercityradio.com/event/aarp-safe-driving-class/
LOCATION:First Presbyterian Church\, 1915 North Swan Street\, Silver City\, NM\, 88061\, United States
CATEGORIES:Training
END:VEVENT
END:VCALENDAR