BEGIN:VCALENDAR
VERSION:2.0
PRODID:-//Silver City Radio - ECPv6.3.3.1//NONSGML v1.0//EN
CALSCALE:GREGORIAN
METHOD:PUBLISH
X-ORIGINAL-URL:https://silvercityradio.com
X-WR-CALDESC:Events for Silver City Radio
REFRESH-INTERVAL;VALUE=DURATION:PT1H
X-Robots-Tag:noindex
X-PUBLISHED-TTL:PT1H
BEGIN:VTIMEZONE
TZID:UTC
BEGIN:STANDARD
TZOFFSETFROM:+0000
TZOFFSETTO:+0000
TZNAME:UTC
DTSTART:20180101T000000
END:STANDARD
END:VTIMEZONE
BEGIN:VEVENT
DTSTART;TZID=UTC:20180313T080000
DTEND;TZID=UTC:20180313T170000
DTSTAMP:20260420T084116
CREATED:20180313T232234Z
LAST-MODIFIED:20180313T232234Z
UID:10000784-1520928000-1520960400@silvercityradio.com
SUMMARY:Mountain Bike Ride/Little Walnut Picnic Grounds
DESCRIPTION:Join in on a mountain bike ride at the Little Walnut Picnic Grounds on Tuesday\, April 3rd at 5:15 P.M. Meet at the Murray Ryan Visitors Center at 201 North Hudson Street in Silver City and carpool out for a 1 ½ hour ride at an intermediate level of difficulty.
URL:https://silvercityradio.com/event/mountain-bike-ride-little-walnut-picnic-grounds/
LOCATION:NM
CATEGORIES:Health Event,Sports
END:VEVENT
END:VCALENDAR