BEGIN:VCALENDAR
VERSION:2.0
PRODID:-//Silver City Radio - ECPv6.3.3.1//NONSGML v1.0//EN
CALSCALE:GREGORIAN
METHOD:PUBLISH
X-ORIGINAL-URL:https://silvercityradio.com
X-WR-CALDESC:Events for Silver City Radio
REFRESH-INTERVAL;VALUE=DURATION:PT1H
X-Robots-Tag:noindex
X-PUBLISHED-TTL:PT1H
BEGIN:VTIMEZONE
TZID:UTC
BEGIN:STANDARD
TZOFFSETFROM:+0000
TZOFFSETTO:+0000
TZNAME:UTC
DTSTART:20170101T000000
END:STANDARD
END:VTIMEZONE
BEGIN:VEVENT
DTSTART;TZID=UTC:20170610T110000
DTEND;TZID=UTC:20170610T150000
DTSTAMP:20260425T103549
CREATED:20170523T153757Z
LAST-MODIFIED:20170523T153757Z
UID:10000644-1497092400-1497106800@silvercityradio.com
SUMMARY:HMS Jump Into Summer!
DESCRIPTION:Join Hidalgo Medical Services at Gough Park in Silver City on Saturday\, June 10th from 11 am to 3 pm for the 9th annual Jump Into Summer Family Fun Day!  The event highlights the importance of family fitness and nutrition through fun activities\, games and booths
URL:https://silvercityradio.com/event/hms-jump-into-summer/
LOCATION:Gough Park
CATEGORIES:Entertainment,Health Event,Kids Event,Sports
END:VEVENT
END:VCALENDAR