BEGIN:VCALENDAR
VERSION:2.0
PRODID:-//Silver City Radio - ECPv6.3.3.1//NONSGML v1.0//EN
CALSCALE:GREGORIAN
METHOD:PUBLISH
X-WR-CALNAME:Silver City Radio
X-ORIGINAL-URL:https://silvercityradio.com
X-WR-CALDESC:Events for Silver City Radio
REFRESH-INTERVAL;VALUE=DURATION:PT1H
X-Robots-Tag:noindex
X-PUBLISHED-TTL:PT1H
BEGIN:VTIMEZONE
TZID:UTC
BEGIN:STANDARD
TZOFFSETFROM:+0000
TZOFFSETTO:+0000
TZNAME:UTC
DTSTART:20170101T000000
END:STANDARD
END:VTIMEZONE
BEGIN:VEVENT
DTSTART;VALUE=DATE:20171014
DTEND;VALUE=DATE:20171015
DTSTAMP:20260423T145135
CREATED:20171002T225216Z
LAST-MODIFIED:20171002T225228Z
UID:10000720-1507939200-1508025599@silvercityradio.com
SUMMARY:Gila Monster Grand Fondo
DESCRIPTION:Silver City Tour of the Gila invites you to their fall event\, the “Gila Monster Gran Fondo”. This year’s annual event will happen on Saturday\, October 14th. Come “ride like a pro for day” in the beautiful iconic Gila this fall. Many new activities are being planned to make this an exceptional experience for amateur and recreational riders and their families and friends. For more information call 575-590-0203 or to register\, visit tourofthegila.com.
URL:https://silvercityradio.com/event/gila-monster-grand-fondo/
LOCATION:NM
CATEGORIES:Sports
END:VEVENT
END:VCALENDAR