BEGIN:VCALENDAR
VERSION:2.0
PRODID:-//Silver City Radio - ECPv6.3.3.1//NONSGML v1.0//EN
CALSCALE:GREGORIAN
METHOD:PUBLISH
X-WR-CALNAME:Silver City Radio
X-ORIGINAL-URL:https://silvercityradio.com
X-WR-CALDESC:Events for Silver City Radio
REFRESH-INTERVAL;VALUE=DURATION:PT1H
X-Robots-Tag:noindex
X-PUBLISHED-TTL:PT1H
BEGIN:VTIMEZONE
TZID:UTC
BEGIN:STANDARD
TZOFFSETFROM:+0000
TZOFFSETTO:+0000
TZNAME:UTC
DTSTART:20190101T000000
END:STANDARD
END:VTIMEZONE
BEGIN:VEVENT
DTSTART;TZID=UTC:20190603T150000
DTEND;TZID=UTC:20190603T173000
DTSTAMP:20260420T235630
CREATED:20190508T182959Z
LAST-MODIFIED:20190508T182959Z
UID:10001157-1559574000-1559583000@silvercityradio.com
SUMMARY:Free Gardening Workshop Series "All About Trees"
DESCRIPTION:The Grant County Cooperative Extension Service is offering a Gardening Workshop Series “All About Trees” on Monday\, June 3rd from 3:00 to 5:30 P.M. at the 2610 North Silver Street location. There will be a lecture from guest Marisa Thompson\, NMSU Extension Horticulture Specialist. Topics to be covered include: Planting; Maintenance; Pest Control; and Common Tree Issues.
URL:https://silvercityradio.com/event/free-gardening-workshop-series-all-about-trees/
LOCATION:Grant County Cooperative Extension Office
CATEGORIES:Presentation
END:VEVENT
BEGIN:VEVENT
DTSTART;TZID=UTC:20190606T173000
DTEND;TZID=UTC:20190606T183000
DTSTAMP:20260420T235630
CREATED:20190418T180314Z
LAST-MODIFIED:20190418T195123Z
UID:10001125-1559842200-1559845800@silvercityradio.com
SUMMARY:Hidalgo Medical Services "Parenting Love & Logic" Free Series
DESCRIPTION:Hidalgo Medical Services is hosting a FREE six session parenting program titled\, “Parenting the Love & Logic Way”\, every Thursday beginning May 2nd \, running through June 6th  \, from 5:30 to 6:30 P.M. at the HMS Silver City Community Health Care Center in Conference Room 2\, located at 1007 North Pope Street in Silver City. The program is designed to give parents practical skills that can be used immediately. Contact Donna Sandoval\, Care Team Coordinator\, at 575-597-2424. Child care is not provided.
URL:https://silvercityradio.com/event/hidalgo-medical-services-parenting-love-logic-free-series/
LOCATION:HMS Silver City Community Health Care Center\, 1007 North Pope Street\, Silver City\, NM\, 88062-1014\, United States
CATEGORIES:Adult Event,Presentation
END:VEVENT
BEGIN:VEVENT
DTSTART;TZID=UTC:20190612T180000
DTEND;TZID=UTC:20190612T190000
DTSTAMP:20260420T235630
CREATED:20190530T220246Z
LAST-MODIFIED:20190530T220246Z
UID:10001180-1560362400-1560366000@silvercityradio.com
SUMMARY:Grant County Beekeepers Meeting
DESCRIPTION:The next monthly meeting of the Grant County Beekeepers will be on Wednesday\, June 12th at 6:00 pm at the Commons Building located at 501 East 13th Street in Silver City.  There will a showing of some short videos and several other topics will be covered.
URL:https://silvercityradio.com/event/grant-county-beekeepers-meeting/
LOCATION:The Commons\, 501 E. 13th St.\, Silver City\, NM\, 88061\, United States
CATEGORIES:Meeting,Presentation
END:VEVENT
BEGIN:VEVENT
DTSTART;TZID=UTC:20190614T190000
DTEND;TZID=UTC:20190614T200000
DTSTAMP:20260420T235630
CREATED:20190610T192830Z
LAST-MODIFIED:20190610T193039Z
UID:10001186-1560538800-1560542400@silvercityradio.com
SUMMARY:American Legion Flag Disposal Ceremony/Flag Day
DESCRIPTION:The Allingham-Golding American Legion Post #18 will be holding a dignified flag disposal ceremony this Friday\, June 14th at 7:00 P.M. at their location on 409 West College Street in Silver City. The public is invited to attend the ceremony\, and in addition\, are encouraged to drop off used or unserviceable flags for future disposal.
URL:https://silvercityradio.com/event/american-legion-flag-disposal-ceremony-flag-day/
CATEGORIES:Holiday,Presentation
END:VEVENT
BEGIN:VEVENT
DTSTART;TZID=UTC:20190615T120000
DTEND;TZID=UTC:20190615T150000
DTSTAMP:20260420T235630
CREATED:20190530T222429Z
LAST-MODIFIED:20190530T222429Z
UID:10001185-1560600000-1560610800@silvercityradio.com
SUMMARY:Silver City Museum "Rodeo Day"
DESCRIPTION:The Silver City Museum is providing Rodeo-related fun for the entire family with “Rodeo Day” on Saturday\, June 15th from 12:00 noon to 3:00 P.M. at the museum located at 312 West Broadway in Silver City. This free event celebrates ranching in Grant County and features live cowboy poetry\, free raffle for western jewelry\, and straw bale dummy roping for the kids.
URL:https://silvercityradio.com/event/silver-city-museum-rodeo-day/
LOCATION:Silver City Museum\, 312 W. Broadway\, Silver City\, NM\, 88061\, United States
CATEGORIES:Entertainment,Presentation
END:VEVENT
BEGIN:VEVENT
DTSTART;TZID=UTC:20190617T130000
DTEND;TZID=UTC:20190617T170000
DTSTAMP:20260420T235630
CREATED:20190614T170925Z
LAST-MODIFIED:20190614T170925Z
UID:10001190-1560776400-1560790800@silvercityradio.com
SUMMARY:4-H Contest Practice Fest
DESCRIPTION:Grant County 4-H is presenting a “4-H Contest Practice-Fest” on Monday\, June 17th from 1:00 to 5:00 P.M. at the Grant County Extension Office located at 2610 North Silver Street in Silver City. There will be livestock judging\, consumer decision making\, and horticulture competitions. This is a free event. For more information\, call 575-388-1559.
URL:https://silvercityradio.com/event/4-h-contest-practice-fest/
LOCATION:Grant County Cooperative Extension Office
CATEGORIES:Kids Event,Presentation
END:VEVENT
BEGIN:VEVENT
DTSTART;VALUE=DATE:20190621
DTEND;VALUE=DATE:20190624
DTSTAMP:20260420T235630
CREATED:20190425T175036Z
LAST-MODIFIED:20190425T175036Z
UID:10001143-1561075200-1561334399@silvercityradio.com
SUMMARY:Fiesta Latina 2019
DESCRIPTION:Come to Fiesta Latina 2019\, June 21st through the 23rd at Western New Mexico University in Silver City. This is an exciting event for the entire family featuring: an Artisan Mercado with 40 traditional master artisans from all across Mexico; a free music stage will feature entertainment throughout the weekend; and a Transcending Borders Film/Discussion Series that will showcase documentaries on five visiting artisans. Ticketed events include an opening night dance\, tequila tasting\, workshops\, demonstrations\, children’s activities and Little Joe Y La Familia in concert. For more information\, visit fiestalatina.org.
URL:https://silvercityradio.com/event/fiesta-latina-2019/
LOCATION:Western New Mexico University\, Silver City\, NM\, 88061\, United States
CATEGORIES:Concert,Craft,Entertainment,Food Event,Kids Event,Presentation
END:VEVENT
BEGIN:VEVENT
DTSTART;TZID=UTC:20190622T090000
DTEND;TZID=UTC:20190622T223000
DTSTAMP:20260420T235630
CREATED:20190617T230701Z
LAST-MODIFIED:20190617T230701Z
UID:10001192-1561194000-1561242600@silvercityradio.com
SUMMARY:U.S Congressional Medal Award Ceremony
DESCRIPTION:Military veterans and their families are welcome to attend a US Congressional Medal Award Ceremony posthumously honoring Word War II Veteran\, Jeff Wysong\, on Saturday June 22nd\, 9:00 A.M. at the American Legion Post 18\, located at 409 West College Avenue in Silver City. Mr. Wysong’s nephew will be accepting the award on his behalf. Seating will be limited.
URL:https://silvercityradio.com/event/u-s-congressional-medal-award-ceremony/
LOCATION:Allingham-Golding American Legion Post #18\, 409 W. College Avenue\, Silver City
CATEGORIES:Presentation
END:VEVENT
BEGIN:VEVENT
DTSTART;TZID=UTC:20190626T180000
DTEND;TZID=UTC:20190626T193000
DTSTAMP:20260420T235630
CREATED:20190614T170141Z
LAST-MODIFIED:20190614T170141Z
UID:10001189-1561572000-1561577400@silvercityradio.com
SUMMARY:Livestock Feed Workshop
DESCRIPTION:There will be a MoorMan’s ShowTec Feed Workshop on Wednesday\, June 26th from 6:00 to 7:30 P.M. hosted at the Grant County Extension Office located at 2610 North Silver Street in Silver City. The guest lecture will feature topics on show animal nutrition\, supplements\, and feed strategies. For more information\, call 575-388-1559.
URL:https://silvercityradio.com/event/livestock-feed-workshop/
LOCATION:Grant County Extension Office\, 2610 North Silver Street\, Silver City\, NM\, 88061\, United States
CATEGORIES:Presentation
END:VEVENT
BEGIN:VEVENT
DTSTART;TZID=UTC:20190627T183000
DTEND;TZID=UTC:20190627T210000
DTSTAMP:20260420T235630
CREATED:20190619T224550Z
LAST-MODIFIED:20190619T224550Z
UID:10001204-1561660200-1561669200@silvercityradio.com
SUMMARY:Fort Bayard Historic Preservation Society Summer Film Series
DESCRIPTION:The Fort Bayard Historic Preservation Society summer film series\, entitled “Perspectives on Native American Leadership in War and Peace.” will be showing the film “Geronimo” on Thursday\, June 27th at 7:00 P.M. in the Santa Clara National Guard Armory located at\n11990 US-180 in Santa Clara.  Doors open at 6:30. Admission is free and donations are accepted.
URL:https://silvercityradio.com/event/fort-bayard-historic-preservation-society-summer-film-series/
LOCATION:Santa Clara National Guard Armory
CATEGORIES:Entertainment,Presentation
END:VEVENT
BEGIN:VEVENT
DTSTART;TZID=UTC:20190709T103000
DTEND;TZID=UTC:20190709T113000
DTSTAMP:20260420T235630
CREATED:20190628T154901Z
LAST-MODIFIED:20190628T162350Z
UID:10001057-1562668200-1562671800@silvercityradio.com
SUMMARY:Asombro Institute for Science Education Presentation
DESCRIPTION:The “Asombro Institute for Science Education” from Las Cruces will be at the Silver City Public Library located at 515 West College Avenue on Tuesday\, July 9th from 10:30 to 11:30 A.M. The presentation will be “Animal Adaptations” and will cover desert animals and their physical and behavioral adaptations. This event will include some live animals for observation.
URL:https://silvercityradio.com/event/asombro-institute-for-science-education-presentation/
LOCATION:Silver City Public LIbrary\, 515 W. College Avenue\, Silver City\, NM\, United States
CATEGORIES:Kids Event,Presentation
END:VEVENT
BEGIN:VEVENT
DTSTART;TZID=UTC:20190713T203000
DTEND;TZID=UTC:20190713T223000
DTSTAMP:20260420T235630
CREATED:20190703T223014Z
LAST-MODIFIED:20190703T223014Z
UID:10001059-1563049800-1563057000@silvercityradio.com
SUMMARY:Full Moon Hike at Gila Cliff Dwellings
DESCRIPTION:There will be a “Full Moon Hike” at the Gila Cliff Dwellings the evening Saturday\, July 13th. The program lasts for 90 minutes and reservations are required. Call the Gila Visitor Center at 575-536-9461.
URL:https://silvercityradio.com/event/full-moon-hike-at-gila-cliff-dwellings-2/
LOCATION:Gila Cliff Dwellings National Monument\, NM\, 88061\, United States
CATEGORIES:Presentation
END:VEVENT
BEGIN:VEVENT
DTSTART;TZID=UTC:20190718T120000
DTEND;TZID=UTC:20190718T130000
DTSTAMP:20260420T235630
CREATED:20190718T202819Z
LAST-MODIFIED:20190718T202819Z
UID:10001215-1563451200-1563454800@silvercityradio.com
SUMMARY:Silver City Rotary Meeting Featuring Mayor Ken Ladner
DESCRIPTION:Mayor Ken Ladner will discuss how the Silver City Rotary Club and the Town of Silver City can work together for the betterment of the community at the Tuesday\, July 23rd Rotary meeting. Members of the public are always invited to attend Rotary Club meetings that are of interest to them.  The Silver City Rotary Club meets every Tuesday for lunch in the Sunset Room of the WNMU Student Cafeteria in the WNMU Student Memorial Building at 1000 College Avenue.  There is no charge to attend the meeting\, but guests are asked to contribute $10 if they wish to join the Rotarians in eating a hot lunch with salad\, dessert\, and coffee or iced tea.  Lunch begins at 12:15 p.m.\, the presentation starts at 12:30 p.m. and ends at 1 p.m.
URL:https://silvercityradio.com/event/silver-city-rotary-meeting-featuring-mayor-ken-ladner/
LOCATION:WNMU Student Cafeteria Sunset Room\, 1000 W. College Avenue\, Silver City\, NM\, 88062-1014\, United States
CATEGORIES:Meeting,Presentation
END:VEVENT
BEGIN:VEVENT
DTSTART;TZID=UTC:20190718T183000
DTEND;TZID=UTC:20190718T203000
DTSTAMP:20260420T235630
CREATED:20190703T223210Z
LAST-MODIFIED:20190703T223302Z
UID:10001048-1563474600-1563481800@silvercityradio.com
SUMMARY:Fort Bayard Summer Film Series
DESCRIPTION:The Fort Bayard Historic Preservation Society summer film series\, entitled “Perspectives on Native American Leadership in War and Peace.” will be showing the documentary film narrated by Robert Redford titled “Incident at Oglala”\, on Thursday\, July 18th at 7:00 P.M. in the Santa Clara National Guard Armory located at 11990 US-180 in Santa Clara.  Doors open at 6:30. Admission is free and donations are accepted.
URL:https://silvercityradio.com/event/fort-bayard-summer-film-series-9/
LOCATION:Santa Clara Armory
CATEGORIES:Entertainment,Presentation
END:VEVENT
BEGIN:VEVENT
DTSTART;VALUE=DATE:20190721
DTEND;VALUE=DATE:20190722
DTSTAMP:20260420T235630
CREATED:20190709T205758Z
LAST-MODIFIED:20190709T205758Z
UID:10001047-1563667200-1563753599@silvercityradio.com
SUMMARY:Gila Native Plant Society Field Trip
DESCRIPTION:The Gila Native Plant Society is having a field trip to the Pinos Altos Range on Sunday\, July 21st.  Meet at 8:00 A.M. in the south parking lot of the WNMU Fine Arts Center Theatre for carpooling. GNPS will have field trips every month through September on the third Sunday of the month to explore the diversity of our native flora. Free and open to the public. For further information check our website at www.gilanps.org/events/field-trips/ or contact hannablood@gmail.com.
URL:https://silvercityradio.com/event/gila-native-plant-society-field-trip/
CATEGORIES:Presentation
END:VEVENT
BEGIN:VEVENT
DTSTART;TZID=UTC:20190725T183000
DTEND;TZID=UTC:20190725T210000
DTSTAMP:20260420T235630
CREATED:20190710T163612Z
LAST-MODIFIED:20190710T163612Z
UID:10001208-1564079400-1564088400@silvercityradio.com
SUMMARY:Fort Bayard Historic Preservation Society Summer Film Series
DESCRIPTION:The Fort Bayard Historic Preservation Society summer film series\, entitled “Perspectives on Native American Leadership in War and Peace.” will be showing the film “Trudell” on Thursday\, July 25th at 7:00 P.M. in the Santa Clara National Guard Armory located at 11990 US-180 in Santa Clara.  Doors open at 6:30. Admission is free and donations are accepted.
URL:https://silvercityradio.com/event/fort-bayard-historic-preservation-society-summer-film-series-3/
LOCATION:Santa Clara Armory
CATEGORIES:Presentation
END:VEVENT
BEGIN:VEVENT
DTSTART;TZID=UTC:20190801T183000
DTEND;TZID=UTC:20190801T210000
DTSTAMP:20260420T235630
CREATED:20190710T164028Z
LAST-MODIFIED:20190710T164028Z
UID:10001209-1564684200-1564693200@silvercityradio.com
SUMMARY:Fort Bayard Historical Preservation Summer Film Series
DESCRIPTION:The Fort Bayard Historic Preservation Society summer film series\, entitled “Perspectives on Native American Leadership in War and Peace.” will be showing the film “Smoke Signals” on Thursday\, August 1st at 7:00 P.M. in the Santa Clara National Guard Armory located at 11990 US-180 in Santa Clara.  Doors open at 6:30. Admission is free and donations are accepted.
URL:https://silvercityradio.com/event/fort-bayard-historical-preservation-summer-film-series/
LOCATION:Santa Clara Armory
CATEGORIES:Presentation
END:VEVENT
BEGIN:VEVENT
DTSTART;TZID=UTC:20190806T100000
DTEND;TZID=UTC:20190806T130000
DTSTAMP:20260420T235630
CREATED:20190712T170706Z
LAST-MODIFIED:20190726T193524Z
UID:10001212-1565085600-1565096400@silvercityradio.com
SUMMARY:Hidalgo Medical Services Hosts Legal Resources for the Elderly Free Legal Workshop in Silver City
DESCRIPTION:The Legal Resources for the Elderly Program is presenting Free Legal Workshops. The Silver City workshop is scheduled for Tuesday\, August 6th from 10:00 to 11:15 A.M.  at the Silver City Senior Center. After the presentation\, an attorney will be available only for the purpose of preparing Power of Attorneys and Advance Health Care Directives for free for people 55 and older. Advance registration is required for this part by calling (505)797-6005.
URL:https://silvercityradio.com/event/legal-resources-for-the-elderly-free-legal-workshop/
LOCATION:Silver City Senior Center\, 205 West Victoria Street\, Silver City\, NM\, 88061\, United States
CATEGORIES:Presentation
END:VEVENT
BEGIN:VEVENT
DTSTART;TZID=UTC:20190806T180000
DTEND;TZID=UTC:20190806T210000
DTSTAMP:20260420T235630
CREATED:20190619T223940Z
LAST-MODIFIED:20190619T223940Z
UID:10001203-1565114400-1565125200@silvercityradio.com
SUMMARY:2019 National Night Out in Deming
DESCRIPTION:Come to Luna County Courthouse Park located at 700 South Silver Street in Deming for the “2019 National Night Out” from 6:00 to 9:00 P.M. on Tuesday\, August 6th. This annual event sponsored by the Police and Community Partnerships offers free food\, drinks\, music\, games and more. This event is free and for the entire family.
URL:https://silvercityradio.com/event/2019-national-night-out-in-deming/
CATEGORIES:Entertainment,Food Event,Kids Event,Presentation
END:VEVENT
BEGIN:VEVENT
DTSTART;TZID=UTC:20190807T100000
DTEND;TZID=UTC:20190807T130000
DTSTAMP:20260420T235630
CREATED:20190712T171153Z
LAST-MODIFIED:20190726T193125Z
UID:10001213-1565172000-1565182800@silvercityradio.com
SUMMARY:Hidalgo Medical Services Hosts Legal Resources for the Elderly Program Free Workshop in Lordsburg
DESCRIPTION:The Legal Resources for the Elderly Program is presenting two Free Legal Workshops. The Lordsburg workshop is scheduled for Wednesday\, August 7th from 10:00 to 11:15 A.M. at the Ena Mitchell Senior Center. After the presentation\, an attorney will be available only for the purpose of preparing Power of Attorneys and Advance Health Care Directives for free for people 55 and older. Advance registration is required for this part by calling (505)797-6005.
URL:https://silvercityradio.com/event/legal-resources-for-the-elderly-program-free-workshop-in-lordsburg/
LOCATION:Ena Mitchell Senior Center\, 532 DeMoss Street\, Lordsburg\, NM\, United States
CATEGORIES:Presentation
END:VEVENT
BEGIN:VEVENT
DTSTART;TZID=UTC:20190808T183000
DTEND;TZID=UTC:20190808T210000
DTSTAMP:20260420T235630
CREATED:20190710T164233Z
LAST-MODIFIED:20190710T164710Z
UID:10001210-1565289000-1565298000@silvercityradio.com
SUMMARY:Fort Bayard Historic Preservation Society Summer Film Series
DESCRIPTION:The Fort Bayard Historic Preservation Society summer film series\, entitled “Perspectives on Native American Leadership in War and Peace.” will be showing the film “Dance Me Outside” on Thursday\, August 8th at 7:00 P.M. in the Santa Clara National Guard Armory located at 11990 US-180 in Santa Clara.  Doors open at 6:30. Admission is free and donations are accepted.
URL:https://silvercityradio.com/event/11181/
LOCATION:Santa Clara Armory
CATEGORIES:Presentation
END:VEVENT
BEGIN:VEVENT
DTSTART;TZID=UTC:20190810T170000
DTEND;TZID=UTC:20190810T210000
DTSTAMP:20260420T235630
CREATED:20190730T142230Z
LAST-MODIFIED:20190730T142230Z
UID:10001229-1565456400-1565470800@silvercityradio.com
SUMMARY:The Door Christian Fellowship Free Presentation
DESCRIPTION:There will be a live drama presentation titled “Shattered\, is There More to Life Than This?” at The Door Christian Fellowship Church on Saturday\, August 10th at 5:00 P.M. and 7:00 P.M. This presentation is free and open to the public and based on a true story. The Door is located at 1910 Peterson Drive\, in Silver City. For more information\, call 575-654-4675.
URL:https://silvercityradio.com/event/the-door-christian-fellowship-free-presentation/
LOCATION:The Door Christian Fellowship\, 1910 Peterson Drive\, Silver City\, 88061\, United States
CATEGORIES:Presentation
END:VEVENT
BEGIN:VEVENT
DTSTART;TZID=UTC:20190812T103000
DTEND;TZID=UTC:20190812T123000
DTSTAMP:20260420T235630
CREATED:20190709T150115Z
LAST-MODIFIED:20190709T151709Z
UID:10001053-1565605800-1565613000@silvercityradio.com
SUMMARY:Widowed and Single Persons of Grant County
DESCRIPTION:The Widowed and Single Persons of Grant County monthly meeting is Monday August 12th\, at 10:30 A.M. at Cross Point Assembly of God Church located at 11600 Hwy 180 East in Silver City. The guest speaker will be Niel McDonald discussing current finances. Cost for lunch is $12. All singles are welcome. For information call 575-537-3643.
URL:https://silvercityradio.com/event/widowed-and-single-persons-of-grant-county-5/
LOCATION:Cross Point Assembly of God Church
CATEGORIES:Adult Event,Meeting,Presentation
END:VEVENT
BEGIN:VEVENT
DTSTART;TZID=UTC:20190817T110000
DTEND;TZID=UTC:20190817T120000
DTSTAMP:20260420T235630
CREATED:20190723T161515Z
LAST-MODIFIED:20190723T161515Z
UID:10001217-1566039600-1566043200@silvercityradio.com
SUMMARY:Silver City Museum August Presentation
DESCRIPTION:The Silver City Museum\, on Saturday\, August 17th from 11:00 A.M to 12 P.M.\, as will be featuring Liz\, Mikols\, presenting an overview of the major historic eras and their influences in Silver City history\, focusing on various people and cultures that shaped Silver City from 1500 to 1900. This is a free event  open to the public in the Museum Annex building as a part of the Silver City Museum’s August activities.
URL:https://silvercityradio.com/event/silver-city-museum-august-presentation/
LOCATION:Silver City Museum Annex\, 302 W Broadway\, Silver City\, NM\, 88061\, United States
CATEGORIES:Presentation
END:VEVENT
BEGIN:VEVENT
DTSTART;TZID=UTC:20190817T183000
DTEND;TZID=UTC:20190817T203000
DTSTAMP:20260420T235630
CREATED:20190723T165215Z
LAST-MODIFIED:20190723T165215Z
UID:10001218-1566066600-1566073800@silvercityradio.com
SUMMARY:Fort Bayard Birthday Bash Presentation
DESCRIPTION:Fort Bayard will be celebrating their Birthday Bash on Saturday August 17th\, at 6:30 P.M. in the New Deal Theater\, featuring Sherry Robinson\, speaking on the “Mystery Apaches.” The event is free to the public and sponsored by the New Mexico Humanities Council Speakers Bureau and the Community Foundation of Southern New Mexico.
URL:https://silvercityradio.com/event/fort-bayard-birthday-bash-presentation/
LOCATION:Fort Bayard New Deal Theater\, Fort Bayard\, Santa Clara\, New Mexico
CATEGORIES:Presentation
END:VEVENT
BEGIN:VEVENT
DTSTART;TZID=UTC:20190830T110000
DTEND;TZID=UTC:20190830T140000
DTSTAMP:20260420T235630
CREATED:20190710T165313Z
LAST-MODIFIED:20190710T165313Z
UID:10001211-1567162800-1567173600@silvercityradio.com
SUMMARY:WNMU Veterans Resource Fair
DESCRIPTION:Western New Mexico University is hosting a Veterans Resource Fair on Friday\, August 30th from 11:00 A.M. to 2:00 P.M. at the WNMU PE Complex Patio in Silver City. Enjoy lunch and guest speakers to learn more about veteran services. There will be a free drawing for war memorabilia. Contact WNMU Veteran Services at 575-538-6208.
URL:https://silvercityradio.com/event/wnmu-veterans-resource-fair/
LOCATION:WNMU PE Complex\, College Avenue\, Silver City\, NM\, 88061\, United States
CATEGORIES:Health Event,Presentation
END:VEVENT
BEGIN:VEVENT
DTSTART;VALUE=DATE:20190831
DTEND;VALUE=DATE:20190903
DTSTAMP:20260420T235630
CREATED:20190807T165829Z
LAST-MODIFIED:20190807T165829Z
UID:10001238-1567209600-1567468799@silvercityradio.com
SUMMARY:36th Annual Rolling Stones Gem & Mineral Show
DESCRIPTION:Grant County Rolling Stones Gem & Mineral Society will hold their 36th Annual Gem & Mineral Show this weekend August 31st through September 2nd. This FREE event is great for the entire family. There will be a large assortment of vendors\, the Wheel of Fortune\, silent auction\, daily jewelry making classes\, and daily collecting field trips. Enjoy educational speakers from New Mexico Tech Mineral Museum and the Zuhl Museum. Come and visit the 36th Annual Gem & Mineral Show\, Saturday from 9:00 to 5:00\, Sunday from 10:00 to 5:00\, and Monday 10:00 to 4:00. All happening this Labor Day weekend at the Grant County Veteran’s Memorial Business and Conference Center\, next to Ace Hardware in Silver City.
URL:https://silvercityradio.com/event/36th-annual-rolling-stones-gem-mineral-show/
LOCATION:Grant County Veteran’s Memorial Business and Conference Center\, 3031 Highway 180 East\, Silver City\, NM\, United States
CATEGORIES:Entertainment,Presentation
END:VEVENT
BEGIN:VEVENT
DTSTART;TZID=UTC:20190904T173000
DTEND;TZID=UTC:20190904T190000
DTSTAMP:20260420T235630
CREATED:20190822T165130Z
LAST-MODIFIED:20190822T165130Z
UID:10001251-1567618200-1567623600@silvercityradio.com
SUMMARY:Deming Luna County Economic Development Membership Drive
DESCRIPTION:The Deming Luna County Economic Development group will be holding a 1st Annual Membership Drive\, on Wednesday\, September 4th from 5:30 to 7:00 P.M. at the La Fonda Restaurant. Their mission is to build and maintain a flourishing community by growing from within.
URL:https://silvercityradio.com/event/deming-luna-county-economic-development-membership-drive-3/
LOCATION:La Fonda Restuarant\, Deming\, United States
CATEGORIES:Presentation
END:VEVENT
BEGIN:VEVENT
DTSTART;TZID=UTC:20190913T080000
DTEND;TZID=UTC:20190913T153000
DTSTAMP:20260420T235630
CREATED:20190822T165525Z
LAST-MODIFIED:20190822T165525Z
UID:10001252-1568361600-1568388600@silvercityradio.com
SUMMARY:PFLAG Silver City Workshop for Educators
DESCRIPTION:PFLAG Silver City and Western New Mexico University School of Education are partnering to provide a free\, full-day workshop for educators on Friday\, September 13th\, from 8:00 A.M. to 3:30 P.M. entitled Creating Inclusive K-12 Schools for LGBTQ+ Students.  The workshop will take place in Room 212 of the Martinez-Fall building on the WNMU campus. Participation is limited to forty people\, call 575-590—8797 for more information.
URL:https://silvercityradio.com/event/pflag-silver-city-workshop-for-educators/
LOCATION:Martinez/Fall Building at WNMU\, Silver City\, United States
CATEGORIES:Presentation
END:VEVENT
BEGIN:VEVENT
DTSTART;TZID=UTC:20190913T130000
DTEND;TZID=UTC:20190913T153000
DTSTAMP:20260420T235630
CREATED:20190828T172617Z
LAST-MODIFIED:20190828T172617Z
UID:10001256-1568379600-1568388600@silvercityradio.com
SUMMARY:Luna County Regional Employer Workshop
DESCRIPTION:There will be a Regional Employer Workshop facilitated by the New Mexico Department of Workforce Solution for employers in Deming and Luna County on Friday\, September 13th from 1:00 to 3:30 P.M. and the Andres Z. Silva Conference Center located at 119 East Pine Street in Deming. The workshop is free but space is limited\, RSVP by calling the Deming Chamber of Commerce at 575-546-2674 \n 
URL:https://silvercityradio.com/event/luna-county-regional-employer-workshop/
LOCATION:Andres Z. Silva Conference Center\, 119 East Pine Street\, Deming\, NM\, United States
CATEGORIES:Presentation
END:VEVENT
END:VCALENDAR