BEGIN:VCALENDAR
VERSION:2.0
PRODID:-//Silver City Radio - ECPv6.3.3.1//NONSGML v1.0//EN
CALSCALE:GREGORIAN
METHOD:PUBLISH
X-WR-CALNAME:Silver City Radio
X-ORIGINAL-URL:https://silvercityradio.com
X-WR-CALDESC:Events for Silver City Radio
REFRESH-INTERVAL;VALUE=DURATION:PT1H
X-Robots-Tag:noindex
X-PUBLISHED-TTL:PT1H
BEGIN:VTIMEZONE
TZID:UTC
BEGIN:STANDARD
TZOFFSETFROM:+0000
TZOFFSETTO:+0000
TZNAME:UTC
DTSTART:20190101T000000
END:STANDARD
END:VTIMEZONE
BEGIN:VEVENT
DTSTART;TZID=UTC:20190413T100000
DTEND;TZID=UTC:20190413T130000
DTSTAMP:20260420T082355
CREATED:20190403T222241Z
LAST-MODIFIED:20190403T222241Z
UID:10001114-1555149600-1555160400@silvercityradio.com
SUMMARY:Love Your Library Day
DESCRIPTION:Literacy Link-Leamos and the Silver City Public Library are hosting “Love Your Library Day” on Saturday April 13th from 10:00 A.M.- 1:00 P.M at the library located at 515 W. College Avenue in Silver City. Each year Literacy Link-Leamos organizes a Love Your Library Day extravaganza to celebrate the Silver City Public Library\, where their office is located. Come enjoy live music\, cookies and snacks\, free books\, stories and activities for kids\, and door prizes! Replacement library cards will be issued for free on this day. Contact Literacy Link Leamos at 575-388-0892 for more information.
URL:https://silvercityradio.com/event/love-your-library-day-2/
LOCATION:Silver City Public LIbrary\, 515 W. College Avenue\, Silver City\, NM\, United States
CATEGORIES:Presentation
END:VEVENT
END:VCALENDAR