BEGIN:VCALENDAR
VERSION:2.0
PRODID:-//Silver City Radio - ECPv6.3.3.1//NONSGML v1.0//EN
CALSCALE:GREGORIAN
METHOD:PUBLISH
X-WR-CALNAME:Silver City Radio
X-ORIGINAL-URL:https://silvercityradio.com
X-WR-CALDESC:Events for Silver City Radio
REFRESH-INTERVAL;VALUE=DURATION:PT1H
X-Robots-Tag:noindex
X-PUBLISHED-TTL:PT1H
BEGIN:VTIMEZONE
TZID:UTC
BEGIN:STANDARD
TZOFFSETFROM:+0000
TZOFFSETTO:+0000
TZNAME:UTC
DTSTART:20190101T000000
END:STANDARD
END:VTIMEZONE
BEGIN:VEVENT
DTSTART;TZID=UTC:20190201T040000
DTEND;TZID=UTC:20190201T180000
DTSTAMP:20260422T154705
CREATED:20190111T235333Z
LAST-MODIFIED:20190111T235333Z
UID:10001006-1548993600-1549044000@silvercityradio.com
SUMMARY:Ranching in Grant County Exhibition & Reception
DESCRIPTION:The Silver City Museum is opening a new exhibition\, entitled “Ranching in Grant County.” This exhibit explores the history\, art\, social organizations\, sports\, and culture that surround this rural lifestyle. The museum will host an opening reception on Friday\, February 1st\, from 4:00 pm – 6:00 pm. The public is invited to attend and light refreshments will be served.  Admission is free with donations greatly appreciated.
URL:https://silvercityradio.com/event/ranching-in-grant-county-exhibition-reception/
LOCATION:Silver City Museum\, 312 W. Broadway\, Silver City\, NM\, 88061\, United States
CATEGORIES:Presentation
END:VEVENT
END:VCALENDAR