BEGIN:VCALENDAR
VERSION:2.0
PRODID:-//Silver City Radio - ECPv6.3.3.1//NONSGML v1.0//EN
CALSCALE:GREGORIAN
METHOD:PUBLISH
X-ORIGINAL-URL:https://silvercityradio.com
X-WR-CALDESC:Events for Silver City Radio
REFRESH-INTERVAL;VALUE=DURATION:PT1H
X-Robots-Tag:noindex
X-PUBLISHED-TTL:PT1H
BEGIN:VTIMEZONE
TZID:UTC
BEGIN:STANDARD
TZOFFSETFROM:+0000
TZOFFSETTO:+0000
TZNAME:UTC
DTSTART:20190101T000000
END:STANDARD
END:VTIMEZONE
BEGIN:VEVENT
DTSTART;TZID=UTC:20190130T100000
DTEND;TZID=UTC:20190130T120000
DTSTAMP:20260422T121218
CREATED:20190122T171137Z
LAST-MODIFIED:20190122T171137Z
UID:10001023-1548842400-1548849600@silvercityradio.com
SUMMARY:Friends of Rockhound State Park Meeting
DESCRIPTION:The Friends of Rockhound State Park invite you to their next meeting at 10:00 A.M. on Wednesday\, January 30th at the park’s visitor center. Special guest speaker will be Kevin Rodden\, big game biologist from the New Mexico Game and Fish Department to up-date us on the annual Ibex hunts that are going on in the Florida and Little Florida mountains. Friends’ meetings are always open to the public\, with free coffee and donuts available. For more information about Friends\, please visit us on Facebook/Friends of Rockhound State Park\, or call the park at 575-546-6182.
URL:https://silvercityradio.com/event/friends-of-rockhound-state-park-meeting/
LOCATION:Rockhound State Park Visitor Center\, 9880 Stirrup Road SE\, Deming\, NM\, United States
CATEGORIES:Presentation
END:VEVENT
END:VCALENDAR