BEGIN:VCALENDAR
VERSION:2.0
PRODID:-//Silver City Radio - ECPv6.3.3.1//NONSGML v1.0//EN
CALSCALE:GREGORIAN
METHOD:PUBLISH
X-WR-CALNAME:Silver City Radio
X-ORIGINAL-URL:https://silvercityradio.com
X-WR-CALDESC:Events for Silver City Radio
REFRESH-INTERVAL;VALUE=DURATION:PT1H
X-Robots-Tag:noindex
X-PUBLISHED-TTL:PT1H
BEGIN:VTIMEZONE
TZID:UTC
BEGIN:STANDARD
TZOFFSETFROM:+0000
TZOFFSETTO:+0000
TZNAME:UTC
DTSTART:20190101T000000
END:STANDARD
END:VTIMEZONE
BEGIN:VEVENT
DTSTART;TZID=UTC:20190105T180000
DTEND;TZID=UTC:20190105T193000
DTSTAMP:20260423T014826
CREATED:20181228T210158Z
LAST-MODIFIED:20181228T210158Z
UID:10000991-1546711200-1546716600@silvercityradio.com
SUMMARY:Stars-N-Parks Astronomy Program Event
DESCRIPTION:The National Public Observatory has announced its Stars-N-Parks astronomy program schedule. The next presentation is this Saturday starting at 6:25 P.M. at Rockhound State Park located at 9880 Stirrup Road Southwest in Deming. Attendees should arrive at the park at sunset so they can become familiar with their surroundings before nightfall. Visit nmparks.com for more information.
URL:https://silvercityradio.com/event/stars-n-parks-astronomy-program-event/
LOCATION:Rockhound State Park Visitor Center\, 9880 Stirrup Road SE\, Deming\, NM\, United States
CATEGORIES:Entertainment,Presentation
END:VEVENT
END:VCALENDAR