BEGIN:VCALENDAR
VERSION:2.0
PRODID:-//Silver City Radio - ECPv6.3.3.1//NONSGML v1.0//EN
CALSCALE:GREGORIAN
METHOD:PUBLISH
X-WR-CALNAME:Silver City Radio
X-ORIGINAL-URL:https://silvercityradio.com
X-WR-CALDESC:Events for Silver City Radio
REFRESH-INTERVAL;VALUE=DURATION:PT1H
X-Robots-Tag:noindex
X-PUBLISHED-TTL:PT1H
BEGIN:VTIMEZONE
TZID:UTC
BEGIN:STANDARD
TZOFFSETFROM:+0000
TZOFFSETTO:+0000
TZNAME:UTC
DTSTART:20190101T000000
END:STANDARD
END:VTIMEZONE
BEGIN:VEVENT
DTSTART;TZID=UTC:20190102T190000
DTEND;TZID=UTC:20190102T203000
DTSTAMP:20260423T014827
CREATED:20181226T181648Z
LAST-MODIFIED:20181226T181648Z
UID:10000990-1546455600-1546461000@silvercityradio.com
SUMMARY:Silver City Photo Club Meeting
DESCRIPTION:Silver City Photo Club’s monthly first Wednesday meeting on January 2nd at 7:00 P.M.\, will feature Jim Mathews discussing “Topaz”\, a stand-alone program for editing photos with a lot of clever artistic opportunities built in. Feel free to bring a few photos on a thumb drive to share with the group. The meeting will be held at the Unitarian Universalist Meeting House\, located at 3845 North Swan Street in Silver City. For more information\, call 860-670-4543.
URL:https://silvercityradio.com/event/silver-city-photo-club-meeting-4/
LOCATION:Unitarian Universalist Fellowship\, 3845 N Swan St\, Silver City\, NM\, 88061\, United States
CATEGORIES:Presentation
END:VEVENT
END:VCALENDAR