BEGIN:VCALENDAR
VERSION:2.0
PRODID:-//Silver City Radio - ECPv6.3.3.1//NONSGML v1.0//EN
CALSCALE:GREGORIAN
METHOD:PUBLISH
X-WR-CALNAME:Silver City Radio
X-ORIGINAL-URL:https://silvercityradio.com
X-WR-CALDESC:Events for Silver City Radio
REFRESH-INTERVAL;VALUE=DURATION:PT1H
X-Robots-Tag:noindex
X-PUBLISHED-TTL:PT1H
BEGIN:VTIMEZONE
TZID:UTC
BEGIN:STANDARD
TZOFFSETFROM:+0000
TZOFFSETTO:+0000
TZNAME:UTC
DTSTART:20180101T000000
END:STANDARD
END:VTIMEZONE
BEGIN:VEVENT
DTSTART;TZID=UTC:20181031T100000
DTEND;TZID=UTC:20181031T120000
DTSTAMP:20260423T122450
CREATED:20181023T203011Z
LAST-MODIFIED:20181023T203011Z
UID:10000941-1540980000-1540987200@silvercityradio.com
SUMMARY:Friends of Rockhound State Park Halloween
DESCRIPTION:The Friends of Rockhound State Park will be meeting on Wednesday\, October 31st at 10:00 A.M. at the park’s visitor center located at 9880 Stirrup Road Southeast in Deming. There will be a guest speaker telling Navajo tales\, and it’s Halloween so it could be spooky. Friends’ meetings are always open to the public\, with free coffee and donuts available\, as well as Halloween candy. For more information\, visit FriendsofRockhound.org.
URL:https://silvercityradio.com/event/friends-of-rockhound-state-park-halloween/
LOCATION:Rockhound State Park Visitor Center\, 9880 Stirrup Road SE\, Deming\, NM\, United States
CATEGORIES:Holiday,Presentation
END:VEVENT
END:VCALENDAR