BEGIN:VCALENDAR
VERSION:2.0
PRODID:-//Silver City Radio - ECPv6.3.3.1//NONSGML v1.0//EN
CALSCALE:GREGORIAN
METHOD:PUBLISH
X-WR-CALNAME:Silver City Radio
X-ORIGINAL-URL:https://silvercityradio.com
X-WR-CALDESC:Events for Silver City Radio
REFRESH-INTERVAL;VALUE=DURATION:PT1H
X-Robots-Tag:noindex
X-PUBLISHED-TTL:PT1H
BEGIN:VTIMEZONE
TZID:UTC
BEGIN:STANDARD
TZOFFSETFROM:+0000
TZOFFSETTO:+0000
TZNAME:UTC
DTSTART:20180101T000000
END:STANDARD
END:VTIMEZONE
BEGIN:VEVENT
DTSTART;TZID=UTC:20181026T173000
DTEND;TZID=UTC:20181026T203000
DTSTAMP:20260424T121514
CREATED:20181019T222633Z
LAST-MODIFIED:20181019T222633Z
UID:10000932-1540575000-1540585800@silvercityradio.com
SUMMARY:SW Chapter ACLU Annual Meeting
DESCRIPTION:The Annual Meeting of the Southwestern Chapter of ACLU of New Mexico will be held in the Silver City Woman’s Club on Silver Heights Boulevard (Highway 180) on Friday October 26\, 2018. The doors will open at 5:30 PM with light refreshments available. The program will begin at 6:00.
URL:https://silvercityradio.com/event/sw-chapter-aclu-annual-meeting/
CATEGORIES:Presentation
END:VEVENT
END:VCALENDAR