BEGIN:VCALENDAR
VERSION:2.0
PRODID:-//Silver City Radio - ECPv6.3.3.1//NONSGML v1.0//EN
CALSCALE:GREGORIAN
METHOD:PUBLISH
X-WR-CALNAME:Silver City Radio
X-ORIGINAL-URL:https://silvercityradio.com
X-WR-CALDESC:Events for Silver City Radio
REFRESH-INTERVAL;VALUE=DURATION:PT1H
X-Robots-Tag:noindex
X-PUBLISHED-TTL:PT1H
BEGIN:VTIMEZONE
TZID:UTC
BEGIN:STANDARD
TZOFFSETFROM:+0000
TZOFFSETTO:+0000
TZNAME:UTC
DTSTART:20180101T000000
END:STANDARD
END:VTIMEZONE
BEGIN:VEVENT
DTSTART;TZID=UTC:20181012T113000
DTEND;TZID=UTC:20181012T123000
DTSTAMP:20260424T121516
CREATED:20181003T175321Z
LAST-MODIFIED:20181003T175321Z
UID:10000914-1539343800-1539347400@silvercityradio.com
SUMMARY:Centro de Amistad Senior Center Solar Installation Celebration
DESCRIPTION:Join the Solar Power Installation Celebration and Ribbon Cutting of the Centro de Amistad Senior Center at 11:30 A.M.\, Friday October 12th at 107 N. East Street in Santa Clara. The solarization of the senior center is a transformational project that improves  the economic\, environmental\, and social resilience of the Village of Santa Clara community.
URL:https://silvercityradio.com/event/centro-de-amistad-senior-center-solar-installation-celebration/
LOCATION:Centro de Amistad Senior Center
CATEGORIES:Presentation
END:VEVENT
BEGIN:VEVENT
DTSTART;TZID=UTC:20181012T160000
DTEND;TZID=UTC:20181012T180000
DTSTAMP:20260424T121516
CREATED:20181003T145446Z
LAST-MODIFIED:20181003T145446Z
UID:10000904-1539360000-1539367200@silvercityradio.com
SUMMARY:Silver City Museum Exhibition Opening Reception
DESCRIPTION:The Silver City Museum is proud to announce that the museum will host the exhibition Allan Houser: Renowned 20th Century Warm Springs Chiricahua Apache Artist. The exhibition will open at 4 pm on Friday\, October 12\, 2018 and be on view until January 13\, 2019.The first look at the exhibition will be a special opening reception on Friday\, October 12th from 4:00 pm – 6:00 pm\, to which the public is invited.
URL:https://silvercityradio.com/event/silver-city-museum-exhibition-opening-reception/
CATEGORIES:Presentation
END:VEVENT
END:VCALENDAR