BEGIN:VCALENDAR
VERSION:2.0
PRODID:-//Silver City Radio - ECPv6.3.3.1//NONSGML v1.0//EN
CALSCALE:GREGORIAN
METHOD:PUBLISH
X-WR-CALNAME:Silver City Radio
X-ORIGINAL-URL:https://silvercityradio.com
X-WR-CALDESC:Events for Silver City Radio
REFRESH-INTERVAL;VALUE=DURATION:PT1H
X-Robots-Tag:noindex
X-PUBLISHED-TTL:PT1H
BEGIN:VTIMEZONE
TZID:UTC
BEGIN:STANDARD
TZOFFSETFROM:+0000
TZOFFSETTO:+0000
TZNAME:UTC
DTSTART:20180101T000000
END:STANDARD
END:VTIMEZONE
BEGIN:VEVENT
DTSTART;TZID=UTC:20181011T180000
DTEND;TZID=UTC:20181011T200000
DTSTAMP:20260424T121515
CREATED:20181003T213142Z
LAST-MODIFIED:20181003T213142Z
UID:10000916-1539280800-1539288000@silvercityradio.com
SUMMARY:Deming/Luna County Chamber Candidate Forum
DESCRIPTION:Join the Deming-Luna County Chamber of Commerce for a “Candidate Forum” on Thursday\, October 11th at 6:00 P.M. at the First United Methodist Church located at 1020 South Granite in Deming. Candidates will include Congressional District 2\, District 32 State Representative\, County Commissioner Districts 1 and 2\, 6th District Judge\, Sheriff\, and Public Regulation Commission.
URL:https://silvercityradio.com/event/deming-luna-county-chamber-candidate-forum/
LOCATION:First United Methodist Church of Deming\, 1020 S Granite St\, Deming\, NM\, 88030\, United States
CATEGORIES:Presentation
END:VEVENT
END:VCALENDAR