BEGIN:VCALENDAR
VERSION:2.0
PRODID:-//Silver City Radio - ECPv6.3.3.1//NONSGML v1.0//EN
CALSCALE:GREGORIAN
METHOD:PUBLISH
X-ORIGINAL-URL:https://silvercityradio.com
X-WR-CALDESC:Events for Silver City Radio
REFRESH-INTERVAL;VALUE=DURATION:PT1H
X-Robots-Tag:noindex
X-PUBLISHED-TTL:PT1H
BEGIN:VTIMEZONE
TZID:UTC
BEGIN:STANDARD
TZOFFSETFROM:+0000
TZOFFSETTO:+0000
TZNAME:UTC
DTSTART:20180101T000000
END:STANDARD
END:VTIMEZONE
BEGIN:VEVENT
DTSTART;VALUE=DATE:20180920
DTEND;VALUE=DATE:20180924
DTSTAMP:20260424T122056
CREATED:20180904T221610Z
LAST-MODIFIED:20180904T221610Z
UID:10000889-1537401600-1537747199@silvercityradio.com
SUMMARY:14th Annual Gila River Festival
DESCRIPTION:Don’t miss the 14th annual Gila River Festival: “Celebrating 50 years of Wild & Scenic Rivers in America” September 20th through the 23rd in Silver City and the Gila National Forest. Featuring presentations by local authors Phil Connors and Dutch Salmon\, a local foods brunch\, San Carlos Apache Honor & Social Songs\, and much more. Enjoy the festival downtown in Big Ditch Park on Saturday afternoon at the Gila River Extravaganza\, packed with kid and family centered fun\, including Mescalero Apache War Dance\, West African drumming\, the Monsoon Puppet Parade and a community art project.  Saturday night join us for the Gala for the Gila\, featuring the Illusion Band and a cash bar provided by La Esperanza Winery! Schedule and registration at gila-river-festival DOT org or call 575-538-8078.
URL:https://silvercityradio.com/event/14th-annual-gila-river-festival/
CATEGORIES:Adult Event,Kids Event,Presentation
END:VEVENT
END:VCALENDAR