BEGIN:VCALENDAR
VERSION:2.0
PRODID:-//Silver City Radio - ECPv6.3.3.1//NONSGML v1.0//EN
CALSCALE:GREGORIAN
METHOD:PUBLISH
X-ORIGINAL-URL:https://silvercityradio.com
X-WR-CALDESC:Events for Silver City Radio
REFRESH-INTERVAL;VALUE=DURATION:PT1H
X-Robots-Tag:noindex
X-PUBLISHED-TTL:PT1H
BEGIN:VTIMEZONE
TZID:UTC
BEGIN:STANDARD
TZOFFSETFROM:+0000
TZOFFSETTO:+0000
TZNAME:UTC
DTSTART:20180101T000000
END:STANDARD
END:VTIMEZONE
BEGIN:VEVENT
DTSTART;TZID=UTC:20180814T133000
DTEND;TZID=UTC:20180814T153000
DTSTAMP:20260424T140815
CREATED:20180801T212232Z
LAST-MODIFIED:20180801T213606Z
UID:10000875-1534253400-1534260600@silvercityradio.com
SUMMARY:Gila Writers Expressive Writing Group
DESCRIPTION:Join the “Gila Writers Expressive Writing Group” on Tuesday\, August 14th from 1:30 to 3:30 P.M. at the Murray Ryan Visitor’s Center located at 201 N. Hudson Street in Silver City. Writers of all levels are welcome and there is no charge to participate. For more information\, call Trish at 575-534-0207.
URL:https://silvercityradio.com/event/gila-writers-expressive-writing-group/
LOCATION:Murray Ryan Visitor’s Center\, 201 N Hudson St\, Silver City\, NM\, 88061\, United States
CATEGORIES:Presentation
END:VEVENT
END:VCALENDAR