BEGIN:VCALENDAR
VERSION:2.0
PRODID:-//Silver City Radio - ECPv6.3.3.1//NONSGML v1.0//EN
CALSCALE:GREGORIAN
METHOD:PUBLISH
X-WR-CALNAME:Silver City Radio
X-ORIGINAL-URL:https://silvercityradio.com
X-WR-CALDESC:Events for Silver City Radio
REFRESH-INTERVAL;VALUE=DURATION:PT1H
X-Robots-Tag:noindex
X-PUBLISHED-TTL:PT1H
BEGIN:VTIMEZONE
TZID:UTC
BEGIN:STANDARD
TZOFFSETFROM:+0000
TZOFFSETTO:+0000
TZNAME:UTC
DTSTART:20180101T000000
END:STANDARD
END:VTIMEZONE
BEGIN:VEVENT
DTSTART;TZID=UTC:20180705T080000
DTEND;TZID=UTC:20180705T170000
DTSTAMP:20260424T212547
CREATED:20180530T211537Z
LAST-MODIFIED:20180530T211537Z
UID:10000843-1530777600-1530810000@silvercityradio.com
SUMMARY:Fort Bayard Summer Film Series
DESCRIPTION:The Fort Bayard Summer Film Series is featuring “The Spirit of the Human Being: Indigenous Peoples’ Survival through Humor and Tragedy”.The films begin each Thursday over the summer begin at 7:00 P.M. at the Santa Clara/Fort Bayard Armory Visitors Center located at 11990 Highway 180 in Santa Clara. Admission is free.  The series of films include: June 28 – “Reel Injuns”; July 5 – “Rumble”; July 12 – “Elijah”; July 19 – “Lozen’s Story”;  July 26 – “Wind River”; August 2 – “Apache Warriors”;  August 9 – We Shall Remain”; August 16 – “Bury My Heart At Wounded Knee”.
URL:https://silvercityradio.com/event/fort-bayard-summer-film-series/
LOCATION:Santa Clara Armory
CATEGORIES:Entertainment,Presentation
END:VEVENT
END:VCALENDAR