BEGIN:VCALENDAR
VERSION:2.0
PRODID:-//Silver City Radio - ECPv6.3.3.1//NONSGML v1.0//EN
CALSCALE:GREGORIAN
METHOD:PUBLISH
X-ORIGINAL-URL:https://silvercityradio.com
X-WR-CALDESC:Events for Silver City Radio
REFRESH-INTERVAL;VALUE=DURATION:PT1H
X-Robots-Tag:noindex
X-PUBLISHED-TTL:PT1H
BEGIN:VTIMEZONE
TZID:UTC
BEGIN:STANDARD
TZOFFSETFROM:+0000
TZOFFSETTO:+0000
TZNAME:UTC
DTSTART:20190101T000000
END:STANDARD
END:VTIMEZONE
BEGIN:VEVENT
DTSTART;TZID=UTC:20190201T040000
DTEND;TZID=UTC:20190201T180000
DTSTAMP:20260420T115326
CREATED:20190111T235333Z
LAST-MODIFIED:20190111T235333Z
UID:10001006-1548993600-1549044000@silvercityradio.com
SUMMARY:Ranching in Grant County Exhibition & Reception
DESCRIPTION:The Silver City Museum is opening a new exhibition\, entitled “Ranching in Grant County.” This exhibit explores the history\, art\, social organizations\, sports\, and culture that surround this rural lifestyle. The museum will host an opening reception on Friday\, February 1st\, from 4:00 pm – 6:00 pm. The public is invited to attend and light refreshments will be served.  Admission is free with donations greatly appreciated.
URL:https://silvercityradio.com/event/ranching-in-grant-county-exhibition-reception/
LOCATION:Silver City Museum\, 312 W. Broadway\, Silver City\, NM\, 88061\, United States
CATEGORIES:Presentation
END:VEVENT
BEGIN:VEVENT
DTSTART;TZID=UTC:20190202T120000
DTEND;TZID=UTC:20190202T140000
DTSTAMP:20260420T115326
CREATED:20190117T185713Z
LAST-MODIFIED:20190117T185713Z
UID:10001017-1549108800-1549116000@silvercityradio.com
SUMMARY:Surviving Wildfire and Emergency Preparation Event
DESCRIPTION:The local Gila Chapter of the Back Country Horsemen of New Mexico and the Silver City Fire Department are sponsoring a free “Surviving Wildfire” emergency preparation and evacuation event on Saturday\, February 2nd from 12 noon to 2:00 P.M. at Tractor Supply\, located at 2701 Highway 180 East in Silver City. Learn how to prepare to survive wildfire or any emergency. There will be emergency personnel available to answer your specific questions.
URL:https://silvercityradio.com/event/surviving-wildfire-and-emergency-preparation-event/
LOCATION:Tractor Supply\, 2701 Highway 180 East\, Silver City\, NM\, 88061\, United States
CATEGORIES:Presentation,Training
END:VEVENT
BEGIN:VEVENT
DTSTART;TZID=UTC:20190205T100000
DTEND;TZID=UTC:20190205T120000
DTSTAMP:20260420T115326
CREATED:20190130T180513Z
LAST-MODIFIED:20190130T180513Z
UID:10001026-1549360800-1549368000@silvercityradio.com
SUMMARY:Opportunity Zone Workshop
DESCRIPTION:The Southwest New Mexico Council of Governments will be hosting an “Opportunity Zone Workshop” on Tuesday\, February 5th from 10:00 A.M. to 12 noon at the Grant County Veterans Memorial Conference Center. Learn about the benefits of investing in an opportunity zone designation The Opportunity Zone Workshop is open to realtors\, CPA’s\, local governments\, bankers and investors. To reserve your spot\, call 575-388-1509.
URL:https://silvercityradio.com/event/opportunity-zone-workshop/
LOCATION:Grant County Veteran’s Memorial Business and Conference Center\, 3031 Highway 180 East\, Silver City\, NM\, United States
CATEGORIES:Adult Event,Presentation
END:VEVENT
BEGIN:VEVENT
DTSTART;TZID=UTC:20190205T193000
DTEND;TZID=UTC:20190205T210000
DTSTAMP:20260420T115326
CREATED:20190130T180918Z
LAST-MODIFIED:20190130T180918Z
UID:10001028-1549395000-1549400400@silvercityradio.com
SUMMARY:"Run Wild\, Run Free" Film at the Silco Theater
DESCRIPTION:There will be a screening of the documentary\, “Run Wild\, Run Free.” at the Silco Theater in Downtown Silver City on Tuesday\, February 5th at 7:30pm. Tickets will be sold at the door for $7.50. “Run Wild\, Run Free” takes viewers on a journey through the history of Wild and Scenic rivers as told through experts\, grassroots organizers\, white water enthusiasts\, and members of the Nez Perce tribe in Idaho.
URL:https://silvercityradio.com/event/run-wild-run-free-film-at-the-silco-theater/
LOCATION:Silco Theater\, 311 N Bullard\, Silver City\, NM\, 88061\, United States
CATEGORIES:Entertainment,Presentation
END:VEVENT
BEGIN:VEVENT
DTSTART;TZID=UTC:20190211T150000
DTEND;TZID=UTC:20190211T160000
DTSTAMP:20260420T115326
CREATED:20190205T164235Z
LAST-MODIFIED:20190205T164235Z
UID:10001043-1549897200-1549900800@silvercityradio.com
SUMMARY:WNMU Founders Day Ribbon Cutting Celebration
DESCRIPTION:Join Western New Mexico University for their annual Founders Day celebration as they commemorate WNMU’s 126th Birthday on Monday\, February 11th! There will be a ribbon cutting on College Avenue in the newly remodeled entrance to the main campus on the corner of College Avenue and “A” Street next to the marquee sign. Birthday cake and coffee will be provided.
URL:https://silvercityradio.com/event/wnmu-founders-day-ribbon-cutting-celebration/
LOCATION:Western New Mexico University\, Silver City\, NM\, 88061\, United States
CATEGORIES:Presentation
END:VEVENT
BEGIN:VEVENT
DTSTART;TZID=UTC:20190213T180000
DTEND;TZID=UTC:20190213T193000
DTSTAMP:20260420T115326
CREATED:20190130T181125Z
LAST-MODIFIED:20190130T181125Z
UID:10001029-1550080800-1550086200@silvercityradio.com
SUMMARY:Gila Back-Country Horsemen Meeting
DESCRIPTION:The Gila Chapter of the Back-Country Horsemen of New Mexico is meeting on Wednesday\, February 13th at 6:00 P.M. in Western New Mexico University’s Watts Hall located 500 East 18th Street in Silver City. All are welcome and each meeting features guest speakers on subjects of interest to all those who use the Gila wilderness. The meeting room is on the 2nd floor with parking located towards the rear building off Swan Street.
URL:https://silvercityradio.com/event/gila-back-country-horsemen-meeting-2/
LOCATION:Watts Hall\, Hwy 180 & Swan Street\, Silver City\, United States
CATEGORIES:Meeting,Presentation
END:VEVENT
BEGIN:VEVENT
DTSTART;TZID=UTC:20190213T180000
DTEND;TZID=UTC:20190213T193000
DTSTAMP:20260420T115326
CREATED:20190207T164156Z
LAST-MODIFIED:20190207T164156Z
UID:10001054-1550080800-1550086200@silvercityradio.com
SUMMARY:NM DOT Meeting re: Pinos Altos Road
DESCRIPTION:The New Mexico Department of Transportation (NMDOT) along with TLC Company (Contractor) will be holding a public involvement meeting on Wednesday\, February 13th from 6:00 to 7:30 P.M. at the Grant County Veterans Memorial Business and Conference Center located at 3031 US Hwy 180 East to discuss the improvement project of NM 15 Pinos Altos Road Reconstruction Project. The meeting will provide information regarding construction\, detailing project specifications\, and will answer questions regarding the timeline of the project. The public is encouraged to ask questions and provide comments and to address any concerns they may have as it relates to this project in Silver City\, NM.
URL:https://silvercityradio.com/event/nm-dot-meeting-re-pinos-altos-road/
LOCATION:Grant County Veteran’s Memorial Business and Conference Center\, 3031 Highway 180 East\, Silver City\, NM\, United States
CATEGORIES:Meeting,Presentation
END:VEVENT
BEGIN:VEVENT
DTSTART;TZID=UTC:20190213T183000
DTEND;TZID=UTC:20190213T193000
DTSTAMP:20260420T115326
CREATED:20190205T164438Z
LAST-MODIFIED:20190205T164438Z
UID:10001044-1550082600-1550086200@silvercityradio.com
SUMMARY:"Think Like a Watershed" Presentation
DESCRIPTION:Western New Mexico University’s Miller Library and the New Mexico Humanities Council is presenting “Thinking Like A Watershed” by Author Jack Loeffler on Wednesday\, February 13th from 6:30 – 7:30 p.m. The WNMU Miller Library is located at 1000 College Avenue in Silver City. This is a free event and the public is invited.
URL:https://silvercityradio.com/event/think-like-a-watershed-presentation/
LOCATION:WNMU Miller Library
CATEGORIES:Presentation
END:VEVENT
BEGIN:VEVENT
DTSTART;TZID=UTC:20190215T153000
DTEND;TZID=UTC:20190215T170000
DTSTAMP:20260420T115326
CREATED:20190213T161449Z
LAST-MODIFIED:20190213T161449Z
UID:10001062-1550244600-1550250000@silvercityradio.com
SUMMARY:Native American Film Series in Deming
DESCRIPTION:Marshall Memorial Library in Deming will be hosting the Fort Bayard Historical Society’s presentation of a Native American Film Series every Friday in February at 3:30 P.M. The library is located at 110 South Diamond Avenue in Deming. Admission is free.
URL:https://silvercityradio.com/event/native-american-film-series-in-deming/
LOCATION:Marshall Memorial Library\, 110 South Diamond Ave\, Deming\, NM\, 88030\, United States
CATEGORIES:Entertainment,Presentation
END:VEVENT
BEGIN:VEVENT
DTSTART;TZID=UTC:20190215T190000
DTEND;TZID=UTC:20190215T210000
DTSTAMP:20260420T115326
CREATED:20190115T152130Z
LAST-MODIFIED:20190115T152130Z
UID:10001013-1550257200-1550264400@silvercityradio.com
SUMMARY:Gila Native Plant Society
DESCRIPTION:The Gila Native Plant Society meets on the third Friday of the month at 7.00 p.m. in Harlan Hall\, second floor\, Room 219\, corner of Alabama and 12th Streets\, on the Western New Mexico University campus in Silver City. The February presentation consists of “Seed Gathering and Propagation of Native Plants”\, presentation by Tricia Hurley. The meeting is free and open to the public. Refreshments following the program. For further information check our website at www.gilanps.org/events/programs/. \n 
URL:https://silvercityradio.com/event/gila-native-plant-society/
LOCATION:WNMU Harlan Hall\, 1000 West College Avenue\, Silver City\, NM\, 88061\, United States
CATEGORIES:Meeting,Presentation
END:VEVENT
END:VCALENDAR