BEGIN:VCALENDAR
VERSION:2.0
PRODID:-//Silver City Radio - ECPv6.3.3.1//NONSGML v1.0//EN
CALSCALE:GREGORIAN
METHOD:PUBLISH
X-WR-CALNAME:Silver City Radio
X-ORIGINAL-URL:https://silvercityradio.com
X-WR-CALDESC:Events for Silver City Radio
REFRESH-INTERVAL;VALUE=DURATION:PT1H
X-Robots-Tag:noindex
X-PUBLISHED-TTL:PT1H
BEGIN:VTIMEZONE
TZID:UTC
BEGIN:STANDARD
TZOFFSETFROM:+0000
TZOFFSETTO:+0000
TZNAME:UTC
DTSTART:20180101T000000
END:STANDARD
END:VTIMEZONE
BEGIN:VEVENT
DTSTART;TZID=UTC:20181206T183000
DTEND;TZID=UTC:20181206T200000
DTSTAMP:20260423T125507
CREATED:20181204T212540Z
LAST-MODIFIED:20181204T212540Z
UID:10000973-1544121000-1544126400@silvercityradio.com
SUMMARY:Grant County College Bound ACT Prep Night
DESCRIPTION:Grant County College Bound will be having an ACT Prep Night on Tuesday\, December 18th from 6:30-8:00 PM at Silver High School. For more information\, call Alicia Beck at 575-313-0940.
URL:https://silvercityradio.com/event/grant-county-college-bound-act-prep-night-2/
LOCATION:Silver High School\, United States
CATEGORIES:Presentation,Training
END:VEVENT
BEGIN:VEVENT
DTSTART;TZID=UTC:20181214T060000
DTEND;TZID=UTC:20181214T200000
DTSTAMP:20260423T125507
CREATED:20181207T222814Z
LAST-MODIFIED:20181207T222814Z
UID:10000976-1544767200-1544817600@silvercityradio.com
SUMMARY:"Read 'N Roll" Literacy Event
DESCRIPTION:The Deming High School Library Media Services is presenting a “Read ‘N Roll Literacy Event” Friday\, December 14th at 6:00 P.M. in the new Deming High School Cafeteria. Roller Derby athletes from Tucson and Las Cruces will share their favorite books and stories. Bring the entire family and receive a free book from the Children’s Literacy Foundation of Luna County with a completed book card.
URL:https://silvercityradio.com/event/read-n-roll-literacy-event/
LOCATION:Deming High School
CATEGORIES:Kids Event,Presentation
END:VEVENT
BEGIN:VEVENT
DTSTART;TZID=UTC:20181215T100000
DTEND;TZID=UTC:20181215T110000
DTSTAMP:20260423T125507
CREATED:20181116T215708Z
LAST-MODIFIED:20181116T215708Z
UID:10000953-1544868000-1544871600@silvercityradio.com
SUMMARY:Wreaths Across America Ceremony at Ft. Bayard National Cemetery
DESCRIPTION:Members of the Grant County community will gather to honor veterans during the Christmas holiday season as part of the annual Wreaths Across America Day.  The ceremony will be held at Fort Bayard National Cemetery at 10:00 a.m.
URL:https://silvercityradio.com/event/wreaths-across-america-ceremony-at-ft-bayard-national-cemetery/
LOCATION:Fort Bayard National Cemetery
CATEGORIES:Holiday,Presentation,Volunteers
END:VEVENT
BEGIN:VEVENT
DTSTART;TZID=UTC:20181217T160000
DTEND;TZID=UTC:20181217T170000
DTSTAMP:20260423T125507
CREATED:20181207T223547Z
LAST-MODIFIED:20181207T223547Z
UID:10000978-1545062400-1545066000@silvercityradio.com
SUMMARY:Grant Soil & Water Meeting
DESCRIPTION:The regular monthly board meeting of the Grant Soil & Water Conservation District will be held Monday\, December 17th\, at 4:00 p.m. in the conference room of the Natural Resources Conservation Service/Grant SWCD office located at 3082 32nd Street Bypass\, Suite C\, in Silver City. To request a copy of the agenda or for more information\, please call 575-388-1569.
URL:https://silvercityradio.com/event/grant-soil-water-meeting/
LOCATION:Natural Resources Conservation Service/Grant SWCD\, 3082 32nd Street Bypass\, Suite C\, Silver City\, NM\, 88062-1014\, United States
CATEGORIES:Meeting,Presentation
END:VEVENT
BEGIN:VEVENT
DTSTART;TZID=UTC:20181218T183000
DTEND;TZID=UTC:20181218T200000
DTSTAMP:20260423T125507
CREATED:20181204T212207Z
LAST-MODIFIED:20181204T212207Z
UID:10000972-1545157800-1545163200@silvercityradio.com
SUMMARY:Grant County College Bound ACT Prep Night
DESCRIPTION:Grant County College Bound will be having an ACT Prep Night on Tuesday\, December 18th from 6:30-8:00 PM at Silver High School. For more information\, call Alicia Beck at 575-313-0940.
URL:https://silvercityradio.com/event/grant-county-college-bound-act-prep-night/
LOCATION:Silver High School
CATEGORIES:Presentation,Training
END:VEVENT
END:VCALENDAR