BEGIN:VCALENDAR
VERSION:2.0
PRODID:-//Silver City Radio - ECPv6.3.3.1//NONSGML v1.0//EN
CALSCALE:GREGORIAN
METHOD:PUBLISH
X-ORIGINAL-URL:https://silvercityradio.com
X-WR-CALDESC:Events for Silver City Radio
REFRESH-INTERVAL;VALUE=DURATION:PT1H
X-Robots-Tag:noindex
X-PUBLISHED-TTL:PT1H
BEGIN:VTIMEZONE
TZID:UTC
BEGIN:STANDARD
TZOFFSETFROM:+0000
TZOFFSETTO:+0000
TZNAME:UTC
DTSTART:20180101T000000
END:STANDARD
END:VTIMEZONE
BEGIN:VEVENT
DTSTART;TZID=UTC:20180606T100000
DTEND;TZID=UTC:20180606T120000
DTSTAMP:20260425T164651
CREATED:20180530T205242Z
LAST-MODIFIED:20180530T205242Z
UID:10000840-1528279200-1528286400@silvercityradio.com
SUMMARY:Silver City Mainstreet "Stories from Our Streets"
DESCRIPTION:Silver City Mainstreet is launching “Stories from Our Streets”\, the downtown walking tour with a ribbon cutting ceremony this on Wednesday\, June 6th at 10:00 A.M. at the Silco Theater\, located at 311 North Bullard Street. The ribbon cutting will be followed by a free viewing of “Silver City on Parade”\, a 1940 movie of downtown Silver City.
URL:https://silvercityradio.com/event/silver-city-mainstreet-stories-from-our-streets/
CATEGORIES:Presentation
END:VEVENT
BEGIN:VEVENT
DTSTART;TZID=UTC:20180611T090000
DTEND;TZID=UTC:20180611T120000
DTSTAMP:20260425T164651
CREATED:20180530T165259Z
LAST-MODIFIED:20180530T174458Z
UID:10000827-1528707600-1528718400@silvercityradio.com
SUMMARY:Micro-farming Workshop
DESCRIPTION:Join the Southwest New Mexico Food Hub and learn about “Micro-farming 101: Growing Money in Your Backyard” on June 11th from 9:00 A.M. to 12 Noon at the Volunteer Center located at 501 East 13th Street in Silver City. Come and learn about micro-farming as a business in southwest New Mexico. To RSVP for this free event\, call Ben at 575-654-5130.
URL:https://silvercityradio.com/event/micro-farming-workshop/
LOCATION:Volunteer Center\, 501 E 13th St\, Silver City\, NM\, 88061\, United States
CATEGORIES:Health Event,Presentation,Training,Volunteers
END:VEVENT
BEGIN:VEVENT
DTSTART;TZID=UTC:20180615T040000
DTEND;TZID=UTC:20180615T180000
DTSTAMP:20260425T164651
CREATED:20180530T203608Z
LAST-MODIFIED:20180530T203608Z
UID:10000838-1529035200-1529085600@silvercityradio.com
SUMMARY:Silver City Museum "Hobarts" Exhibit
DESCRIPTION:The Silver City Museum is presenting an original exhibit titled\, “The Hobarts: A Look at a New Mexican Family.” The exhibit will open on Friday\, June 15th and will coincide with the opening of Contemporary Casta Portraiture: Nuestra “Calidad\,” by Delilah Montoya at a special public reception from 4:00 to 6:00 pm. Admission is free and donations greatly appreciated.
URL:https://silvercityradio.com/event/silver-city-museum-hobarts-exhibit/
LOCATION:Silver City Museum\, 312 W Broadway Street\, Silver City\, NM\, 88062-1014\, United States
CATEGORIES:Presentation
END:VEVENT
BEGIN:VEVENT
DTSTART;TZID=UTC:20180618T120000
DTEND;TZID=UTC:20180618T150000
DTSTAMP:20260425T164651
CREATED:20180530T204931Z
LAST-MODIFIED:20180530T204931Z
UID:10000839-1529323200-1529334000@silvercityradio.com
SUMMARY:AARP Smart Driver Course
DESCRIPTION:The AARP Smart Driver Course will be presented at 12:45 p.m. on Friday\, June 18 at the Deming Senior Citizen’s Center\, 800 South Granite Street. For more information or to register\, call Bernie Hopper at 575-546-1477.
URL:https://silvercityradio.com/event/aarp-smart-driver-course/
LOCATION:Deming Senior Center\, 800 South Granite Street\, Deming\, United States
CATEGORIES:Adult Event,Presentation
END:VEVENT
BEGIN:VEVENT
DTSTART;TZID=UTC:20180628T190000
DTEND;TZID=UTC:20180628T210000
DTSTAMP:20260425T164651
CREATED:20180530T211310Z
LAST-MODIFIED:20180530T211310Z
UID:10000842-1530212400-1530219600@silvercityradio.com
SUMMARY:Ft. Bayard Summer Film Series
DESCRIPTION:The Fort Bayard Summer Film Series is featuring “The Spirit of the Human Being: Indigenous Peoples’ Survival through Humor and Tragedy”. The films begin each Friday begin at 7:00 P.M. at the Santa Clara/Fort Bayard Armory Visitors Center located at 11990 Highway 180 in Santa Clara. Admission is free. The series of films include: June 28 – “Reel Injuns”; July 5 – “Rumble”; July 12 – “Elijah”; July 19 – “Lozen’s Story”;  July 26 – “Wind River”; August 2 – “Apache Warriors”;  August 9 – We Shall Remain”; August 16 – “Bury My Heart At Wounded Knee”.
URL:https://silvercityradio.com/event/ft-bayard-summer-film-series/
LOCATION:Santa Clara Armory
CATEGORIES:Entertainment,Presentation
END:VEVENT
END:VCALENDAR