BEGIN:VCALENDAR
VERSION:2.0
PRODID:-//Silver City Radio - ECPv6.3.3.1//NONSGML v1.0//EN
CALSCALE:GREGORIAN
METHOD:PUBLISH
X-ORIGINAL-URL:https://silvercityradio.com
X-WR-CALDESC:Events for Silver City Radio
REFRESH-INTERVAL;VALUE=DURATION:PT1H
X-Robots-Tag:noindex
X-PUBLISHED-TTL:PT1H
BEGIN:VTIMEZONE
TZID:UTC
BEGIN:STANDARD
TZOFFSETFROM:+0000
TZOFFSETTO:+0000
TZNAME:UTC
DTSTART:20200101T000000
END:STANDARD
END:VTIMEZONE
BEGIN:VEVENT
DTSTART;TZID=UTC:20201004T130000
DTEND;TZID=UTC:20201004T140000
DTSTAMP:20260419T194939
CREATED:20200930T151612Z
LAST-MODIFIED:20200930T151612Z
UID:10001555-1601816400-1601820000@silvercityradio.com
SUMMARY:Blessing of the Animals Event
DESCRIPTION:Join in a walk-by Blessing of the Animals on Sunday\, October 4th. New rector\, Pastor Bonnie Edwards will bless your pet\, a picture of your pet or a favorite stuffed animal. Come by anytime between 1:00 and 2:00 in front of the Church Office at 207 W. 7th Street. Please park in the church parking lot using the 6th street entrance. Don’t forget to wear a mask and adhere to social distancing guidelines.
URL:https://silvercityradio.com/event/blessing-of-the-animals-event/
LOCATION:Episcopal Church of the Good Shepherd\, 615 N Texas St\, Silver City\, NM\, 88061\, United States
CATEGORIES:Pet Event
END:VEVENT
BEGIN:VEVENT
DTSTART;TZID=UTC:20201010T090000
DTEND;TZID=UTC:20201010T120000
DTSTAMP:20260419T194939
CREATED:20200930T150630Z
LAST-MODIFIED:20200930T150630Z
UID:10001554-1602320400-1602331200@silvercityradio.com
SUMMARY:High Desert Humane Society Shot Clinic
DESCRIPTION:The High Desert Humane Society is holding their monthly reduce rate rabies drive-thru only vaccination clinic on Saturday\, October 10th from 9:00 A.M. to 12 noon at the humane society building located at 3050 Cougar Way in Silver City. This is a drive-thru clinic and face masks are recommended. For more information\, call 575-538-9261.
URL:https://silvercityradio.com/event/high-desert-humane-society-shot-clinic-8/
LOCATION:High Desert Humane Society\, 3050 Cougar Way\, Silver City\, NM\, 88061\, United States
CATEGORIES:Pet Event
END:VEVENT
END:VCALENDAR