BEGIN:VCALENDAR
VERSION:2.0
PRODID:-//Silver City Radio - ECPv6.3.3.1//NONSGML v1.0//EN
CALSCALE:GREGORIAN
METHOD:PUBLISH
X-WR-CALNAME:Silver City Radio
X-ORIGINAL-URL:https://silvercityradio.com
X-WR-CALDESC:Events for Silver City Radio
REFRESH-INTERVAL;VALUE=DURATION:PT1H
X-Robots-Tag:noindex
X-PUBLISHED-TTL:PT1H
BEGIN:VTIMEZONE
TZID:UTC
BEGIN:STANDARD
TZOFFSETFROM:+0000
TZOFFSETTO:+0000
TZNAME:UTC
DTSTART:20190101T000000
END:STANDARD
END:VTIMEZONE
BEGIN:VEVENT
DTSTART;TZID=UTC:20191005T100000
DTEND;TZID=UTC:20191005T140000
DTSTAMP:20260424T051402
CREATED:20190919T220924Z
LAST-MODIFIED:20190919T220940Z
UID:10001275-1570269600-1570284000@silvercityradio.com
SUMMARY:Blessing of the Animals
DESCRIPTION:There will be a Feast of Saint Francis of Asissi Blessing of the Animals on Saturday\, October 5th from 10:00 A.M. to 2:00 P.M. at the Church of the Good Shepherd parking lot located at 6th Street and Pinos Altos in Downtown Silver City.
URL:https://silvercityradio.com/event/blessing-of-the-animals/
LOCATION:Episcopal Church of the Good Shepherd\, 615 N Texas St\, Silver City\, NM\, 88061\, United States
CATEGORIES:Pet Event
END:VEVENT
BEGIN:VEVENT
DTSTART;TZID=UTC:20191012T090000
DTEND;TZID=UTC:20191012T120000
DTSTAMP:20260424T051402
CREATED:20191009T154607Z
LAST-MODIFIED:20191009T181101Z
UID:10001302-1570870800-1570881600@silvercityradio.com
SUMMARY:High Desert Humane Society Reduced Fee Vaccination Clinic
DESCRIPTION:The High Desert Humane Society will be holding their monthly REDUCED FEE vaccination clinic on Saturday October 12th from 9:00 A.M. to 12 Noon at the shelter located at 3050 South Cougar Way in Silver City. For more information\, please call  575-538-9261.
URL:https://silvercityradio.com/event/high-desert-humane-society-reduced-fee-vaccination-clinic/
LOCATION:High Desert Humane Society\, 3050 Cougar Way\, Silver City\, NM\, 88061\, United States
CATEGORIES:Pet Event
END:VEVENT
BEGIN:VEVENT
DTSTART;TZID=UTC:20191026T140000
DTEND;TZID=UTC:20191026T160000
DTSTAMP:20260424T051402
CREATED:20191004T161911Z
LAST-MODIFIED:20191004T161911Z
UID:10001294-1572098400-1572105600@silvercityradio.com
SUMMARY:Silver City KOA Halloween Pet Costume Contest
DESCRIPTION:There’s a free Halloween Pet Costume Contest hosted by the Silver City KOA located at 11824 Highway 180 East in Silver City on Saturday\, October 26th from 2:00 to 4:00 P.M. Dress up your pets and come down for a fun afternoon. There will be a $100 Gift Certificate to 1st place along with door prizes and refreshments! Feel free to wear your costume as well! For more information\, call 575-388-3351.
URL:https://silvercityradio.com/event/silver-city-koa-halloween-pet-costume-contest/
LOCATION:Silver City KOA\, 11824 Highway 180 East\, Silver City\, NM\, 88061\, United States
CATEGORIES:Pet Event
END:VEVENT
END:VCALENDAR