BEGIN:VCALENDAR
VERSION:2.0
PRODID:-//Silver City Radio - ECPv6.3.3.1//NONSGML v1.0//EN
CALSCALE:GREGORIAN
METHOD:PUBLISH
X-ORIGINAL-URL:https://silvercityradio.com
X-WR-CALDESC:Events for Silver City Radio
REFRESH-INTERVAL;VALUE=DURATION:PT1H
X-Robots-Tag:noindex
X-PUBLISHED-TTL:PT1H
BEGIN:VTIMEZONE
TZID:UTC
BEGIN:STANDARD
TZOFFSETFROM:+0000
TZOFFSETTO:+0000
TZNAME:UTC
DTSTART:20190101T000000
END:STANDARD
END:VTIMEZONE
BEGIN:VEVENT
DTSTART;TZID=UTC:20190605T173000
DTEND;TZID=UTC:20190605T190000
DTSTAMP:20260425T131258
CREATED:20190520T223225Z
LAST-MODIFIED:20190520T223225Z
UID:10001171-1559755800-1559761200@silvercityradio.com
SUMMARY:Team Kids Youth Group in Lordsburg
DESCRIPTION:“Team Kids Youth Group” will be meeting every Wednesday from 5:30 to 7:00 p.m. at the First Baptist Church of Lordsburg\, at the corner of 3rd and Animas Streets. Team Kids is open to kids grades K through 5. For more information call Sue Lackey at 575-590-3122.
URL:https://silvercityradio.com/event/team-kids-youth-group-in-lordsburg-3/
LOCATION:First Baptist Church of Lordsburg\, 332 E 3rd St\,\, Lordsburg\, NM\, United States
CATEGORIES:Pet Event
END:VEVENT
BEGIN:VEVENT
DTSTART;TZID=UTC:20190608T090000
DTEND;TZID=UTC:20190608T120000
DTSTAMP:20260425T131258
CREATED:20190521T194419Z
LAST-MODIFIED:20190521T194419Z
UID:10001177-1559984400-1559995200@silvercityradio.com
SUMMARY:High Desert Humane Society Shot Clinic
DESCRIPTION:The High Desert Humane Society will be holding its monthly reduce rate rabies vaccination clinic on Saturday\, June 8th\, from 9 a.m. to 12 noon at the High Desert Humane Society located at 3050 S. Cougar Way in Silver City.  No appointment is necessary. Please have all dogs on a leash and all cats in a carrier.
URL:https://silvercityradio.com/event/high-desert-humane-society-shot-clinic-5/
LOCATION:NM
CATEGORIES:Health Event,Pet Event
END:VEVENT
END:VCALENDAR