BEGIN:VCALENDAR
VERSION:2.0
PRODID:-//Silver City Radio - ECPv6.3.3.1//NONSGML v1.0//EN
CALSCALE:GREGORIAN
METHOD:PUBLISH
X-WR-CALNAME:Silver City Radio
X-ORIGINAL-URL:https://silvercityradio.com
X-WR-CALDESC:Events for Silver City Radio
REFRESH-INTERVAL;VALUE=DURATION:PT1H
X-Robots-Tag:noindex
X-PUBLISHED-TTL:PT1H
BEGIN:VTIMEZONE
TZID:UTC
BEGIN:STANDARD
TZOFFSETFROM:+0000
TZOFFSETTO:+0000
TZNAME:UTC
DTSTART:20190101T000000
END:STANDARD
END:VTIMEZONE
BEGIN:VEVENT
DTSTART;TZID=UTC:20190413T090000
DTEND;TZID=UTC:20190413T120000
DTSTAMP:20260426T015759
CREATED:20190319T222926Z
LAST-MODIFIED:20190319T222926Z
UID:10001100-1555146000-1555156800@silvercityradio.com
SUMMARY:Humane Society Shot Clinic
DESCRIPTION:The High Desert Humane Society will be holding its monthly reduce rate rabies vaccination clinic on Saturday\, April 13th from 9:00 A.M. to 12 noon at the High Desert Humane Society located at 3050 South Cougar Way in Silver City. No appointment is necessary.
URL:https://silvercityradio.com/event/humane-society-shot-clinic-3/
LOCATION:High Desert Humane Society\, 3050 Cougar Way\, Silver City\, NM\, 88061\, United States
CATEGORIES:Pet Event
END:VEVENT
END:VCALENDAR