BEGIN:VCALENDAR
VERSION:2.0
PRODID:-//Silver City Radio - ECPv6.3.3.1//NONSGML v1.0//EN
CALSCALE:GREGORIAN
METHOD:PUBLISH
X-ORIGINAL-URL:https://silvercityradio.com
X-WR-CALDESC:Events for Silver City Radio
REFRESH-INTERVAL;VALUE=DURATION:PT1H
X-Robots-Tag:noindex
X-PUBLISHED-TTL:PT1H
BEGIN:VTIMEZONE
TZID:UTC
BEGIN:STANDARD
TZOFFSETFROM:+0000
TZOFFSETTO:+0000
TZNAME:UTC
DTSTART:20180101T000000
END:STANDARD
END:VTIMEZONE
BEGIN:VEVENT
DTSTART;TZID=UTC:20180201T163000
DTEND;TZID=UTC:20180201T173000
DTSTAMP:20260420T015958
CREATED:20180119T172950Z
LAST-MODIFIED:20180119T172950Z
UID:10000623-1517502600-1517506200@silvercityradio.com
SUMMARY:Silver City Museum Board Meeting
DESCRIPTION:The Silver City Museum Board will hold a meeting on Thursday\, Feb. 1st\, at 4:30 pm at the Silver City Museum Annex located at 302 W. Broadway in Silver City. The public is invited to attend. The complete agenda is available on the Town’s website at town of silvercity.org.
URL:https://silvercityradio.com/event/silver-city-museum-board-meeting/
LOCATION:NM
CATEGORIES:Meeting
END:VEVENT
END:VCALENDAR