BEGIN:VCALENDAR
VERSION:2.0
PRODID:-//Silver City Radio - ECPv6.3.3.1//NONSGML v1.0//EN
CALSCALE:GREGORIAN
METHOD:PUBLISH
X-ORIGINAL-URL:https://silvercityradio.com
X-WR-CALDESC:Events for Silver City Radio
REFRESH-INTERVAL;VALUE=DURATION:PT1H
X-Robots-Tag:noindex
X-PUBLISHED-TTL:PT1H
BEGIN:VTIMEZONE
TZID:UTC
BEGIN:STANDARD
TZOFFSETFROM:+0000
TZOFFSETTO:+0000
TZNAME:UTC
DTSTART:20180101T000000
END:STANDARD
END:VTIMEZONE
BEGIN:VEVENT
DTSTART;TZID=UTC:20180125T190000
DTEND;TZID=UTC:20180125T203000
DTSTAMP:20260420T033453
CREATED:20180116T162423Z
LAST-MODIFIED:20180116T163121Z
UID:10000622-1516906800-1516912200@silvercityradio.com
SUMMARY:Santa Clara Neighborhood Watch
DESCRIPTION:Santa Clara residents can help their community by attending the January Santa Clara Neighborhood Watch meetings. The second meeting of the month will be held at the Santa Clara Armory on Thursday January 25th. The board meetings will be at 6:00 P.M. and the general member/public meetings will start at 7:00 P.M. Everyone is welcome to attend. Call 575-537-2443 for more information.
URL:https://silvercityradio.com/event/santa-clara-neighborhood-watch/
LOCATION:Santa Clara Armory
CATEGORIES:Meeting
END:VEVENT
END:VCALENDAR