BEGIN:VCALENDAR
VERSION:2.0
PRODID:-//Silver City Radio - ECPv6.3.3.1//NONSGML v1.0//EN
CALSCALE:GREGORIAN
METHOD:PUBLISH
X-WR-CALNAME:Silver City Radio
X-ORIGINAL-URL:https://silvercityradio.com
X-WR-CALDESC:Events for Silver City Radio
REFRESH-INTERVAL;VALUE=DURATION:PT1H
X-Robots-Tag:noindex
X-PUBLISHED-TTL:PT1H
BEGIN:VTIMEZONE
TZID:UTC
BEGIN:STANDARD
TZOFFSETFROM:+0000
TZOFFSETTO:+0000
TZNAME:UTC
DTSTART:20180101T000000
END:STANDARD
END:VTIMEZONE
BEGIN:VEVENT
DTSTART;VALUE=DATE:20180103
DTEND;VALUE=DATE:20180104
DTSTAMP:20260420T033504
CREATED:20171220T172433Z
LAST-MODIFIED:20171226T183228Z
UID:10000628-1514937600-1515023999@silvercityradio.com
SUMMARY:Silver City Photo Club Meeting
DESCRIPTION:The Silver City Photo Club will be meeting on Wednesday\, January 3rd at 7:00 P.M. at the Unitarian Universalist Meeting House\, located on 3845 North Swan Street in Silver City. Bruce Bloy\, photographer about town\, will discuss post-camera processing. This photo club session is free and open to the public. Call 860-670-4543 for more information.
URL:https://silvercityradio.com/event/silver-city-photo-club-meeting-2/
LOCATION:Unitarian Universalist Fellowship\, 3845 N Swan St\, Silver City\, NM\, 88061\, United States
CATEGORIES:Meeting,Presentation
END:VEVENT
END:VCALENDAR