BEGIN:VCALENDAR
VERSION:2.0
PRODID:-//Silver City Radio - ECPv6.3.3.1//NONSGML v1.0//EN
CALSCALE:GREGORIAN
METHOD:PUBLISH
X-ORIGINAL-URL:https://silvercityradio.com
X-WR-CALDESC:Events for Silver City Radio
REFRESH-INTERVAL;VALUE=DURATION:PT1H
X-Robots-Tag:noindex
X-PUBLISHED-TTL:PT1H
BEGIN:VTIMEZONE
TZID:UTC
BEGIN:STANDARD
TZOFFSETFROM:+0000
TZOFFSETTO:+0000
TZNAME:UTC
DTSTART:20170101T000000
END:STANDARD
END:VTIMEZONE
BEGIN:VEVENT
DTSTART;VALUE=DATE:20170921
DTEND;VALUE=DATE:20170924
DTSTAMP:20260420T143307
CREATED:20170914T173312Z
LAST-MODIFIED:20170914T173323Z
UID:10000710-1505952000-1506211199@silvercityradio.com
SUMMARY:WNMU Homecoming 2017
DESCRIPTION:Western New Mexico University will be celebrating Homecoming 2017 from September 21st to 23rd with activities on campus and the University Golf Course at Scott Park. The event will kick off on Thursday September 21st at Scott Park with a welcome reception at 6:00 p.m. followed by The Alumni Association Annual General Membership Meeting at 7:00 p.m. Festivities will finish up on Saturday with a Homecoming Parade\, Tailgate Party\, and Homecoming Football fame against the University of Texas Permian Basin at 1:30 p.m. For more information\, visit alumni.wnmu.edu.
URL:https://silvercityradio.com/event/wnmu-homecoming-2017/
LOCATION:NM
CATEGORIES:Adult Event,Entertainment,Food Event,Meeting,Sports
END:VEVENT
END:VCALENDAR