BEGIN:VCALENDAR
VERSION:2.0
PRODID:-//Silver City Radio - ECPv6.3.3.1//NONSGML v1.0//EN
CALSCALE:GREGORIAN
METHOD:PUBLISH
X-ORIGINAL-URL:https://silvercityradio.com
X-WR-CALDESC:Events for Silver City Radio
REFRESH-INTERVAL;VALUE=DURATION:PT1H
X-Robots-Tag:noindex
X-PUBLISHED-TTL:PT1H
BEGIN:VTIMEZONE
TZID:UTC
BEGIN:STANDARD
TZOFFSETFROM:+0000
TZOFFSETTO:+0000
TZNAME:UTC
DTSTART:20170101T000000
END:STANDARD
END:VTIMEZONE
BEGIN:VEVENT
DTSTART;TZID=UTC:20170714T103000
DTEND;TZID=UTC:20170714T120000
DTSTAMP:20260421T085921
CREATED:20170710T154219Z
LAST-MODIFIED:20170710T154219Z
UID:10000669-1500028200-1500033600@silvercityradio.com
SUMMARY:Woman's Club Monthly Meeting
DESCRIPTION:The Silver City Woman’s Club will hold their monthly meeting on Friday\, July 14th at 10:30 am at the Historic Woman’s Club building – 411 Silver Heights Blvd.  Call 313-4591
URL:https://silvercityradio.com/event/womans-club-monthly-meeting-4/
LOCATION:Silver City Woman’s Club\, 411 Silver Heights Boulevard\, Silver City\, NM\, 88061\, United States
CATEGORIES:Meeting
END:VEVENT
END:VCALENDAR