BEGIN:VCALENDAR
VERSION:2.0
PRODID:-//Silver City Radio - ECPv6.3.3.1//NONSGML v1.0//EN
CALSCALE:GREGORIAN
METHOD:PUBLISH
X-ORIGINAL-URL:https://silvercityradio.com
X-WR-CALDESC:Events for Silver City Radio
REFRESH-INTERVAL;VALUE=DURATION:PT1H
X-Robots-Tag:noindex
X-PUBLISHED-TTL:PT1H
BEGIN:VTIMEZONE
TZID:UTC
BEGIN:STANDARD
TZOFFSETFROM:+0000
TZOFFSETTO:+0000
TZNAME:UTC
DTSTART:20170101T000000
END:STANDARD
END:VTIMEZONE
BEGIN:VEVENT
DTSTART;TZID=UTC:20170519T103000
DTEND;TZID=UTC:20170519T120000
DTSTAMP:20260422T025557
CREATED:20170508T172239Z
LAST-MODIFIED:20170508T172239Z
UID:10000601-1495189800-1495195200@silvercityradio.com
SUMMARY:Woman's Club Monthly Meeting
DESCRIPTION:The Silver City Woman’s Club will have their monthly meeting on Friday\, May 12th at 10:30 in the historic Woman’s Club Building\, 411 Silver Heights Boulevard.  Call 313-4591
URL:https://silvercityradio.com/event/womans-club-monthly-meeting-3/
LOCATION:Silver City Woman’s Club\, 411 Silver Heights Boulevard\, Silver City\, NM\, 88061\, United States
CATEGORIES:Meeting
END:VEVENT
END:VCALENDAR