BEGIN:VCALENDAR
VERSION:2.0
PRODID:-//Silver City Radio - ECPv6.3.3.1//NONSGML v1.0//EN
CALSCALE:GREGORIAN
METHOD:PUBLISH
X-ORIGINAL-URL:https://silvercityradio.com
X-WR-CALDESC:Events for Silver City Radio
REFRESH-INTERVAL;VALUE=DURATION:PT1H
X-Robots-Tag:noindex
X-PUBLISHED-TTL:PT1H
BEGIN:VTIMEZONE
TZID:UTC
BEGIN:STANDARD
TZOFFSETFROM:+0000
TZOFFSETTO:+0000
TZNAME:UTC
DTSTART:20170101T000000
END:STANDARD
END:VTIMEZONE
BEGIN:VEVENT
DTSTART;TZID=UTC:20170505T190000
DTEND;TZID=UTC:20170505T200000
DTSTAMP:20260422T011437
CREATED:20170424T171936Z
LAST-MODIFIED:20170424T171936Z
UID:10000595-1494010800-1494014400@silvercityradio.com
SUMMARY:Southwest New Mexico Audubon Society Meeting
DESCRIPTION:The Southwest New Mexico Audubon Society last monthly meeting of the season will be held Friday\, May 5th at 7 pm in WNMU’s Harlan Hall.  Guest speaker Dr. Roland Shook will present “An Overview of the Birds of the Middle Gila Valley of New Mexico.”  Call 388-2386
URL:https://silvercityradio.com/event/southwest-new-mexico-audubon-society-meeting/
LOCATION:WNMU Harlan Hall\, 1000 West College Avenue\, Silver City\, NM\, 88061\, United States
CATEGORIES:Meeting,Presentation
END:VEVENT
END:VCALENDAR