BEGIN:VCALENDAR
VERSION:2.0
PRODID:-//Silver City Radio - ECPv6.3.3.1//NONSGML v1.0//EN
CALSCALE:GREGORIAN
METHOD:PUBLISH
X-ORIGINAL-URL:https://silvercityradio.com
X-WR-CALDESC:Events for Silver City Radio
REFRESH-INTERVAL;VALUE=DURATION:PT1H
X-Robots-Tag:noindex
X-PUBLISHED-TTL:PT1H
BEGIN:VTIMEZONE
TZID:UTC
BEGIN:STANDARD
TZOFFSETFROM:+0000
TZOFFSETTO:+0000
TZNAME:UTC
DTSTART:20160101T000000
END:STANDARD
END:VTIMEZONE
BEGIN:VEVENT
DTSTART;TZID=UTC:20161115T180000
DTEND;TZID=UTC:20161115T190000
DTSTAMP:20260424T083341
CREATED:20161114T231329Z
LAST-MODIFIED:20161114T231329Z
UID:10000400-1479232800-1479236400@silvercityradio.com
SUMMARY:Silver School Board Meeting
DESCRIPTION:Notice is given that the regular meeting of the Silver Consolidated Schools Board of Education is scheduled for Tuesday\, November 15th in the Band Room of the Cliff Schools beginning at 6 pm.  Call 956-2000
URL:https://silvercityradio.com/event/silver-school-board-meeting-7/
LOCATION:Cliff School Gymnasium\, 622 St Hwy 211\, Cliff\, NM\, 88028\, United States
CATEGORIES:Meeting
END:VEVENT
END:VCALENDAR