BEGIN:VCALENDAR
VERSION:2.0
PRODID:-//Silver City Radio - ECPv6.3.3.1//NONSGML v1.0//EN
CALSCALE:GREGORIAN
METHOD:PUBLISH
X-WR-CALNAME:Silver City Radio
X-ORIGINAL-URL:https://silvercityradio.com
X-WR-CALDESC:Events for Silver City Radio
REFRESH-INTERVAL;VALUE=DURATION:PT1H
X-Robots-Tag:noindex
X-PUBLISHED-TTL:PT1H
BEGIN:VTIMEZONE
TZID:UTC
BEGIN:STANDARD
TZOFFSETFROM:+0000
TZOFFSETTO:+0000
TZNAME:UTC
DTSTART:20160101T000000
END:STANDARD
END:VTIMEZONE
BEGIN:VEVENT
DTSTART;TZID=UTC:20161007T103000
DTEND;TZID=UTC:20161007T123000
DTSTAMP:20260424T094328
CREATED:20160926T191411Z
LAST-MODIFIED:20160926T191411Z
UID:10000360-1475836200-1475843400@silvercityradio.com
SUMMARY:Alzheimer's Support Group
DESCRIPTION:The Alzheimer’s Caregivers Support Group will meet October 7th from 10:30 to 12:30 at Hidalgo Medical Center.  Ask for the room number at the front desk.  Call 388-4539
URL:https://silvercityradio.com/event/alzheimers-support-group/
LOCATION:HMS Community Health Center Community Room\, 1007 N Pope St\, Silver City\, NM\, 88061\, United States
CATEGORIES:Meeting
END:VEVENT
END:VCALENDAR