BEGIN:VCALENDAR
VERSION:2.0
PRODID:-//Silver City Radio - ECPv6.3.3.1//NONSGML v1.0//EN
CALSCALE:GREGORIAN
METHOD:PUBLISH
X-ORIGINAL-URL:https://silvercityradio.com
X-WR-CALDESC:Events for Silver City Radio
REFRESH-INTERVAL;VALUE=DURATION:PT1H
X-Robots-Tag:noindex
X-PUBLISHED-TTL:PT1H
BEGIN:VTIMEZONE
TZID:UTC
BEGIN:STANDARD
TZOFFSETFROM:+0000
TZOFFSETTO:+0000
TZNAME:UTC
DTSTART:20160101T000000
END:STANDARD
END:VTIMEZONE
BEGIN:VEVENT
DTSTART;TZID=UTC:20160719T180000
DTEND;TZID=UTC:20160719T190000
DTSTAMP:20260424T225432
CREATED:20160713T145510Z
LAST-MODIFIED:20160713T145510Z
UID:10000284-1468951200-1468954800@silvercityradio.com
SUMMARY:Silver School Board Meeting
DESCRIPTION:Notice is given that the Regular Meeting of the Silver Consolidated Schools Board of Education is scheduled for Monday\, July 19th in the Board Room of the Administration building beginning at 6 pm. An agenda for the meeting may be obtained 72 hours prior to the meeting.  Call 956-2000
URL:https://silvercityradio.com/event/silver-school-board-meeting-3/
LOCATION:Silver Schools Admin Builing\, 2810 N Swan St\, Silver City\, NM\, 88061\, United States
CATEGORIES:Meeting
END:VEVENT
END:VCALENDAR