BEGIN:VCALENDAR
VERSION:2.0
PRODID:-//Silver City Radio - ECPv6.3.3.1//NONSGML v1.0//EN
CALSCALE:GREGORIAN
METHOD:PUBLISH
X-WR-CALNAME:Silver City Radio
X-ORIGINAL-URL:https://silvercityradio.com
X-WR-CALDESC:Events for Silver City Radio
REFRESH-INTERVAL;VALUE=DURATION:PT1H
X-Robots-Tag:noindex
X-PUBLISHED-TTL:PT1H
BEGIN:VTIMEZONE
TZID:UTC
BEGIN:STANDARD
TZOFFSETFROM:+0000
TZOFFSETTO:+0000
TZNAME:UTC
DTSTART:20180101T000000
END:STANDARD
END:VTIMEZONE
BEGIN:VEVENT
DTSTART;TZID=UTC:20180716T173000
DTEND;TZID=UTC:20180716T210000
DTSTAMP:20260419T151748
CREATED:20180702T172321Z
LAST-MODIFIED:20180702T172321Z
UID:10000855-1531762200-1531774800@silvercityradio.com
SUMMARY:Silver School Board Meeting/Work Session
DESCRIPTION:The Silver Consolidated Schools Board of Education has scheduled a  work session and regular meeting for Monday\, July 16th starting at 5:30 P.M. in the Board Room in the Administration Building\, located at 2810 North Swan Street in Silver City. The public can obtain an agenda from the Office of the Superintendent 72 hours prior to the meeting\, or go online at silver schools dot org.
URL:https://silvercityradio.com/event/silver-school-board-meeting-work-session/
LOCATION:Silver Schools Admin Builing\, 2810 N Swan St\, Silver City\, NM\, 88061\, United States
CATEGORIES:Meeting
END:VEVENT
END:VCALENDAR