BEGIN:VCALENDAR
VERSION:2.0
PRODID:-//Silver City Radio - ECPv6.3.3.1//NONSGML v1.0//EN
CALSCALE:GREGORIAN
METHOD:PUBLISH
X-WR-CALNAME:Silver City Radio
X-ORIGINAL-URL:https://silvercityradio.com
X-WR-CALDESC:Events for Silver City Radio
REFRESH-INTERVAL;VALUE=DURATION:PT1H
X-Robots-Tag:noindex
X-PUBLISHED-TTL:PT1H
BEGIN:VTIMEZONE
TZID:UTC
BEGIN:STANDARD
TZOFFSETFROM:+0000
TZOFFSETTO:+0000
TZNAME:UTC
DTSTART:20180101T000000
END:STANDARD
END:VTIMEZONE
BEGIN:VEVENT
DTSTART;TZID=UTC:20180605T090000
DTEND;TZID=UTC:20180605T103000
DTSTAMP:20260419T170722
CREATED:20180530T192729Z
LAST-MODIFIED:20180530T192729Z
UID:10000835-1528189200-1528194600@silvercityradio.com
SUMMARY:Deming Photo Club Meeting
DESCRIPTION:The next meeting of the Deming Photo Club will be at 9 a.m. on Tuesday\, June 5\, at the Marshall Memorial Library\, 110 S. Diamond Avenue. The group we will be showing photos taken at the last field trip after the business meeting and discuss the state fair that is coming up in October. All who are interested in photography – even with iPhones – are invited to attend\, regardless of age.
URL:https://silvercityradio.com/event/deming-photo-club-meeting/
LOCATION:Marshall Memorial Library\, 110 South Diamond Ave\, Deming\, NM\, 88030\, United States
CATEGORIES:Meeting
END:VEVENT
BEGIN:VEVENT
DTSTART;TZID=UTC:20180607T113000
DTEND;TZID=UTC:20180607T130000
DTSTAMP:20260419T170722
CREATED:20180530T210325Z
LAST-MODIFIED:20180530T210325Z
UID:10000841-1528371000-1528376400@silvercityradio.com
SUMMARY:Silver City/Grant County Chamber of Commerce Luncheon
DESCRIPTION:The monthly Chamber luncheon will feature 2 speakers: The monthly Chamber luncheon will feature 2 speakers: Faye McCalmont\, Special Assistant to the President for Cultural Affairs at WNMU\, will speak about the 2nd Annual Fiesta Latina; and Lee Gruber\, current owner of Syzygy Tile… chair of Silver City Arts & Cultural District… and leader of the Clay Festival will speak briefly about the upcoming 2018 CLAY FESTIVAL and then lead a discussion about local “entrepreneurship”. Contact The Chamber for reservations at 575-538-3785.
URL:https://silvercityradio.com/event/silver-city-grant-county-chamber-of-commerce-luncheon/
LOCATION:WNMU Student Cafeteria Sunset Room\, 1000 W. College Avenue\, Silver City\, NM\, 88062-1014\, United States
CATEGORIES:Meeting
END:VEVENT
END:VCALENDAR