BEGIN:VCALENDAR
VERSION:2.0
PRODID:-//Silver City Radio - ECPv6.3.3.1//NONSGML v1.0//EN
CALSCALE:GREGORIAN
METHOD:PUBLISH
X-WR-CALNAME:Silver City Radio
X-ORIGINAL-URL:https://silvercityradio.com
X-WR-CALDESC:Events for Silver City Radio
REFRESH-INTERVAL;VALUE=DURATION:PT1H
X-Robots-Tag:noindex
X-PUBLISHED-TTL:PT1H
BEGIN:VTIMEZONE
TZID:UTC
BEGIN:STANDARD
TZOFFSETFROM:+0000
TZOFFSETTO:+0000
TZNAME:UTC
DTSTART:20180101T000000
END:STANDARD
END:VTIMEZONE
BEGIN:VEVENT
DTSTART;TZID=UTC:20180201T163000
DTEND;TZID=UTC:20180201T173000
DTSTAMP:20260420T001151
CREATED:20180119T172950Z
LAST-MODIFIED:20180119T172950Z
UID:10000623-1517502600-1517506200@silvercityradio.com
SUMMARY:Silver City Museum Board Meeting
DESCRIPTION:The Silver City Museum Board will hold a meeting on Thursday\, Feb. 1st\, at 4:30 pm at the Silver City Museum Annex located at 302 W. Broadway in Silver City. The public is invited to attend. The complete agenda is available on the Town’s website at town of silvercity.org.
URL:https://silvercityradio.com/event/silver-city-museum-board-meeting/
LOCATION:NM
CATEGORIES:Meeting
END:VEVENT
BEGIN:VEVENT
DTSTART;TZID=UTC:20180212T103000
DTEND;TZID=UTC:20180212T130000
DTSTAMP:20260420T001151
CREATED:20180116T231118Z
LAST-MODIFIED:20180116T231118Z
UID:10000619-1518431400-1518440400@silvercityradio.com
SUMMARY:Widowed and Single Persons of Grant County
DESCRIPTION:The Widowed and Single Persons of Grant County monthly meeting is Monday\, February 12th\, at 10:30 am at Cross Point Assembly of God Church located at 11600 Hwy 180 E. The speaker is Ellen Brown from the U.S. Forest Service. Cost for lunch is $12. All singles are welcome. For information call 575-537-3643.
URL:https://silvercityradio.com/event/widowed-and-single-persons-of-grant-county/
LOCATION:Cross Point Assembly of God Church
CATEGORIES:Adult Event,Meeting
END:VEVENT
BEGIN:VEVENT
DTSTART;TZID=UTC:20180213T133000
DTEND;TZID=UTC:20180213T153000
DTSTAMP:20260420T001151
CREATED:20180205T180602Z
LAST-MODIFIED:20180205T180602Z
UID:10000761-1518528600-1518535800@silvercityradio.com
SUMMARY:Gilawriters Expressive Writing Group
DESCRIPTION:The Gilawriters Expressive Writing Group is welcoming writers of all levels to participate. All writing is done during the session and there is no charge. The meeting is February 13th at the Murray Ryan Visitor Center from 1:30 to 3:30 P.M.  Call 575-534-0207 for more information.
URL:https://silvercityradio.com/event/gilawriters-expressive-writing-group/
LOCATION:Murray Ryan Visitor’s Center\, 201 N Hudson St\, Silver City\, NM\, 88061\, United States
CATEGORIES:Meeting,Training
END:VEVENT
BEGIN:VEVENT
DTSTART;TZID=UTC:20180217T130000
DTEND;TZID=UTC:20180217T150000
DTSTAMP:20260420T001151
CREATED:20180131T170631Z
LAST-MODIFIED:20180131T170631Z
UID:10000759-1518872400-1518879600@silvercityradio.com
SUMMARY:Permaculture Silver City Meeting
DESCRIPTION:The Permaculture Silver City group will be meeting on Saturday\, February 17th from 1:00 to 3:00 P.M.\, at The Commons\, also known as the Volunteer Center\, located at 501 East 13th Street in Silver City. Contact 575-388-2988 for more information.
URL:https://silvercityradio.com/event/permaculture-silver-city-meeting/
LOCATION:Grant County Volunteer Center
CATEGORIES:Meeting,Presentation
END:VEVENT
END:VCALENDAR