BEGIN:VCALENDAR
VERSION:2.0
PRODID:-//Silver City Radio - ECPv6.3.3.1//NONSGML v1.0//EN
CALSCALE:GREGORIAN
METHOD:PUBLISH
X-ORIGINAL-URL:https://silvercityradio.com
X-WR-CALDESC:Events for Silver City Radio
REFRESH-INTERVAL;VALUE=DURATION:PT1H
X-Robots-Tag:noindex
X-PUBLISHED-TTL:PT1H
BEGIN:VTIMEZONE
TZID:UTC
BEGIN:STANDARD
TZOFFSETFROM:+0000
TZOFFSETTO:+0000
TZNAME:UTC
DTSTART:20170101T000000
END:STANDARD
END:VTIMEZONE
BEGIN:VEVENT
DTSTART;TZID=UTC:20171211T103000
DTEND;TZID=UTC:20171211T120000
DTSTAMP:20260420T033347
CREATED:20171116T222536Z
LAST-MODIFIED:20171116T222536Z
UID:10000747-1512988200-1512993600@silvercityradio.com
SUMMARY:Widowed and Single Persons of Grant County Meeting
DESCRIPTION:Widowed and Single Persons of Grant County monthly meeting is Monday\, December 11th\, 10:30 am at Cross Point Assembly of God Church\, 11600 Hwy 180 E. in Silver City. We will enjoy a social hour. All singles are welcome. For information call 575-537-3643.
URL:https://silvercityradio.com/event/widowed-and-single-persons-of-grant-county-meeting/
LOCATION:Cross Point Assembly of God Church
CATEGORIES:Adult Event,Meeting
END:VEVENT
BEGIN:VEVENT
DTSTART;TZID=UTC:20171217T030000
DTEND;TZID=UTC:20171217T170000
DTSTAMP:20260420T033347
CREATED:20171211T214126Z
LAST-MODIFIED:20171211T214126Z
UID:10000754-1513479600-1513530000@silvercityradio.com
SUMMARY:Silver Chorale in Handel's Messiah Sing-Along
DESCRIPTION:Come join the Silver Chorale in the Handel’s Messiah Sing-Along to be held Sunday\, December 17\, at 3:00 p.m. at the Church of the Good Shepherd Episcopal Church on the corners of 7th and Texas Streets. Please bring your own music. We will sing the first part of the Messiah and the Hallelujah Chorus. There are assigned soloists singing the arias and recitatives\, and the public may join in on the choruses. The event is free\, though donations will be accepted. The Director is Dr. Dawn Chambers.
URL:https://silvercityradio.com/event/silver-chorale-in-handels-messiah-sing-along/
LOCATION:Episcopal Church of the Good Shepherd\, 615 N Texas St\, Silver City\, NM\, 88061\, United States
CATEGORIES:Concert,Entertainment,Kids Event,Meeting
END:VEVENT
BEGIN:VEVENT
DTSTART;TZID=UTC:20171218T160000
DTEND;TZID=UTC:20171218T170000
DTSTAMP:20260420T033347
CREATED:20171212T150347Z
LAST-MODIFIED:20171212T150347Z
UID:10000621-1513612800-1513616400@silvercityradio.com
SUMMARY:Grant Soil & Water Conservation District Meeting
DESCRIPTION:The regular monthly board meeting of the Grant Soil & Water Conservation District will be held Monday\, December 18\, 2017\, at 4:00 p.m. The meeting will be held in the conference room of the Natural Resources Conservation Service/Grant SWCD office located at 3082 32nd Street Bypass\, Suite C\, Silver City\, NM.  To request a copy of the agenda or for more information\, please call 575-388-1569 or email grantswcd@zianet.com. The public is welcome to attend.
URL:https://silvercityradio.com/event/grant-soil-water-conservation-district-meeting-3/
LOCATION:Natural Resources Conservation Service Office\, 3082 32nd St Bypass\, Silver City\, NM\, 88061\, United States
CATEGORIES:Meeting
END:VEVENT
END:VCALENDAR