BEGIN:VCALENDAR
VERSION:2.0
PRODID:-//Silver City Radio - ECPv6.3.3.1//NONSGML v1.0//EN
CALSCALE:GREGORIAN
METHOD:PUBLISH
X-ORIGINAL-URL:https://silvercityradio.com
X-WR-CALDESC:Events for Silver City Radio
REFRESH-INTERVAL;VALUE=DURATION:PT1H
X-Robots-Tag:noindex
X-PUBLISHED-TTL:PT1H
BEGIN:VTIMEZONE
TZID:UTC
BEGIN:STANDARD
TZOFFSETFROM:+0000
TZOFFSETTO:+0000
TZNAME:UTC
DTSTART:20170101T000000
END:STANDARD
END:VTIMEZONE
BEGIN:VEVENT
DTSTART;TZID=UTC:20170202T150000
DTEND;TZID=UTC:20170202T160000
DTSTAMP:20260423T030849
CREATED:20170123T165255Z
LAST-MODIFIED:20170123T165255Z
UID:10000496-1486047600-1486051200@silvercityradio.com
SUMMARY:CDT Greenways Meeting
DESCRIPTION:The Continental Divide Trail Greenways meeting is scheduled for February 2nd at 3 pm in the 3rd Floor Seminar room of the WNMU Student Memorial Building.  Call 313-3750
URL:https://silvercityradio.com/event/cdt-greenways-meeting/
LOCATION:WNMU Student Memorial Building\, 1000 West College Avenue\, Silver City\, NM\, 88061\, United States
CATEGORIES:Meeting
END:VEVENT
BEGIN:VEVENT
DTSTART;TZID=UTC:20170203T190000
DTEND;TZID=UTC:20170203T200000
DTSTAMP:20260423T030849
CREATED:20170123T165612Z
LAST-MODIFIED:20170123T165612Z
UID:10000498-1486148400-1486152000@silvercityradio.com
SUMMARY:Audubon Society Meeting
DESCRIPTION:The Southwest New Mexico Audubon Society will hold its monthly meeting on Friday\, February 3rd at 7 pm in WNMU’s Harlan Hall.  Guest speaker Jarrod Swackhamer will share his adventures as he embarked on a “Grant County Big Year” of birding.  Call 388-2386
URL:https://silvercityradio.com/event/audubon-society-meeting-5/
LOCATION:WNMU Harlan Hall\, 1000 West College Avenue\, Silver City\, NM\, 88061\, United States
CATEGORIES:Meeting,Presentation
END:VEVENT
BEGIN:VEVENT
DTSTART;TZID=UTC:20170213T103000
DTEND;TZID=UTC:20170213T120000
DTSTAMP:20260423T030849
CREATED:20170116T163908Z
LAST-MODIFIED:20170116T163908Z
UID:10000487-1486981800-1486987200@silvercityradio.com
SUMMARY:Widowed Persons Monthly Meeting
DESCRIPTION:The Widowed and Single Persons of Grant County monthly meeting will be held February 13th at Cross Point Assembly of God Church beginning at 10:30 am.  Jeanine Jenks will talk about her trip to China.  The cost for lunch is $12 and all singles are welcome.  Call 537-3643
URL:https://silvercityradio.com/event/widowed-persons-monthly-meeting-3/
LOCATION:Glad Tidings/Cross Point Assembly of God Church\, 11600 Highway 180 East\, Silver City\, NM\, 88061\, United States
CATEGORIES:Meeting
END:VEVENT
BEGIN:VEVENT
DTSTART;TZID=UTC:20170221T180000
DTEND;TZID=UTC:20170221T190000
DTSTAMP:20260423T030849
CREATED:20170206T173140Z
LAST-MODIFIED:20170206T173140Z
UID:10000514-1487700000-1487703600@silvercityradio.com
SUMMARY:Silver School Board Meeting
DESCRIPTION:Notice is given that the Regular Meeting of the Silver Consolidated Schools Board of Education is scheduled for Tuesday\, February 21st in the Board Room of the Administration Building.  An agenda may be obtained from the office of the superintendent 72 hours prior to the meeting.  Call 956-2000
URL:https://silvercityradio.com/event/silver-school-board-meeting-8/
LOCATION:Silver Schools Admin Builing\, 2810 N Swan St\, Silver City\, NM\, 88061\, United States
CATEGORIES:Meeting
END:VEVENT
BEGIN:VEVENT
DTSTART;TZID=UTC:20170222T180000
DTEND;TZID=UTC:20170222T190000
DTSTAMP:20260423T030849
CREATED:20170213T210325Z
LAST-MODIFIED:20170213T210325Z
UID:10000518-1487786400-1487790000@silvercityradio.com
SUMMARY:Senior Olympics Meeting
DESCRIPTION:The Copper Country Senior Olympics on Wednesday\, February 22nd at the Grant County Extension Service Building Conference Room at 6 pm.  Participants and the public are invited to attend
URL:https://silvercityradio.com/event/senior-olympics-meeting/
LOCATION:Grant County Extension Office\, 2610 North Silver Street\, Silver City\, NM\, 88061\, United States
CATEGORIES:Meeting
END:VEVENT
BEGIN:VEVENT
DTSTART;TZID=UTC:20170227T160000
DTEND;TZID=UTC:20170227T170000
DTSTAMP:20260423T030849
CREATED:20170222T000037Z
LAST-MODIFIED:20170222T000037Z
UID:10000521-1488211200-1488214800@silvercityradio.com
SUMMARY:Grant Soil and Water Conservation District Meeting
DESCRIPTION:The regular monthly meeting of the Grant Soil & Water Conservation District will be held Monday\, February 27th at 4 pm in the conference room of the Natural Resources Conservation Service/Grant SWCD office located at 3082 32nd Street Bypass\, Suite C.  Call 388-1569
URL:https://silvercityradio.com/event/grant-soil-and-water-conservation-district-meeting-2/
LOCATION:Natural Resources Conservation Service Office\, 3082 32nd St Bypass\, Silver City\, NM\, 88061\, United States
CATEGORIES:Meeting
END:VEVENT
BEGIN:VEVENT
DTSTART;TZID=UTC:20170228T170000
DTEND;TZID=UTC:20170228T190000
DTSTAMP:20260423T030849
CREATED:20170227T164544Z
LAST-MODIFIED:20170227T164544Z
UID:10000525-1488301200-1488308400@silvercityradio.com
SUMMARY:District 3 Community Meeting with Alicia Edwards
DESCRIPTION:Alicia Edwards\, Grant County Commissioner for District 3\, will be hosting a District 3 community meeting from 5 to 7 pm on Tuesday\, February 28th at the County Extension Office conference room\, 2610 North Silver Street.  Bring your concerns and suggestions.  Call 654-4364
URL:https://silvercityradio.com/event/district-3-community-meeting-with-alicia-edwards/
LOCATION:Grant County Extension Office\, 2610 North Silver Street\, Silver City\, NM\, 88061\, United States
CATEGORIES:Adult Event,Meeting
END:VEVENT
END:VCALENDAR