BEGIN:VCALENDAR
VERSION:2.0
PRODID:-//Silver City Radio - ECPv6.3.3.1//NONSGML v1.0//EN
CALSCALE:GREGORIAN
METHOD:PUBLISH
X-ORIGINAL-URL:https://silvercityradio.com
X-WR-CALDESC:Events for Silver City Radio
REFRESH-INTERVAL;VALUE=DURATION:PT1H
X-Robots-Tag:noindex
X-PUBLISHED-TTL:PT1H
BEGIN:VTIMEZONE
TZID:UTC
BEGIN:STANDARD
TZOFFSETFROM:+0000
TZOFFSETTO:+0000
TZNAME:UTC
DTSTART:20170101T000000
END:STANDARD
END:VTIMEZONE
BEGIN:VEVENT
DTSTART;TZID=UTC:20170104T130000
DTEND;TZID=UTC:20170104T140000
DTSTAMP:20260423T124615
CREATED:20170103T180114Z
LAST-MODIFIED:20170103T180114Z
UID:10000469-1483534800-1483538400@silvercityradio.com
SUMMARY:Photo Club Monthly Meeting
DESCRIPTION:The Silver City Photo Club monthly meeting will be held January 4th at 1 pm in the Unitarian Universalist Meeting House.  This month will feature a pair of presentations by club members Tom Vaughan and Sonnie Sussillo.  All photographers and those interested in photography are welcome.  Call 860-670-4543
URL:https://silvercityradio.com/event/photo-club-monthly-meeting/
LOCATION:Unitarian Universalist Fellowship\, 3845 N Swan St\, Silver City\, NM\, 88061\, United States
CATEGORIES:Meeting,Presentation
END:VEVENT
BEGIN:VEVENT
DTSTART;TZID=UTC:20170109T103000
DTEND;TZID=UTC:20170109T120000
DTSTAMP:20260423T124615
CREATED:20161227T220625Z
LAST-MODIFIED:20161227T220625Z
UID:10000466-1483957800-1483963200@silvercityradio.com
SUMMARY:Widowed Persons Monthly Meeting
DESCRIPTION:The Widowed and Single Persons of Grant County monthly meeting will be held January 9th at Cross Point Assembly of God Church beginning at 10:30 am.  Nancy Miller will give a talk titled “What doesn’t kill you makes you stronger tomorrow.”  Call 537-3643
URL:https://silvercityradio.com/event/widowed-persons-monthly-meeting-2/
LOCATION:Glad Tidings/Cross Point Assembly of God Church\, 11600 Highway 180 East\, Silver City\, NM\, 88061\, United States
CATEGORIES:Adult Event,Meeting
END:VEVENT
BEGIN:VEVENT
DTSTART;TZID=UTC:20170112T180000
DTEND;TZID=UTC:20170112T190000
DTSTAMP:20260423T124615
CREATED:20170103T180239Z
LAST-MODIFIED:20170103T180239Z
UID:10000470-1484244000-1484247600@silvercityradio.com
SUMMARY:Copper Country Senior Olympics Meeting
DESCRIPTION:The Copper Country Senior Olympics will have their regularly scheduled meeting on Thursday\, January 12th at 6 pm in the Grant County Extension Service Building meeting room.  Participants and the public are all invited to attend
URL:https://silvercityradio.com/event/copper-country-senior-olympics-meeting/
LOCATION:Grant County Extension Office\, 2610 North Silver Street\, Silver City\, NM\, 88061\, United States
CATEGORIES:Health Event,Meeting
END:VEVENT
BEGIN:VEVENT
DTSTART;TZID=UTC:20170113T103000
DTEND;TZID=UTC:20170113T120000
DTSTAMP:20260423T124615
CREATED:20161227T232303Z
LAST-MODIFIED:20161227T232303Z
UID:10000468-1484303400-1484308800@silvercityradio.com
SUMMARY:Woman's Club Monthly Meeting
DESCRIPTION:The Silver City Woman’s Club will have their monthly meeting on January 13th at 10:30 am.  The Woman’s Club meets the second Friday of each month at the Woman’s Club building\, 411 Silver Heights Boulevard
URL:https://silvercityradio.com/event/womans-club-monthly-meeting-2/
LOCATION:Silver City Woman’s Club\, 411 Silver Heights Boulevard\, Silver City\, NM\, 88061\, United States
CATEGORIES:Meeting
END:VEVENT
BEGIN:VEVENT
DTSTART;TZID=UTC:20170117T180000
DTEND;TZID=UTC:20170117T190000
DTSTAMP:20260423T124615
CREATED:20170116T152428Z
LAST-MODIFIED:20170116T152428Z
UID:10000476-1484676000-1484679600@silvercityradio.com
SUMMARY:Silver Consolidated School Board Meeting
DESCRIPTION:Notice is given that the regular meeting of the Silver Consolidated Schools Board of Education is scheduled for Tuesday\, January 17th in the Board Room of the Administration Building at 6 pm.  An agenda may be obtained from the Office of the Superintendent\, or online\, 72 hours prior to the meeting.  Call 956-2000
URL:https://silvercityradio.com/event/silver-consolidated-school-board-meeting/
LOCATION:Silver Schools Admin Builing\, 2810 N Swan St\, Silver City\, NM\, 88061\, United States
CATEGORIES:Meeting
END:VEVENT
BEGIN:VEVENT
DTSTART;TZID=UTC:20170118T190000
DTEND;TZID=UTC:20170118T200000
DTSTAMP:20260423T124615
CREATED:20170116T152847Z
LAST-MODIFIED:20170116T152847Z
UID:10000479-1484766000-1484769600@silvercityradio.com
SUMMARY:Learning Center for Dyslexia Meeting
DESCRIPTION:The Learning Center for Dyslexia and Academic Success will meet on Wednesday\, January 18th at the Silver City Masonic Lodge beginning at 7pm.  The public is invited to attend and learn more about the services provided by the organization
URL:https://silvercityradio.com/event/learning-center-for-dyslexia-meeting/
LOCATION:Masonic Lodge #8\, 11 Ridge Road\, Silver City\, NM\, 88061\, United States
CATEGORIES:Meeting
END:VEVENT
BEGIN:VEVENT
DTSTART;TZID=UTC:20170123T160000
DTEND;TZID=UTC:20170123T170000
DTSTAMP:20260423T124615
CREATED:20170116T153002Z
LAST-MODIFIED:20170116T153002Z
UID:10000480-1485187200-1485190800@silvercityradio.com
SUMMARY:Water Conservation District Meeting
DESCRIPTION:The regular monthly meeting of the Grant Soil & Water Conservation District will be held Monday\, January 23rd at 4 pm in the conference room of the Natural Resources Conservation Service office located at 3082 32nd Street Bypass\, Suite C.  The public is invited to attend.  Call 388-1569
URL:https://silvercityradio.com/event/water-conservation-district-meeting/
LOCATION:Natural Resources Conservation Service Office\, 3082 32nd St Bypass\, Silver City\, NM\, 88061\, United States
CATEGORIES:Meeting
END:VEVENT
END:VCALENDAR