BEGIN:VCALENDAR
VERSION:2.0
PRODID:-//Silver City Radio - ECPv6.3.3.1//NONSGML v1.0//EN
CALSCALE:GREGORIAN
METHOD:PUBLISH
X-ORIGINAL-URL:https://silvercityradio.com
X-WR-CALDESC:Events for Silver City Radio
REFRESH-INTERVAL;VALUE=DURATION:PT1H
X-Robots-Tag:noindex
X-PUBLISHED-TTL:PT1H
BEGIN:VTIMEZONE
TZID:UTC
BEGIN:STANDARD
TZOFFSETFROM:+0000
TZOFFSETTO:+0000
TZNAME:UTC
DTSTART:20160101T000000
END:STANDARD
END:VTIMEZONE
BEGIN:VEVENT
DTSTART;TZID=UTC:20161208T180000
DTEND;TZID=UTC:20161208T200000
DTSTAMP:20260424T053546
CREATED:20161206T201248Z
LAST-MODIFIED:20161206T201248Z
UID:10000458-1481220000-1481227200@silvercityradio.com
SUMMARY:Gem and Mineral Society Meeting and Potluck
DESCRIPTION:The Grant County Rolling Stones Gem and Mineral Society December Meeting will be Thursday\, December 8th at 6 pm at the Silver City Senior Center.  This month will be a potluck dinner and holiday party.  There will be no field trip for December
URL:https://silvercityradio.com/event/gem-and-mineral-society-meeting-and-potluck/
LOCATION:Silver City Senior Center\, 205 West Victoria Street\, Silver City\, NM\, 88061\, United States
CATEGORIES:Holiday,Meeting
END:VEVENT
BEGIN:VEVENT
DTSTART;TZID=UTC:20161212T103000
DTEND;TZID=UTC:20161212T120000
DTSTAMP:20260424T053546
CREATED:20161121T203120Z
LAST-MODIFIED:20161121T203120Z
UID:10000418-1481538600-1481544000@silvercityradio.com
SUMMARY:Widowed Persons Meeting
DESCRIPTION:The Widowed and Single Persons of Grant County monthly meeting will be held December 12th at 10:30 am at Cross Point Assembly of God Church.  This month\, Debby Maldonado will sing.  All singles are welcome.  Call 537-6343
URL:https://silvercityradio.com/event/widowed-persons-meeting-11/
LOCATION:Glad Tidings/Cross Point Assembly of God Church\, 11600 Highway 180 East\, Silver City\, NM\, 88061\, United States
CATEGORIES:Meeting
END:VEVENT
BEGIN:VEVENT
DTSTART;TZID=UTC:20161213T180000
DTEND;TZID=UTC:20161213T190000
DTSTAMP:20260424T053546
CREATED:20161128T163934Z
LAST-MODIFIED:20161128T163934Z
UID:10000420-1481652000-1481655600@silvercityradio.com
SUMMARY:Silver School Board Meeting Rescheduled
DESCRIPTION:Notice is given that the Regular Meeting of the Silver Consolidated Schools Board of Education scheduled for Tuesday\, December 20th has been changed to December 13th in the Board Room of the Administration Building.  The meeting will begin at 6 pm.  Call 956-2000
URL:https://silvercityradio.com/event/silver-school-board-meeting-rescheduled/
LOCATION:Silver Schools Admin Builing\, 2810 N Swan St\, Silver City\, NM\, 88061\, United States
CATEGORIES:Meeting
END:VEVENT
END:VCALENDAR