BEGIN:VCALENDAR
VERSION:2.0
PRODID:-//Silver City Radio - ECPv6.3.3.1//NONSGML v1.0//EN
CALSCALE:GREGORIAN
METHOD:PUBLISH
X-ORIGINAL-URL:https://silvercityradio.com
X-WR-CALDESC:Events for Silver City Radio
REFRESH-INTERVAL;VALUE=DURATION:PT1H
X-Robots-Tag:noindex
X-PUBLISHED-TTL:PT1H
BEGIN:VTIMEZONE
TZID:UTC
BEGIN:STANDARD
TZOFFSETFROM:+0000
TZOFFSETTO:+0000
TZNAME:UTC
DTSTART:20160101T000000
END:STANDARD
END:VTIMEZONE
BEGIN:VEVENT
DTSTART;TZID=UTC:20161102T190000
DTEND;TZID=UTC:20161102T200000
DTSTAMP:20260424T053546
CREATED:20161031T154703Z
LAST-MODIFIED:20161031T154703Z
UID:10000394-1478113200-1478116800@silvercityradio.com
SUMMARY:"Photographing Moab in a Different Light" Presentation
DESCRIPTION:The Silver City Photography Club’s free November program will be held on Wednesday\, November 2nd at the Unitarian Universalist Meeting House\, 3845 North Swan Street\, beginning at 7 pm.  Judy Beard and Jim Collar will present “Photographing Moab in a Different Light.”  All photographers and those interested in photography or travel are welcome.  Call 860-670-4543
URL:https://silvercityradio.com/event/photographing-moab-in-a-different-light-presentation/
LOCATION:Unitarian Universalist Fellowship\, 3845 N Swan St\, Silver City\, NM\, 88061\, United States
CATEGORIES:Meeting,Presentation
END:VEVENT
BEGIN:VEVENT
DTSTART;TZID=UTC:20161114T103000
DTEND;TZID=UTC:20161114T120000
DTSTAMP:20260424T053546
CREATED:20161031T155441Z
LAST-MODIFIED:20161031T155441Z
UID:10000397-1479119400-1479124800@silvercityradio.com
SUMMARY:Widowed Persons Monthly Meeting
DESCRIPTION:The Widowed and Single Persons of Grant County monthly meeting will be held November 14th at Cross Point Assembly of God Church beginning at 10:30 am.  Scott Terry of the Chamber of Commerce will be the speaker.  Call 537-3643
URL:https://silvercityradio.com/event/widowed-persons-monthly-meeting/
LOCATION:Glad Tidings/Cross Point Assembly of God Church\, 11600 Highway 180 East\, Silver City\, NM\, 88061\, United States
CATEGORIES:Meeting
END:VEVENT
BEGIN:VEVENT
DTSTART;TZID=UTC:20161115T180000
DTEND;TZID=UTC:20161115T190000
DTSTAMP:20260424T053546
CREATED:20161114T231329Z
LAST-MODIFIED:20161114T231329Z
UID:10000400-1479232800-1479236400@silvercityradio.com
SUMMARY:Silver School Board Meeting
DESCRIPTION:Notice is given that the regular meeting of the Silver Consolidated Schools Board of Education is scheduled for Tuesday\, November 15th in the Band Room of the Cliff Schools beginning at 6 pm.  Call 956-2000
URL:https://silvercityradio.com/event/silver-school-board-meeting-7/
LOCATION:Cliff School Gymnasium\, 622 St Hwy 211\, Cliff\, NM\, 88028\, United States
CATEGORIES:Meeting
END:VEVENT
BEGIN:VEVENT
DTSTART;TZID=UTC:20161121T160000
DTEND;TZID=UTC:20161121T170000
DTSTAMP:20260424T053546
CREATED:20161121T180634Z
LAST-MODIFIED:20161121T180634Z
UID:10000409-1479744000-1479747600@silvercityradio.com
SUMMARY:Grant Soil & Water Conservation District Meeting
DESCRIPTION:The regular monthly meeting of the Grant Soil & Water Conservation District will be held Monday\, November 21st at 4pm in the conference room of the Natural Resources Conservation Service/Grant SWCD office at 3082 32nd St Bypass\, Suite C.  The public is invited to attend.  Call 388-1569
URL:https://silvercityradio.com/event/grant-soil-water-conservation-district-meeting-2/
LOCATION:Natural Resources Conservation Service Office\, 3082 32nd St Bypass\, Silver City\, NM\, 88061\, United States
CATEGORIES:Meeting
END:VEVENT
END:VCALENDAR