BEGIN:VCALENDAR
VERSION:2.0
PRODID:-//Silver City Radio - ECPv6.3.3.1//NONSGML v1.0//EN
CALSCALE:GREGORIAN
METHOD:PUBLISH
X-ORIGINAL-URL:https://silvercityradio.com
X-WR-CALDESC:Events for Silver City Radio
REFRESH-INTERVAL;VALUE=DURATION:PT1H
X-Robots-Tag:noindex
X-PUBLISHED-TTL:PT1H
BEGIN:VTIMEZONE
TZID:UTC
BEGIN:STANDARD
TZOFFSETFROM:+0000
TZOFFSETTO:+0000
TZNAME:UTC
DTSTART:20160101T000000
END:STANDARD
END:VTIMEZONE
BEGIN:VEVENT
DTSTART;TZID=UTC:20160906T120000
DTEND;TZID=UTC:20160906T130000
DTSTAMP:20260424T094347
CREATED:20160906T153758Z
LAST-MODIFIED:20160906T153758Z
UID:10000330-1473163200-1473166800@silvercityradio.com
SUMMARY:Kiwanis Noon Luncheon
DESCRIPTION:You are invited to the Kiwanis Club of Silver City’s Tuesday noon luncheon.  The public is always invited to support the youth and attend luncheons.  Kiwanis is a service organization dedicated to serving children.  For more information\, call Silver City Radio
URL:https://silvercityradio.com/event/kiwanis-noon-luncheon-15/
LOCATION:Little Toad Creek Brewery\, 200 N Bullard\, Silver City\, NM\, 88061\, United States
CATEGORIES:Meeting
END:VEVENT
BEGIN:VEVENT
DTSTART;TZID=UTC:20160910T100000
DTEND;TZID=UTC:20160910T120000
DTSTAMP:20260424T094347
CREATED:20160829T162753Z
LAST-MODIFIED:20160829T162753Z
UID:10000320-1473501600-1473508800@silvercityradio.com
SUMMARY:American Legion Fall Conference
DESCRIPTION:The American Legion District Fall Conference will be held September 10th at the American Legion Hall Post 18 beginning at 10 am.  The Fall Conference will be held in the place of the regular Post meeting
URL:https://silvercityradio.com/event/american-legion-fall-conference/
LOCATION:American Legion Post 18\, 409 West College Avenue\, Silver City\, NM\, 88061\, United States
CATEGORIES:Meeting
END:VEVENT
BEGIN:VEVENT
DTSTART;TZID=UTC:20160912T103000
DTEND;TZID=UTC:20160912T120000
DTSTAMP:20260424T094347
CREATED:20160829T164103Z
LAST-MODIFIED:20160829T164103Z
UID:10000323-1473676200-1473681600@silvercityradio.com
SUMMARY:Widowed Persons Meeting
DESCRIPTION:The Widowed and Single Persons of Grant County monthly meeting will be September 12th beginning at 10:30 am at the Cross Point Assembly of God Church.  Lequita Lett will talk about flower judging and the flower show at the fair.  Call 537-3643
URL:https://silvercityradio.com/event/widowed-persons-meeting-9/
LOCATION:Glad Tidings/Cross Point Assembly of God Church\, 11600 Highway 180 East\, Silver City\, NM\, 88061\, United States
CATEGORIES:Meeting
END:VEVENT
BEGIN:VEVENT
DTSTART;TZID=UTC:20160912T170000
DTEND;TZID=UTC:20160912T180000
DTSTAMP:20260424T094347
CREATED:20160912T154210Z
LAST-MODIFIED:20160912T154210Z
UID:10000338-1473699600-1473703200@silvercityradio.com
SUMMARY:Silver School Board Work Session
DESCRIPTION:Notice is given that the Silver Consolidated Schools Board of Education will hold a Work Session in the Board Room of the Administration Building on Monday\, September 12th at 5 pm.  The purpose of the Work Session will be to discuss HB33 and the Bond Election.  No action will be taken
URL:https://silvercityradio.com/event/silver-school-board-work-session/
LOCATION:Silver Schools Admin Builing\, 2810 N Swan St\, Silver City\, NM\, 88061\, United States
CATEGORIES:Meeting
END:VEVENT
BEGIN:VEVENT
DTSTART;TZID=UTC:20160913T120000
DTEND;TZID=UTC:20160913T130000
DTSTAMP:20260424T094347
CREATED:20160912T154112Z
LAST-MODIFIED:20160912T154112Z
UID:10000337-1473768000-1473771600@silvercityradio.com
SUMMARY:Kiwanis Noon Luncheon
DESCRIPTION:You are invited to the Kiwanis Club of Silver City’s Tuesday noon luncheon.  The public is always invited to support the youth and attend luncheons.  Kiwanis is a service organization dedicated to serving children.  For more information\, call Silver City Radio
URL:https://silvercityradio.com/event/kiwanis-noon-luncheon-16/
LOCATION:Little Toad Creek Brewery\, 200 N Bullard\, Silver City\, NM\, 88061\, United States
CATEGORIES:Meeting
END:VEVENT
BEGIN:VEVENT
DTSTART;TZID=UTC:20160920T180000
DTEND;TZID=UTC:20160920T190000
DTSTAMP:20260424T094347
CREATED:20160906T163858Z
LAST-MODIFIED:20160906T163858Z
UID:10000335-1474394400-1474398000@silvercityradio.com
SUMMARY:Silver School Board Meeting
DESCRIPTION:Notice is given that the Regular Meeting of the Silver Consolidated Schools Board of Education is scheduled for Tuesday\, September 20th in the Board Room of the Administration Building beginning at 6 pm.  Call 956-2000 if you need any form of auxiliary aid or service to attend or participate in the meeting
URL:https://silvercityradio.com/event/silver-school-board-meeting-5/
LOCATION:Silver Schools Admin Builing\, 2810 N Swan St\, Silver City\, NM\, 88061\, United States
CATEGORIES:Meeting
END:VEVENT
END:VCALENDAR